{"text_format":"1","workbook":"xlsx","n_sheets":16,"sheets":["Security","FX","CF","SAP VC","Cover","Blank","TOC","ROC","Instructions","Calculator","Quote","Page 1","Page 2","Page 3","Page 4","7100"],"not_rendered":{"charts":0,"images":8,"macros":1,"external_links":2,"defined_names":149,"comments":0,"pivot_tables":0},"unopened":[],"bounds":{"document_bytes":16777216,"sheet_cells":100000,"rows_first":2000,"rows_last":500,"rows_between":2000,"halvings":0,"cell_chars":16384,"cell_head_chars":4096},"cells_cut":0,"cells_raw":0,"read":"whole","date_system":"1900"}

{"sheet":"Security","index":0,"n_rows":3,"n_cols":7,"rows_kept":3,"cut":false,"hidden":true,"merged":[]}
[]
[]
[null,null,null,null,null,null,"All Sheets Protected."]

{"sheet":"FX","index":1,"n_rows":47,"n_cols":13,"rows_kept":47,"cut":false,"hidden":true,"merged":[]}
[null,"Cty Code","Country","Currency Name","Cty Code2","Curr Code","2016 Rate\n$1 = ",null,"Country","Currency","Local Currency","Jan-2015","Feb-2015"]
[null,"USA","United States","US Dollar","USA","USD",1,null,"UAE","Emirati Dirham","AED",3.673,3.673]
[null,"CAN","Canada","Canadian Dollar","CAN","CAD",1.3905000000000001,null,"Malaysia","Malaysian Ringgit","MYR",3.6172,3.6204999999999998]
[null,"MEX","Mexico","Mexican Peso","MEX","MXN",17.242100000000001,null,"India","Indian Rupee","INR",61.637500000000003,62.341299999999997]
[null,"BRA","Brazil","Brazilian Real","BRA","BRL",3.8592,null,"Eurozone","Euro","EUR",0.86132640000000005,0.87742390000000003]
[null,"ARG","Argentina","Argentine Peso","ARG","ARS",12.9924,null,"UK","British Pound","GBP",0.66041470000000002,0.64783619999999997]
[null,"CHL","Chile","Chilean Peso","CHL","CLP",707.8,null,"Czech Republic","Czech Republic Koruna","CZK",24.082100000000001,23.904199999999999]
[null,"PER","Peru","Peruvian Nuevo Sol","PER","PEN",3.4050000000000002,null,"Denmark","Danish Krone","DKK",6.4039999999999999,6.5324999999999998]
[null,"VEN","Venezuela","Venezuelan Bolivar","VEN","VEB",6292.1,null,"Hungary","Hungarian Forint","HUF",271.58,268.41000000000003]
[null,"AUS","Austalia","Australian Dollar","AUS","AUD",1.3795006000000001,null,"Norway","Norwegian Krone","NOK",7.5884,7.5274999999999999]
[null,"NZL","New Zealand","New Zealand Dollar","NZL","NZD",1.4604935999999999,null,"Poland","Polish Zloty","PLN",3.7039999999999997,3.6710000000000003]
[null,"JPN","Japan","Japanese Yen","JPN","JPY",120.4,null,"South Africa","South African Rand","ZAR",11.5136,11.600300000000001]
[null,"KOR","South Korea","South Korean Won","KOR","KRW",1165.3399999999999,null,"Switzerland","Swiss Franc","CHF",0.86019999999999996,0.94220000000000004]
[null,"SGP","Singapore","Singapore Dollar (SGD)","SGP","SGD",1.4056999999999999,null,"Romania","Romanian Leu","RON",3.8780000000000001,3.9037999999999999]
[null,"THA","Thailand","Thai Bhat","THA","THB",36.082999999999998,null,"China","Chinese Yuan Renminbi","CNY",6.2122999999999999,6.2553999999999998]
[null,"MYS","Malaysia","Malaysian Ringgit","MYS","MYR",4.2984,null,"Taiwan","New Taiwan Dollar","TWD",31.515999999999998,31.66]
[null,"CHN","China","Chinese Yuan Renminbi","CHN","CNY",6.4873000000000003,null,"Thailand","Thai Bhat","THB",32.581000000000003,32.57]
[null,"HKG","Hong Kong"," Hong Kong Dollar","HKG","HKD",7.7504999999999997,null,"Singapore","Singapore Dollar (SGD)","SID",1.3348,1.3557999999999999]
[null,"TWN","Taiwan","New Taiwan Dollar","TWN","TWD",32.854999999999997,null,"South Korea","South Korean Won","KRW",1083.3,1110.52]
[null,"IDN","Indonesia","Indonesian Rupiah","IDN","IDR",13647,null,"Japan","Japanese Yen","YEN",117.97,118.79]
[null,"KAZ","Kazakhistan","Kazakhstani Tenge","KAZ","KZT",333.01,null,"Canada","Canadian Dollar","CND",1.234,1.2455000000000001]
[null,"PHL","Philippines","Philippine Peso","PHL","PHP",47.16,null,"Peru","Peruvian Nuevo Sol","PEN",3.0074999999999998,3.0855000000000001]
[null,"RUS","Russia","Russian Ruble","RUS","RUR",72.229399999999998,null,"Argentina","Argentine Peso","ARS",8.6166999999999998,8.6890000000000001]
[null,"TUR","Turkey","Turkish Lira","TUR","TRY",2.9060999999999999,null,"Chile","Chilean Peso","CLP",628.04,621.79]
[null,"IND","India","Indian Rupee","IND","INR",66.197500000000005,null,"Mexico","Mexican Peso","MEX",14.7544,14.863099999999999]
[null,"UAE","UAE (USD standard)","Emirati Dirham","UAE","USD",1,null,"Brazil","Brazilian Real","BRL",2.601,2.839]
[null,"ISR","Israel","Israeli New Sheqel","ISR","ILS",3.8845000000000001,null,"Austalia","Australian Dollar","AUD",1.2368584,1.2802457999999999]
[null,"SAU","Saudi Arabia","Saudi Riyal","SAU","SAR",3.7518000000000002,null,"New Zealand","New Zealand Dollar","NZD",1.3241525000000001,1.3260841000000001]
[null,"DEU","Germany (Eurozone)","Deutsche Mark (Now Euro)","DEU","EUR",0.91174330000000003,null,"Venezuela","Venezuelan Bolivar","VEB",6292.1,6292.1]
[null,"FRA","France(Eurozone)","France (Now Euro)","FRA","EUR",0.91174330000000003,null,"Belgium (Eurozone)","Belgian Franc (Now Euro)","BFR",0.86132640000000005,0.87742390000000003]
[null,"NLD","Netherlands (Eurozone)","Euro","NLD","EUR",0.91174330000000003,null,null,null,"BRLSPECIAL",2.601,2.839]
[null,"IRL","Ireland","Irish Pound (Now Euro)","IRL","EUR",0.91174330000000003,null,"Turkey","Turkish Lira","TRY",2.3502999999999998,2.4436]
[null,"BEL","Belgium (Eurozone)","Belgian Franc (Now Euro)","BEL","EUR",0.91174330000000003,null,null,null,"TWDSPECIAL",31.736999999999998,31.515999999999998]
[null,"ITA","Italy (Eurozone)","Italian Lira (Now Euro)","ITA","EUR",0.91174330000000003,null,null,null,"CNY_SPECIAL",6.2130000000000001,6.2122999999999999]
[null,"GBR","UK","British Pound","GBR","GBP",0.67204299999999995,null,"Hong Kong"," Hong Kong Dollar","HKD",7.7507000000000001,7.7584999999999997]
[null,"NOR","Norway Krone","Norway","NOR","NOK",8.7012,null,"Russia","Russian Ruble","RUR",65.200299999999999,61.564900000000002]
[null,"ESP","Spain (Eurozone)",{"$error":"#N/A"},"ESP","EUR",0.91174330000000003,null,"Slovakia","Slovak Koruna","SKK",25.949000000000002,26.432300000000001]
[null,"POL","Poland (Eurozone)","Poland Zloty","POL","EUR",0.91174330000000003,null,"Kazakhistan","Kazakhstani Tenge","KZT",184.22,185.06]
[null,"ZAF","Sout Africa","South Africa Rand","ZAF","ZAR",15.31,null,"Philippines","Philippine Peso","PHP",44.4,44.252000000000002]
[null,"CHE","Switzerland","Swiss Franc","CHE","CHF",0.98819999999999997,null,"Sweden","Swedish Krona","SKR",8.173,8.3635000000000002]
[null,"CZE","Czech Republic (Eurozone)","Czech Republic Koruna","CZE","EUR",0.91174330000000003,null,"Italy (Eurozone)","Italian Lira (Now Euro)","ITL",0.86132640000000005,0.87742390000000003]
[null,"DNK","Denmark","Danish Krone","DNK","EUR",0.91174330000000003,null,"Israel","Israeli New Sheqel","ILS",3.9420000000000002,3.8513999999999999]
[null,"HUN","Hungary (Eurozone)","Hungarian Forint","HUN","EUR",0.91174330000000003,null,"France (Eurozone)","French Franc (Now Euro)","FFR",0.86132640000000005,0.87742390000000003]
[null,"ROU","Romania","Romanian Leu","ROU","RON",4.1268000000000002,null,"Germany (Eurozone)","Deutsche Mark (Now Euro)","DEM",0.86132640000000005,0.87742390000000003]
[null,"SVK","Slovakia","Slovak Koruna","SVK","SKK",27.461200000000002,null,"Indonesia","Indonesian Rupiah","IDR",12481,12870]
[null,"SWE","Sweden","Swedish Krona","SWE","SKR",8.3726000000000003,null,"Saudi Arabia","Saudi Riyal","SAR",3.7566999999999999,3.7513000000000001]
[null,"KES","Kenya","Kenyan Shilling","KES","KES",102.25,null,"United States","US Dollar","USD",1,1]

{"sheet":"CF","index":2,"n_rows":6,"n_cols":3,"rows_kept":6,"cut":false,"hidden":true,"merged":[[0,1,0,2],[15,1,15,4]]}
[null,"Factors"]
["Country","Valve","Options & Accessories"]
["USA",1,1]
["AUS",1,1]
["UK",1,1]
["CAN",1,1]

{"sheet":"SAP VC","index":3,"n_rows":842,"n_cols":85,"rows_kept":842,"cut":false,"hidden":true,"merged":[]}
["PRV2SIZE Model #","Product Group","SAP Only Characteristic","Characteristic Name 1","Characteristic Name 2","Characteristic Name 3","Characteristic Name 4","Characteristic Name 5","Characteristic Name 6","Characteristic Name 7","Characteristic Name 8","Characteristic Name 9","Characteristic Name 10","Min Operator","Min Set Press psig","Min Set Press inwc","Max Set Press psig","Max Set Press inwc","Max Operator","SAP Variant Name","Pricing ERP Code","Current List Price USD","Description","BI Price Group","4/1/2018 List Price USD","10/1/2017 (F.0) List Price USD","2015 (D.0) List Price USD","2015 (C.0) List Price USD","1/1/2014 USD LP","2012 (B.0) List Price USD","Active PB\nList Price","ZILL\nUSA\nUSD","ZILL\nAustralia\nAUD","ZILL\nUK\nGBP","ZILL\n CAN\n CAD","VALVE SIZE (VS)","BODY MATERIAL (BM)","PRESSURE CLASS (PC)","BACK PRESSURE REGULATOR DP (BPRpr)","END CONNECTIONS (EC)","INLET & OUTLET CONNECTIONS (IO)","BYPASS CONNECTION (BC)","VALVE DISC (VD)","BYPASS TRIM STAGES (BPS)","TRIM STAGES (TS)","GASKET/SNUBBER SEAL MAT'L (SM)","ORIFICE SEAL MATERIAL (OSM)","BYPASS CASCADE SEAL MATERIAL (BPSM)","LOW TEMP (LT)","SPRING TYPE (ST)","DISC TRIM STYLE (DT)","Low Temp (LT)","FLOW CONDITIONER (FC)","FLANGE FACE STYLE (FF)","MAIN Cv (MCV)","BYPASS Cv (BCV)","ORIFICE (ORF)","FLOW ELEMENT (FE)","ORIENTATION (OR)","INSERT (IN)","NACE (NC)","BYPASS REGULATOR CV (BCV)","STYLE (ST)","LOCATION (LOC)","Standard Costs (FY20)",null,4.2000000000000003E-2,4.4999999999999998E-2,null,4.2000000000000003E-2,"Rounded up",4.4999999999999998E-2,"Rounded up",null,"Column V",4.2000000000000003E-2,"Increase Oct 1st 2021 (effective Oct 1  2021) Rounded up",0.04,"Increase Dec 9 2021 (effective Feb 1  2022)","Increase Dec 9 2021 Roundedup",9.2999999999999999E-2,"Increase Oct 1st 2022 (effective Oct 1 2022)\nRounded up","Increase Oct 1st 2022\nRounded up","Increase Oct 1st 2023\nRounded up"]
[null,"MOD:Y53",null,"VS:B","IO:A","BM:0",null,null,null,null,null,null,null,null,null,null,null,null,null,"YA_5300_0001",null,{"$f":"AE2","v":139862},"CS (WCB)",null,{"$f":"IFERROR(Z2*1,\"POA\")","v":107308},{"$f":"ROUND(IFERROR(AA2*1.03,\"POA\"),0)","v":107308},104183,104183,101149,98203,{"$f":"CG2","v":139862},{"$f":"ROUNDUP($V2*FX!$G$2*CF!$B$3,0)","v":139862},{"$f":"ROUNDUP($V2*FX!$G$10*CF!$B$4,0)","v":192940},{"$f":"ROUNDUP($V2*FX!$G$35*CF!$B$5,0)","v":93994},{"$f":"ROUNDUP($V2*FX!$G$3*CF!$B$6,0)","v":194479},null,null,null,null,null,null,null,null,null,null,null,null,null,null,null,null,null,null,null,null,null,null,null,null,null,null,null,null,null,null,null,{"$f":"ROUNDUP(($AE2+($AE2*$BO$1)),0)","v":145737},null,null,111815.978,{"$f":"ROUNDUP(BR2,0)","v":111816},null,{"$f":"ROUNDUP(BT2,0)","v":0},null,107308.49,{"$f":"ROUNDUP(($BW2+($BX$1*$BW2)),0)","v":111816},{"$f":"ROUNDUP(BX2,0)","v":111816},{"$f":"BY2+(BY2*$BZ$1)","v":116288.64},116288.64,{"$f":"ROUNDUP(CA2,0)","v":116289},{"$f":"CB2+(CB2*$CC$1)","v":127103.87700000001},127103.87700000001,{"$f":"ROUNDUP(CD2,0)","v":127104},{"$f":"IF(CE2=\"POA\",\"POA\", ROUNDUP(CE2*1.055,0))","v":134095},{"$f":"IF(CF2=\"POA\",\"POA\", ROUNDUP(CF2*1.043,0))","v":139862}]
[null,"MOD:Y53",null,"VS:C","IO:A","BM:0",null,null,null,null,null,null,null,null,null,null,null,null,null,"YA_5300_0002",null,146106,"CS (WCB)",null,{"$f":"IFERROR(Z3*1,\"POA\")","v":112099},{"$f":"ROUND(IFERROR(AA3*1.03,\"POA\"),0)","v":112099},108834,108834,105664,102586,{"$f":"CG3","v":146106},{"$f":"ROUNDUP($V3*FX!$G$2*CF!$B$3,0)","v":146106},{"$f":"ROUNDUP($V3*FX!$G$10*CF!$B$4,0)","v":201554},{"$f":"ROUNDUP($V3*FX!$G$35*CF!$B$5,0)","v":98190},{"$f":"ROUNDUP($V3*FX!$G$3*CF!$B$6,0)","v":203161},null,null,null,null,null,null,null,null,null,null,null,null,null,null,null,null,null,null,null,null,null,null,null,null,null,null,null,null,null,null,null,{"$f":"ROUNDUP(($AE3+($AE3*$BO$1)),0)","v":152243},null,null,116808.2,{"$f":"ROUNDUP(BR3,0)","v":116809},null,{"$f":"ROUNDUP(BT3,0)","v":0},null,112099.02,{"$f":"ROUNDUP(($BW3+($BX$1*$BW3)),0)","v":116808},{"$f":"ROUNDUP(BX3,0)","v":116808},{"$f":"BY3+(BY3*$BZ$1)","v":121480.32000000001},121480.32000000001,{"$f":"ROUNDUP(CA3,0)","v":121481},{"$f":"CB3+(CB3*$CC$1)","v":132778.73300000001},132778.73300000001,{"$f":"ROUNDUP(CD3,0)","v":132779},140082,{"$f":"IF(CF3=\"POA\",\"POA\", ROUNDUP(CF3*1.043,0))","v":146106}]
[null,"MOD:Y53",null,"VS:D","IO:A","BM:0",null,null,null,null,null,null,null,null,null,null,null,null,null,"YA_5300_0003",null,169212,"CS (WCB)",null,129826,{"$f":"ROUND(IFERROR(AA4*1.03,\"POA\"),0)","v":129826},126045,126045,122374,118810,169212,{"$f":"ROUNDUP($V4*FX!$G$2*CF!$B$3,0)","v":169212},{"$f":"ROUNDUP($V4*FX!$G$10*CF!$B$4,0)","v":233429},{"$f":"ROUNDUP($V4*FX!$G$35*CF!$B$5,0)","v":113718},{"$f":"ROUNDUP($V4*FX!$G$3*CF!$B$6,0)","v":235290},null,null,null,null,null,null,null,null,null,null,null,null,null,null,null,null,null,null,null,null,null,null,null,null,null,null,null,null,null,null,null,176319,null,null,135279.734,135280,null,0,null,129826.35,135280,135280,140691.20000000001,140691.20000000001,140692,153776.356,153776.356,153777,162235,169212]
[null,"MOD:Y53",null,"VS:E","IO:A","BM:0",null,null,null,null,null,null,null,null,null,null,null,null,null,"YA_5300_0004",null,203799,"CS (WCB)",null,156364,156364,151810,151810,147388,143095,203799,{"$f":"ROUNDUP($V5*FX!$G$2*CF!$B$3,0)","v":203799},{"$f":"ROUNDUP($V5*FX!$G$10*CF!$B$4,0)","v":281141},{"$f":"ROUNDUP($V5*FX!$G$35*CF!$B$5,0)","v":136962},{"$f":"ROUNDUP($V5*FX!$G$3*CF!$B$6,0)","v":283383},null,null,null,null,null,null,null,null,null,null,null,null,null,null,null,null,null,null,null,null,null,null,null,null,null,null,null,null,null,null,null,212359,null,null,162932.32999999999,162933,null,0,null,156364.30000000002,162932,162932,169449.28,169449.28,169450,185208.85,185208.85,185209,195396,203799]
[null,"MOD:Y53",null,"VS:B","IO:A","BM:1",null,null,null,null,null,null,null,null,null,null,null,null,null,"YA_5300_0005",null,"POA","SS (CF8M)",null,"POA",{"$f":"IFERROR(AA6*1.03,\"POA\")","v":"POA"},"POA","POA","POA","POA","POA",{"$f":"ROUNDUP($V6*FX!$G$2*CF!$B$3,0)","v":{"$error":"#VALUE!"}},{"$f":"ROUNDUP($V6*FX!$G$10*CF!$B$4,0)","v":{"$error":"#VALUE!"}},{"$f":"ROUNDUP($V6*FX!$G$35*CF!$B$5,0)","v":{"$error":"#VALUE!"}},{"$f":"ROUNDUP($V6*FX!$G$3*CF!$B$6,0)","v":{"$error":"#VALUE!"}},null,null,null,null,null,null,null,null,null,null,null,null,null,null,null,null,null,null,null,null,null,null,null,null,null,null,null,null,null,null,null,{"$error":"#VALUE!"},null,null,{"$error":"#VALUE!"},{"$f":"AE6","v":"POA"},null,0,null,"POA","POA","POA","POA","POA","POA","POA","POA","POA","POA","POA"]
[null,"MOD:Y53",null,"VS:C","IO:A","BM:1",null,null,null,null,null,null,null,null,null,null,null,null,null,"YA_5300_0006",null,"POA","SS (CF8M)",null,"POA","POA","POA","POA","POA","POA","POA",{"$f":"ROUNDUP($V7*FX!$G$2*CF!$B$3,0)","v":{"$error":"#VALUE!"}},{"$f":"ROUNDUP($V7*FX!$G$10*CF!$B$4,0)","v":{"$error":"#VALUE!"}},{"$f":"ROUNDUP($V7*FX!$G$35*CF!$B$5,0)","v":{"$error":"#VALUE!"}},{"$f":"ROUNDUP($V7*FX!$G$3*CF!$B$6,0)","v":{"$error":"#VALUE!"}},null,null,null,null,null,null,null,null,null,null,null,null,null,null,null,null,null,null,null,null,null,null,null,null,null,null,null,null,null,null,null,{"$error":"#VALUE!"},null,null,{"$error":"#VALUE!"},{"$f":"AE7","v":"POA"},null,0,null,"POA","POA","POA","POA","POA","POA","POA","POA","POA","POA","POA"]
[null,"MOD:Y53",null,"VS:D","IO:A","BM:1",null,null,null,null,null,null,null,null,null,null,null,null,null,"YA_5300_0007",null,"POA","SS (CF8M)",null,"POA","POA","POA","POA","POA","POA","POA",{"$f":"ROUNDUP($V8*FX!$G$2*CF!$B$3,0)","v":{"$error":"#VALUE!"}},{"$f":"ROUNDUP($V8*FX!$G$10*CF!$B$4,0)","v":{"$error":"#VALUE!"}},{"$f":"ROUNDUP($V8*FX!$G$35*CF!$B$5,0)","v":{"$error":"#VALUE!"}},{"$f":"ROUNDUP($V8*FX!$G$3*CF!$B$6,0)","v":{"$error":"#VALUE!"}},null,null,null,null,null,null,null,null,null,null,null,null,null,null,null,null,null,null,null,null,null,null,null,null,null,null,null,null,null,null,null,{"$error":"#VALUE!"},null,null,{"$error":"#VALUE!"},{"$f":"AE8","v":"POA"},null,0,null,"POA","POA","POA","POA","POA","POA","POA","POA","POA","POA","POA"]
[null,"MOD:Y53",null,"VS:E","IO:A","BM:1",null,null,null,null,null,null,null,null,null,null,null,null,null,"YA_5300_0008",null,"POA","SS (CF8M)",null,"POA","POA","POA","POA","POA","POA","POA",{"$f":"ROUNDUP($V9*FX!$G$2*CF!$B$3,0)","v":{"$error":"#VALUE!"}},{"$f":"ROUNDUP($V9*FX!$G$10*CF!$B$4,0)","v":{"$error":"#VALUE!"}},{"$f":"ROUNDUP($V9*FX!$G$35*CF!$B$5,0)","v":{"$error":"#VALUE!"}},{"$f":"ROUNDUP($V9*FX!$G$3*CF!$B$6,0)","v":{"$error":"#VALUE!"}},null,null,null,null,null,null,null,null,null,null,null,null,null,null,null,null,null,null,null,null,null,null,null,null,null,null,null,null,null,null,null,{"$error":"#VALUE!"},null,null,{"$error":"#VALUE!"},{"$f":"AE9","v":"POA"},null,0,null,"POA","POA","POA","POA","POA","POA","POA","POA","POA","POA","POA"]
[null,"MOD:Y53",null,"VS:B","IO:B","BM:0",null,null,null,null,null,null,null,null,null,null,null,null,null,"YA_5300_0009",null,144524,"CS (WCB)",null,110886,{"$f":"ROUND(IFERROR(AA10*1.03,\"POA\"),0)","v":110886},107656,107656,104520,101476,144524,{"$f":"ROUNDUP($V10*FX!$G$2*CF!$B$3,0)","v":144524},{"$f":"ROUNDUP($V10*FX!$G$10*CF!$B$4,0)","v":199371},{"$f":"ROUNDUP($V10*FX!$G$35*CF!$B$5,0)","v":97127},{"$f":"ROUNDUP($V10*FX!$G$3*CF!$B$6,0)","v":200961},null,null,null,null,null,null,null,null,null,null,null,null,null,null,null,null,null,null,null,null,null,null,null,null,null,null,null,null,null,null,null,150595,null,null,115543.212,{"$f":"ROUNDUP(BR10,0)","v":115544},null,0,null,110885.68000000001,{"$f":"ROUNDUP(($BW10+($BX$1*$BW10)),0)","v":115543},115543,{"$f":"BY10+(BY10*$BZ$1)","v":120164.72},120164.72,120165,131340.345,131340.345,{"$f":"ROUNDUP(CD10,0)","v":131341},138565,144524]
[null,"MOD:Y53",null,"VS:C","IO:B","BM:0",null,null,null,null,null,null,null,null,null,null,null,null,null,"YA_5300_0010",null,151144,"CS (WCB)",null,115964,115964,112586,112586,109307,106123,151144,{"$f":"ROUNDUP($V11*FX!$G$2*CF!$B$3,0)","v":151144},{"$f":"ROUNDUP($V11*FX!$G$10*CF!$B$4,0)","v":208504},{"$f":"ROUNDUP($V11*FX!$G$35*CF!$B$5,0)","v":101576},{"$f":"ROUNDUP($V11*FX!$G$3*CF!$B$6,0)","v":210166},null,null,null,null,null,null,null,null,null,null,null,null,null,null,null,null,null,null,null,null,null,null,null,null,null,null,null,null,null,null,null,157493,null,null,120834.488,120835,null,0,null,115963.58,120835,120835,125668.4,125668.4,125669,137356.217,137356.217,137357,144912,151144]
[null,"MOD:Y53",null,"VS:D","IO:B","BM:0",null,null,null,null,null,null,null,null,null,null,null,null,null,"YA_5300_0011",null,175045,"CS (WCB)",null,134303,134303,130391,130391,126593,122906,175045,{"$f":"ROUNDUP($V12*FX!$G$2*CF!$B$3,0)","v":175045},{"$f":"ROUNDUP($V12*FX!$G$10*CF!$B$4,0)","v":241475},{"$f":"ROUNDUP($V12*FX!$G$35*CF!$B$5,0)","v":117638},{"$f":"ROUNDUP($V12*FX!$G$3*CF!$B$6,0)","v":243401},null,null,null,null,null,null,null,null,null,null,null,null,null,null,null,null,null,null,null,null,null,null,null,null,null,null,null,null,null,null,null,182397,null,null,139943.726,139944,null,0,null,134302.73000000001,139944,139944,145541.76000000001,145541.76000000001,145542,159077.40599999999,159077.40599999999,159078,167828,175045]
[null,"MOD:Y53",null,"VS:E","IO:B","BM:0",null,null,null,null,null,null,null,null,null,null,null,null,null,"YA_5300_0012",null,210827,"CS (WCB)",null,161756,161756,157045,157045,152471,148030,210827,{"$f":"ROUNDUP($V13*FX!$G$2*CF!$B$3,0)","v":210827},{"$f":"ROUNDUP($V13*FX!$G$10*CF!$B$4,0)","v":290836},{"$f":"ROUNDUP($V13*FX!$G$35*CF!$B$5,0)","v":141685},{"$f":"ROUNDUP($V13*FX!$G$3*CF!$B$6,0)","v":293155},null,null,null,null,null,null,null,null,null,null,null,null,null,null,null,null,null,null,null,null,null,null,null,null,null,null,null,null,null,null,null,219682,null,null,168550.79399999999,168551,null,0,null,161756.35,168551,168551,175293.04,175293.04,175294,191596.342,191596.342,191597,202135,210827]
[null,"MOD:Y53",null,"VS:B","IO:B","BM:1",null,null,null,null,null,null,null,null,null,null,null,null,null,"YA_5300_0013",null,"POA","SS (CF8M)",null,"POA","POA","POA","POA","POA","POA","POA",{"$f":"ROUNDUP($V14*FX!$G$2*CF!$B$3,0)","v":{"$error":"#VALUE!"}},{"$f":"ROUNDUP($V14*FX!$G$10*CF!$B$4,0)","v":{"$error":"#VALUE!"}},{"$f":"ROUNDUP($V14*FX!$G$35*CF!$B$5,0)","v":{"$error":"#VALUE!"}},{"$f":"ROUNDUP($V14*FX!$G$3*CF!$B$6,0)","v":{"$error":"#VALUE!"}},null,null,null,null,null,null,null,null,null,null,null,null,null,null,null,null,null,null,null,null,null,null,null,null,null,null,null,null,null,null,null,{"$error":"#VALUE!"},null,null,{"$error":"#VALUE!"},{"$f":"AE14","v":"POA"},null,0,null,"POA","POA","POA","POA","POA","POA","POA","POA","POA","POA","POA"]
[null,"MOD:Y53",null,"VS:C","IO:B","BM:1",null,null,null,null,null,null,null,null,null,null,null,null,null,"YA_5300_0014",null,"POA","SS (CF8M)",null,"POA","POA","POA","POA","POA","POA","POA",{"$f":"ROUNDUP($V15*FX!$G$2*CF!$B$3,0)","v":{"$error":"#VALUE!"}},{"$f":"ROUNDUP($V15*FX!$G$10*CF!$B$4,0)","v":{"$error":"#VALUE!"}},{"$f":"ROUNDUP($V15*FX!$G$35*CF!$B$5,0)","v":{"$error":"#VALUE!"}},{"$f":"ROUNDUP($V15*FX!$G$3*CF!$B$6,0)","v":{"$error":"#VALUE!"}},null,null,null,null,null,null,null,null,null,null,null,null,null,null,null,null,null,null,null,null,null,null,null,null,null,null,null,null,null,null,null,{"$error":"#VALUE!"},null,null,{"$error":"#VALUE!"},{"$f":"AE15","v":"POA"},null,0,null,"POA","POA","POA","POA","POA","POA","POA","POA","POA","POA","POA"]
[null,"MOD:Y53",null,"VS:D","IO:B","BM:1",null,null,null,null,null,null,null,null,null,null,null,null,null,"YA_5300_0015",null,"POA","SS (CF8M)",null,"POA","POA","POA","POA","POA","POA","POA",{"$f":"ROUNDUP($V16*FX!$G$2*CF!$B$3,0)","v":{"$error":"#VALUE!"}},{"$f":"ROUNDUP($V16*FX!$G$10*CF!$B$4,0)","v":{"$error":"#VALUE!"}},{"$f":"ROUNDUP($V16*FX!$G$35*CF!$B$5,0)","v":{"$error":"#VALUE!"}},{"$f":"ROUNDUP($V16*FX!$G$3*CF!$B$6,0)","v":{"$error":"#VALUE!"}},null,null,null,null,null,null,null,null,null,null,null,null,null,null,null,null,null,null,null,null,null,null,null,null,null,null,null,null,null,null,null,{"$error":"#VALUE!"},null,null,{"$error":"#VALUE!"},{"$f":"AE16","v":"POA"},null,0,null,"POA","POA","POA","POA","POA","POA","POA","POA","POA","POA","POA"]
[null,"MOD:Y53",null,"VS:E","IO:B","BM:1",null,null,null,null,null,null,null,null,null,null,null,null,null,"YA_5300_0016",null,"POA","SS (CF8M)",null,"POA","POA","POA","POA","POA","POA","POA",{"$f":"ROUNDUP($V17*FX!$G$2*CF!$B$3,0)","v":{"$error":"#VALUE!"}},{"$f":"ROUNDUP($V17*FX!$G$10*CF!$B$4,0)","v":{"$error":"#VALUE!"}},{"$f":"ROUNDUP($V17*FX!$G$35*CF!$B$5,0)","v":{"$error":"#VALUE!"}},{"$f":"ROUNDUP($V17*FX!$G$3*CF!$B$6,0)","v":{"$error":"#VALUE!"}},null,null,null,null,null,null,null,null,null,null,null,null,null,null,null,null,null,null,null,null,null,null,null,null,null,null,null,null,null,null,null,{"$error":"#VALUE!"},null,null,{"$error":"#VALUE!"},{"$f":"AE17","v":"POA"},null,0,null,"POA","POA","POA","POA","POA","POA","POA","POA","POA","POA","POA"]
[null,"MOD:Y53",null,"VS:B","IO:C","BM:0",null,null,null,null,null,null,null,null,null,null,null,null,null,"YA_5300_0017",null,146975,"CS (WCB)",null,112765,{"$f":"ROUND(IFERROR(AA18*1.03,\"POA\"),0)","v":112765},109481,109481,106292,103196,146975,{"$f":"ROUNDUP($V18*FX!$G$2*CF!$B$3,0)","v":146975},{"$f":"ROUNDUP($V18*FX!$G$10*CF!$B$4,0)","v":202753},{"$f":"ROUNDUP($V18*FX!$G$35*CF!$B$5,0)","v":98774},{"$f":"ROUNDUP($V18*FX!$G$3*CF!$B$6,0)","v":204369},null,null,null,null,null,null,null,null,null,null,null,null,null,null,null,null,null,null,null,null,null,null,null,null,null,null,null,null,null,null,null,153148,null,null,117502.17200000001,{"$f":"ROUNDUP(BR18,0)","v":117503},null,0,null,112765.43000000001,{"$f":"ROUNDUP(($BW18+($BX$1*$BW18)),0)","v":117502},117502,{"$f":"BY18+(BY18*$BZ$1)","v":122202.08},122202.08,122203,133567.87900000002,133567.87900000002,{"$f":"ROUNDUP(CD18,0)","v":133568},140915,146975]
[null,"MOD:Y53",null,"VS:C","IO:C","BM:0",null,null,null,null,null,null,null,null,null,null,null,null,null,"YA_5300_0018",null,153796,"CS (WCB)",null,117999,117999,114562,114562,111225,107985,153796,{"$f":"ROUNDUP($V19*FX!$G$2*CF!$B$3,0)","v":153796},{"$f":"ROUNDUP($V19*FX!$G$10*CF!$B$4,0)","v":212162},{"$f":"ROUNDUP($V19*FX!$G$35*CF!$B$5,0)","v":103358},{"$f":"ROUNDUP($V19*FX!$G$3*CF!$B$6,0)","v":213854},null,null,null,null,null,null,null,null,null,null,null,null,null,null,null,null,null,null,null,null,null,null,null,null,null,null,null,null,null,null,null,160256,null,null,122954.958,122955,null,0,null,117998.86,122955,122955,127873.2,127873.2,127874,139766.28200000001,139766.28200000001,139767,147455,153796]
[null,"MOD:Y53",null,"VS:D","IO:C","BM:0",null,null,null,null,null,null,null,null,null,null,null,null,null,"YA_5300_0019",null,178116,"CS (WCB)",null,136659,136659,132679,132679,128815,125063,178116,{"$f":"ROUNDUP($V20*FX!$G$2*CF!$B$3,0)","v":178116},{"$f":"ROUNDUP($V20*FX!$G$10*CF!$B$4,0)","v":245712},{"$f":"ROUNDUP($V20*FX!$G$35*CF!$B$5,0)","v":119702},{"$f":"ROUNDUP($V20*FX!$G$3*CF!$B$6,0)","v":247671},null,null,null,null,null,null,null,null,null,null,null,null,null,null,null,null,null,null,null,null,null,null,null,null,null,null,null,null,null,null,null,185597,null,null,142399.72,142400,null,0,null,136659.37,142400,142400,148096,148096,148096,161868.92800000001,161868.92800000001,161869,170772,178116]
[null,"MOD:Y53",null,"VS:E","IO:C","BM:0",null,null,null,null,null,null,null,null,null,null,null,null,null,"YA_5300_0020",null,214525,"CS (WCB)",null,164594,164594,159800,159800,155146,150627,214525,{"$f":"ROUNDUP($V21*FX!$G$2*CF!$B$3,0)","v":214525},{"$f":"ROUNDUP($V21*FX!$G$10*CF!$B$4,0)","v":295938},{"$f":"ROUNDUP($V21*FX!$G$35*CF!$B$5,0)","v":144171},{"$f":"ROUNDUP($V21*FX!$G$3*CF!$B$6,0)","v":298298},null,null,null,null,null,null,null,null,null,null,null,null,null,null,null,null,null,null,null,null,null,null,null,null,null,null,null,null,null,null,null,223536,null,null,171506.948,171507,null,0,null,164594,171507,171507,178367.28,178367.28,178368,194956.22399999999,194956.22399999999,194957,205680,214525]
[null,"MOD:Y53",null,"VS:B","IO:C","BM:1",null,null,null,null,null,null,null,null,null,null,null,null,null,"YA_5300_0021",null,"POA","SS (CF8M)",null,"POA","POA","POA","POA","POA","POA","POA",{"$f":"ROUNDUP($V22*FX!$G$2*CF!$B$3,0)","v":{"$error":"#VALUE!"}},{"$f":"ROUNDUP($V22*FX!$G$10*CF!$B$4,0)","v":{"$error":"#VALUE!"}},{"$f":"ROUNDUP($V22*FX!$G$35*CF!$B$5,0)","v":{"$error":"#VALUE!"}},{"$f":"ROUNDUP($V22*FX!$G$3*CF!$B$6,0)","v":{"$error":"#VALUE!"}},null,null,null,null,null,null,null,null,null,null,null,null,null,null,null,null,null,null,null,null,null,null,null,null,null,null,null,null,null,null,null,{"$error":"#VALUE!"},null,null,{"$error":"#VALUE!"},{"$f":"AE22","v":"POA"},null,0,null,"POA","POA","POA","POA","POA","POA","POA","POA","POA","POA","POA"]
[null,"MOD:Y53",null,"VS:C","IO:C","BM:1",null,null,null,null,null,null,null,null,null,null,null,null,null,"YA_5300_0022",null,"POA","SS (CF8M)",null,"POA","POA","POA","POA","POA","POA","POA",{"$f":"ROUNDUP($V23*FX!$G$2*CF!$B$3,0)","v":{"$error":"#VALUE!"}},{"$f":"ROUNDUP($V23*FX!$G$10*CF!$B$4,0)","v":{"$error":"#VALUE!"}},{"$f":"ROUNDUP($V23*FX!$G$35*CF!$B$5,0)","v":{"$error":"#VALUE!"}},{"$f":"ROUNDUP($V23*FX!$G$3*CF!$B$6,0)","v":{"$error":"#VALUE!"}},null,null,null,null,null,null,null,null,null,null,null,null,null,null,null,null,null,null,null,null,null,null,null,null,null,null,null,null,null,null,null,{"$error":"#VALUE!"},null,null,{"$error":"#VALUE!"},"POA",null,0,null,"POA","POA","POA","POA","POA","POA","POA","POA","POA","POA","POA"]
[null,"MOD:Y53",null,"VS:D","IO:C","BM:1",null,null,null,null,null,null,null,null,null,null,null,null,null,"YA_5300_0023",null,"POA","SS (CF8M)",null,"POA","POA","POA","POA","POA","POA","POA",{"$f":"ROUNDUP($V24*FX!$G$2*CF!$B$3,0)","v":{"$error":"#VALUE!"}},{"$f":"ROUNDUP($V24*FX!$G$10*CF!$B$4,0)","v":{"$error":"#VALUE!"}},{"$f":"ROUNDUP($V24*FX!$G$35*CF!$B$5,0)","v":{"$error":"#VALUE!"}},{"$f":"ROUNDUP($V24*FX!$G$3*CF!$B$6,0)","v":{"$error":"#VALUE!"}},null,null,null,null,null,null,null,null,null,null,null,null,null,null,null,null,null,null,null,null,null,null,null,null,null,null,null,null,null,null,null,{"$error":"#VALUE!"},null,null,{"$error":"#VALUE!"},"POA",null,0,null,"POA","POA","POA","POA","POA","POA","POA","POA","POA","POA","POA"]
[null,"MOD:Y53",null,"VS:E","IO:C","BM:1",null,null,null,null,null,null,null,null,null,null,null,null,null,"YA_5300_0024",null,"POA","SS (CF8M)",null,"POA","POA","POA","POA","POA","POA","POA",{"$f":"ROUNDUP($V25*FX!$G$2*CF!$B$3,0)","v":{"$error":"#VALUE!"}},{"$f":"ROUNDUP($V25*FX!$G$10*CF!$B$4,0)","v":{"$error":"#VALUE!"}},{"$f":"ROUNDUP($V25*FX!$G$35*CF!$B$5,0)","v":{"$error":"#VALUE!"}},{"$f":"ROUNDUP($V25*FX!$G$3*CF!$B$6,0)","v":{"$error":"#VALUE!"}},null,null,null,null,null,null,null,null,null,null,null,null,null,null,null,null,null,null,null,null,null,null,null,null,null,null,null,null,null,null,null,{"$error":"#VALUE!"},null,null,{"$error":"#VALUE!"},"POA",null,0,null,"POA","POA","POA","POA","POA","POA","POA","POA","POA","POA","POA"]
[null,"MOD:Y53",null,"VS:B","IO:D","BM:0",null,null,null,null,null,null,null,null,null,null,null,null,null,"YA_5300_0025",null,"POA","CS (WCB)",null,"POA","POA","POA","POA","POA","POA","POA",{"$f":"ROUNDUP($V26*FX!$G$2*CF!$B$3,0)","v":{"$error":"#VALUE!"}},{"$f":"ROUNDUP($V26*FX!$G$10*CF!$B$4,0)","v":{"$error":"#VALUE!"}},{"$f":"ROUNDUP($V26*FX!$G$35*CF!$B$5,0)","v":{"$error":"#VALUE!"}},{"$f":"ROUNDUP($V26*FX!$G$3*CF!$B$6,0)","v":{"$error":"#VALUE!"}},null,null,null,null,null,null,null,null,null,null,null,null,null,null,null,null,null,null,null,null,null,null,null,null,null,null,null,null,null,null,null,{"$error":"#VALUE!"},null,null,{"$error":"#VALUE!"},"POA",null,0,null,"POA","POA","POA","POA","POA","POA","POA","POA","POA","POA","POA"]
[null,"MOD:Y53",null,"VS:C","IO:D","BM:0",null,null,null,null,null,null,null,null,null,null,null,null,null,"YA_5300_0026",null,"POA","CS (WCB)",null,"POA","POA","POA","POA","POA","POA","POA",{"$f":"ROUNDUP($V27*FX!$G$2*CF!$B$3,0)","v":{"$error":"#VALUE!"}},{"$f":"ROUNDUP($V27*FX!$G$10*CF!$B$4,0)","v":{"$error":"#VALUE!"}},{"$f":"ROUNDUP($V27*FX!$G$35*CF!$B$5,0)","v":{"$error":"#VALUE!"}},{"$f":"ROUNDUP($V27*FX!$G$3*CF!$B$6,0)","v":{"$error":"#VALUE!"}},null,null,null,null,null,null,null,null,null,null,null,null,null,null,null,null,null,null,null,null,null,null,null,null,null,null,null,null,null,null,null,{"$error":"#VALUE!"},null,null,{"$error":"#VALUE!"},"POA",null,0,null,"POA","POA","POA","POA","POA","POA","POA","POA","POA","POA","POA"]
[null,"MOD:Y53",null,"VS:D","IO:D","BM:0",null,null,null,null,null,null,null,null,null,null,null,null,null,"YA_5300_0027",null,"POA","CS (WCB)",null,"POA","POA","POA","POA","POA","POA","POA",{"$f":"ROUNDUP($V28*FX!$G$2*CF!$B$3,0)","v":{"$error":"#VALUE!"}},{"$f":"ROUNDUP($V28*FX!$G$10*CF!$B$4,0)","v":{"$error":"#VALUE!"}},{"$f":"ROUNDUP($V28*FX!$G$35*CF!$B$5,0)","v":{"$error":"#VALUE!"}},{"$f":"ROUNDUP($V28*FX!$G$3*CF!$B$6,0)","v":{"$error":"#VALUE!"}},null,null,null,null,null,null,null,null,null,null,null,null,null,null,null,null,null,null,null,null,null,null,null,null,null,null,null,null,null,null,null,{"$error":"#VALUE!"},null,null,{"$error":"#VALUE!"},"POA",null,0,null,"POA","POA","POA","POA","POA","POA","POA","POA","POA","POA","POA"]
[null,"MOD:Y53",null,"VS:E","IO:D","BM:0",null,null,null,null,null,null,null,null,null,null,null,null,null,"YA_5300_0028",null,"POA","CS (WCB)",null,"POA","POA","POA","POA","POA","POA","POA",{"$f":"ROUNDUP($V29*FX!$G$2*CF!$B$3,0)","v":{"$error":"#VALUE!"}},{"$f":"ROUNDUP($V29*FX!$G$10*CF!$B$4,0)","v":{"$error":"#VALUE!"}},{"$f":"ROUNDUP($V29*FX!$G$35*CF!$B$5,0)","v":{"$error":"#VALUE!"}},{"$f":"ROUNDUP($V29*FX!$G$3*CF!$B$6,0)","v":{"$error":"#VALUE!"}},null,null,null,null,null,null,null,null,null,null,null,null,null,null,null,null,null,null,null,null,null,null,null,null,null,null,null,null,null,null,null,{"$error":"#VALUE!"},null,null,{"$error":"#VALUE!"},"POA",null,0,null,"POA","POA","POA","POA","POA","POA","POA","POA","POA","POA","POA"]
[null,"MOD:Y53",null,"VS:B","IO:D","BM:1",null,null,null,null,null,null,null,null,null,null,null,null,null,"YA_5300_0029",null,"POA","SS (CF8M)",null,"POA","POA","POA","POA","POA","POA","POA",{"$f":"ROUNDUP($V30*FX!$G$2*CF!$B$3,0)","v":{"$error":"#VALUE!"}},{"$f":"ROUNDUP($V30*FX!$G$10*CF!$B$4,0)","v":{"$error":"#VALUE!"}},{"$f":"ROUNDUP($V30*FX!$G$35*CF!$B$5,0)","v":{"$error":"#VALUE!"}},{"$f":"ROUNDUP($V30*FX!$G$3*CF!$B$6,0)","v":{"$error":"#VALUE!"}},null,null,null,null,null,null,null,null,null,null,null,null,null,null,null,null,null,null,null,null,null,null,null,null,null,null,null,null,null,null,null,{"$error":"#VALUE!"},null,null,{"$error":"#VALUE!"},"POA",null,0,null,"POA","POA","POA","POA","POA","POA","POA","POA","POA","POA","POA"]
[null,"MOD:Y53",null,"VS:C","IO:D","BM:1",null,null,null,null,null,null,null,null,null,null,null,null,null,"YA_5300_0030",null,"POA","SS (CF8M)",null,"POA","POA","POA","POA","POA","POA","POA",{"$f":"ROUNDUP($V31*FX!$G$2*CF!$B$3,0)","v":{"$error":"#VALUE!"}},{"$f":"ROUNDUP($V31*FX!$G$10*CF!$B$4,0)","v":{"$error":"#VALUE!"}},{"$f":"ROUNDUP($V31*FX!$G$35*CF!$B$5,0)","v":{"$error":"#VALUE!"}},{"$f":"ROUNDUP($V31*FX!$G$3*CF!$B$6,0)","v":{"$error":"#VALUE!"}},null,null,null,null,null,null,null,null,null,null,null,null,null,null,null,null,null,null,null,null,null,null,null,null,null,null,null,null,null,null,null,{"$error":"#VALUE!"},null,null,{"$error":"#VALUE!"},"POA",null,0,null,"POA","POA","POA","POA","POA","POA","POA","POA","POA","POA","POA"]
[null,"MOD:Y53",null,"VS:D","IO:D","BM:1",null,null,null,null,null,null,null,null,null,null,null,null,null,"YA_5300_0031",null,"POA","SS (CF8M)",null,"POA","POA","POA","POA","POA","POA","POA",{"$f":"ROUNDUP($V32*FX!$G$2*CF!$B$3,0)","v":{"$error":"#VALUE!"}},{"$f":"ROUNDUP($V32*FX!$G$10*CF!$B$4,0)","v":{"$error":"#VALUE!"}},{"$f":"ROUNDUP($V32*FX!$G$35*CF!$B$5,0)","v":{"$error":"#VALUE!"}},{"$f":"ROUNDUP($V32*FX!$G$3*CF!$B$6,0)","v":{"$error":"#VALUE!"}},null,null,null,null,null,null,null,null,null,null,null,null,null,null,null,null,null,null,null,null,null,null,null,null,null,null,null,null,null,null,null,{"$error":"#VALUE!"},null,null,{"$error":"#VALUE!"},"POA",null,0,null,"POA","POA","POA","POA","POA","POA","POA","POA","POA","POA","POA"]
[null,"MOD:Y53",null,"VS:E","IO:D","BM:1",null,null,null,null,null,null,null,null,null,null,null,null,null,"YA_5300_0032",null,"POA","SS (CF8M)",null,"POA","POA","POA","POA","POA","POA","POA",{"$f":"ROUNDUP($V33*FX!$G$2*CF!$B$3,0)","v":{"$error":"#VALUE!"}},{"$f":"ROUNDUP($V33*FX!$G$10*CF!$B$4,0)","v":{"$error":"#VALUE!"}},{"$f":"ROUNDUP($V33*FX!$G$35*CF!$B$5,0)","v":{"$error":"#VALUE!"}},{"$f":"ROUNDUP($V33*FX!$G$3*CF!$B$6,0)","v":{"$error":"#VALUE!"}},null,null,null,null,null,null,null,null,null,null,null,null,null,null,null,null,null,null,null,null,null,null,null,null,null,null,null,null,null,null,null,{"$error":"#VALUE!"},null,null,{"$error":"#VALUE!"},"POA",null,0,null,"POA","POA","POA","POA","POA","POA","POA","POA","POA","POA","POA"]
[null,"MOD:Y53",null,"VS:B","IO:E","BM:0",null,null,null,null,null,null,null,null,null,null,null,null,null,"YA_5300_0033",null,"POA","CS (WCB)",null,"POA","POA","POA","POA","POA","POA","POA",{"$f":"ROUNDUP($V34*FX!$G$2*CF!$B$3,0)","v":{"$error":"#VALUE!"}},{"$f":"ROUNDUP($V34*FX!$G$10*CF!$B$4,0)","v":{"$error":"#VALUE!"}},{"$f":"ROUNDUP($V34*FX!$G$35*CF!$B$5,0)","v":{"$error":"#VALUE!"}},{"$f":"ROUNDUP($V34*FX!$G$3*CF!$B$6,0)","v":{"$error":"#VALUE!"}},null,null,null,null,null,null,null,null,null,null,null,null,null,null,null,null,null,null,null,null,null,null,null,null,null,null,null,null,null,null,null,{"$error":"#VALUE!"},null,null,{"$error":"#VALUE!"},"POA",null,0,null,"POA","POA","POA","POA","POA","POA","POA","POA","POA","POA","POA"]
[null,"MOD:Y53",null,"VS:C","IO:E","BM:0",null,null,null,null,null,null,null,null,null,null,null,null,null,"YA_5300_0034",null,"POA","CS (WCB)",null,"POA","POA","POA","POA","POA","POA","POA",{"$f":"ROUNDUP($V35*FX!$G$2*CF!$B$3,0)","v":{"$error":"#VALUE!"}},{"$f":"ROUNDUP($V35*FX!$G$10*CF!$B$4,0)","v":{"$error":"#VALUE!"}},{"$f":"ROUNDUP($V35*FX!$G$35*CF!$B$5,0)","v":{"$error":"#VALUE!"}},{"$f":"ROUNDUP($V35*FX!$G$3*CF!$B$6,0)","v":{"$error":"#VALUE!"}},null,null,null,null,null,null,null,null,null,null,null,null,null,null,null,null,null,null,null,null,null,null,null,null,null,null,null,null,null,null,null,{"$error":"#VALUE!"},null,null,{"$error":"#VALUE!"},"POA",null,0,null,"POA","POA","POA","POA","POA","POA","POA","POA","POA","POA","POA"]
[null,"MOD:Y53",null,"VS:D","IO:E","BM:0",null,null,null,null,null,null,null,null,null,null,null,null,null,"YA_5300_0035",null,"POA","CS (WCB)",null,"POA","POA","POA","POA","POA","POA","POA",{"$f":"ROUNDUP($V36*FX!$G$2*CF!$B$3,0)","v":{"$error":"#VALUE!"}},{"$f":"ROUNDUP($V36*FX!$G$10*CF!$B$4,0)","v":{"$error":"#VALUE!"}},{"$f":"ROUNDUP($V36*FX!$G$35*CF!$B$5,0)","v":{"$error":"#VALUE!"}},{"$f":"ROUNDUP($V36*FX!$G$3*CF!$B$6,0)","v":{"$error":"#VALUE!"}},null,null,null,null,null,null,null,null,null,null,null,null,null,null,null,null,null,null,null,null,null,null,null,null,null,null,null,null,null,null,null,{"$error":"#VALUE!"},null,null,{"$error":"#VALUE!"},"POA",null,0,null,"POA","POA","POA","POA","POA","POA","POA","POA","POA","POA","POA"]
[null,"MOD:Y53",null,"VS:E","IO:E","BM:0",null,null,null,null,null,null,null,null,null,null,null,null,null,"YA_5300_0036",null,"POA","CS (WCB)",null,"POA","POA","POA","POA","POA","POA","POA",{"$f":"ROUNDUP($V37*FX!$G$2*CF!$B$3,0)","v":{"$error":"#VALUE!"}},{"$f":"ROUNDUP($V37*FX!$G$10*CF!$B$4,0)","v":{"$error":"#VALUE!"}},{"$f":"ROUNDUP($V37*FX!$G$35*CF!$B$5,0)","v":{"$error":"#VALUE!"}},{"$f":"ROUNDUP($V37*FX!$G$3*CF!$B$6,0)","v":{"$error":"#VALUE!"}},null,null,null,null,null,null,null,null,null,null,null,null,null,null,null,null,null,null,null,null,null,null,null,null,null,null,null,null,null,null,null,{"$error":"#VALUE!"},null,null,{"$error":"#VALUE!"},"POA",null,0,null,"POA","POA","POA","POA","POA","POA","POA","POA","POA","POA","POA"]
[null,"MOD:Y53",null,"VS:B","IO:E","BM:1",null,null,null,null,null,null,null,null,null,null,null,null,null,"YA_5300_0037",null,"POA","SS (CF8M)",null,"POA","POA","POA","POA","POA","POA","POA",{"$f":"ROUNDUP($V38*FX!$G$2*CF!$B$3,0)","v":{"$error":"#VALUE!"}},{"$f":"ROUNDUP($V38*FX!$G$10*CF!$B$4,0)","v":{"$error":"#VALUE!"}},{"$f":"ROUNDUP($V38*FX!$G$35*CF!$B$5,0)","v":{"$error":"#VALUE!"}},{"$f":"ROUNDUP($V38*FX!$G$3*CF!$B$6,0)","v":{"$error":"#VALUE!"}},null,null,null,null,null,null,null,null,null,null,null,null,null,null,null,null,null,null,null,null,null,null,null,null,null,null,null,null,null,null,null,{"$error":"#VALUE!"},null,null,{"$error":"#VALUE!"},"POA",null,0,null,"POA","POA","POA","POA","POA","POA","POA","POA","POA","POA","POA"]
[null,"MOD:Y53",null,"VS:C","IO:E","BM:1",null,null,null,null,null,null,null,null,null,null,null,null,null,"YA_5300_0038",null,"POA","SS (CF8M)",null,"POA","POA","POA","POA","POA","POA","POA",{"$f":"ROUNDUP($V39*FX!$G$2*CF!$B$3,0)","v":{"$error":"#VALUE!"}},{"$f":"ROUNDUP($V39*FX!$G$10*CF!$B$4,0)","v":{"$error":"#VALUE!"}},{"$f":"ROUNDUP($V39*FX!$G$35*CF!$B$5,0)","v":{"$error":"#VALUE!"}},{"$f":"ROUNDUP($V39*FX!$G$3*CF!$B$6,0)","v":{"$error":"#VALUE!"}},null,null,null,null,null,null,null,null,null,null,null,null,null,null,null,null,null,null,null,null,null,null,null,null,null,null,null,null,null,null,null,{"$error":"#VALUE!"},null,null,{"$error":"#VALUE!"},"POA",null,0,null,"POA","POA","POA","POA","POA","POA","POA","POA","POA","POA","POA"]
[null,"MOD:Y53",null,"VS:D","IO:E","BM:1",null,null,null,null,null,null,null,null,null,null,null,null,null,"YA_5300_0039",null,"POA","SS (CF8M)",null,"POA","POA","POA","POA","POA","POA","POA",{"$f":"ROUNDUP($V40*FX!$G$2*CF!$B$3,0)","v":{"$error":"#VALUE!"}},{"$f":"ROUNDUP($V40*FX!$G$10*CF!$B$4,0)","v":{"$error":"#VALUE!"}},{"$f":"ROUNDUP($V40*FX!$G$35*CF!$B$5,0)","v":{"$error":"#VALUE!"}},{"$f":"ROUNDUP($V40*FX!$G$3*CF!$B$6,0)","v":{"$error":"#VALUE!"}},null,null,null,null,null,null,null,null,null,null,null,null,null,null,null,null,null,null,null,null,null,null,null,null,null,null,null,null,null,null,null,{"$error":"#VALUE!"},null,null,{"$error":"#VALUE!"},"POA",null,0,null,"POA","POA","POA","POA","POA","POA","POA","POA","POA","POA","POA"]
[null,"MOD:Y53",null,"VS:E","IO:E","BM:1",null,null,null,null,null,null,null,null,null,null,null,null,null,"YA_5300_0040",null,"POA","SS (CF8M)",null,"POA","POA","POA","POA","POA","POA","POA",{"$f":"ROUNDUP($V41*FX!$G$2*CF!$B$3,0)","v":{"$error":"#VALUE!"}},{"$f":"ROUNDUP($V41*FX!$G$10*CF!$B$4,0)","v":{"$error":"#VALUE!"}},{"$f":"ROUNDUP($V41*FX!$G$35*CF!$B$5,0)","v":{"$error":"#VALUE!"}},{"$f":"ROUNDUP($V41*FX!$G$3*CF!$B$6,0)","v":{"$error":"#VALUE!"}},null,null,null,null,null,null,null,null,null,null,null,null,null,null,null,null,null,null,null,null,null,null,null,null,null,null,null,null,null,null,null,{"$error":"#VALUE!"},null,null,{"$error":"#VALUE!"},"POA",null,0,null,"POA","POA","POA","POA","POA","POA","POA","POA","POA","POA","POA"]
[null,"MOD:Y53",null,"VS:B","IO:F","BM:0",null,null,null,null,null,null,null,null,null,null,null,null,null,"YA_5300_0041",null,"POA","CS (WCB)",null,"POA","POA","POA","POA","POA","POA","POA",{"$f":"ROUNDUP($V42*FX!$G$2*CF!$B$3,0)","v":{"$error":"#VALUE!"}},{"$f":"ROUNDUP($V42*FX!$G$10*CF!$B$4,0)","v":{"$error":"#VALUE!"}},{"$f":"ROUNDUP($V42*FX!$G$35*CF!$B$5,0)","v":{"$error":"#VALUE!"}},{"$f":"ROUNDUP($V42*FX!$G$3*CF!$B$6,0)","v":{"$error":"#VALUE!"}},null,null,null,null,null,null,null,null,null,null,null,null,null,null,null,null,null,null,null,null,null,null,null,null,null,null,null,null,null,null,null,{"$error":"#VALUE!"},null,null,{"$error":"#VALUE!"},"POA",null,0,null,"POA","POA","POA","POA","POA","POA","POA","POA","POA","POA","POA"]
[null,"MOD:Y53",null,"VS:C","IO:F","BM:0",null,null,null,null,null,null,null,null,null,null,null,null,null,"YA_5300_0042",null,"POA","CS (WCB)",null,"POA","POA","POA","POA","POA","POA","POA",{"$f":"ROUNDUP($V43*FX!$G$2*CF!$B$3,0)","v":{"$error":"#VALUE!"}},{"$f":"ROUNDUP($V43*FX!$G$10*CF!$B$4,0)","v":{"$error":"#VALUE!"}},{"$f":"ROUNDUP($V43*FX!$G$35*CF!$B$5,0)","v":{"$error":"#VALUE!"}},{"$f":"ROUNDUP($V43*FX!$G$3*CF!$B$6,0)","v":{"$error":"#VALUE!"}},null,null,null,null,null,null,null,null,null,null,null,null,null,null,null,null,null,null,null,null,null,null,null,null,null,null,null,null,null,null,null,{"$error":"#VALUE!"},null,null,{"$error":"#VALUE!"},"POA",null,0,null,"POA","POA","POA","POA","POA","POA","POA","POA","POA","POA","POA"]
[null,"MOD:Y53",null,"VS:D","IO:F","BM:0",null,null,null,null,null,null,null,null,null,null,null,null,null,"YA_5300_0043",null,"POA","CS (WCB)",null,"POA","POA","POA","POA","POA","POA","POA",{"$f":"ROUNDUP($V44*FX!$G$2*CF!$B$3,0)","v":{"$error":"#VALUE!"}},{"$f":"ROUNDUP($V44*FX!$G$10*CF!$B$4,0)","v":{"$error":"#VALUE!"}},{"$f":"ROUNDUP($V44*FX!$G$35*CF!$B$5,0)","v":{"$error":"#VALUE!"}},{"$f":"ROUNDUP($V44*FX!$G$3*CF!$B$6,0)","v":{"$error":"#VALUE!"}},null,null,null,null,null,null,null,null,null,null,null,null,null,null,null,null,null,null,null,null,null,null,null,null,null,null,null,null,null,null,null,{"$error":"#VALUE!"},null,null,{"$error":"#VALUE!"},"POA",null,0,null,"POA","POA","POA","POA","POA","POA","POA","POA","POA","POA","POA"]
[null,"MOD:Y53",null,"VS:E","IO:F","BM:0",null,null,null,null,null,null,null,null,null,null,null,null,null,"YA_5300_0044",null,"POA","CS (WCB)",null,"POA","POA","POA","POA","POA","POA","POA",{"$f":"ROUNDUP($V45*FX!$G$2*CF!$B$3,0)","v":{"$error":"#VALUE!"}},{"$f":"ROUNDUP($V45*FX!$G$10*CF!$B$4,0)","v":{"$error":"#VALUE!"}},{"$f":"ROUNDUP($V45*FX!$G$35*CF!$B$5,0)","v":{"$error":"#VALUE!"}},{"$f":"ROUNDUP($V45*FX!$G$3*CF!$B$6,0)","v":{"$error":"#VALUE!"}},null,null,null,null,null,null,null,null,null,null,null,null,null,null,null,null,null,null,null,null,null,null,null,null,null,null,null,null,null,null,null,{"$error":"#VALUE!"},null,null,{"$error":"#VALUE!"},"POA",null,0,null,"POA","POA","POA","POA","POA","POA","POA","POA","POA","POA","POA"]
[null,"MOD:Y53",null,"VS:B","IO:F","BM:1",null,null,null,null,null,null,null,null,null,null,null,null,null,"YA_5300_0045",null,"POA","SS (CF8M)",null,"POA","POA","POA","POA","POA","POA","POA",{"$f":"ROUNDUP($V46*FX!$G$2*CF!$B$3,0)","v":{"$error":"#VALUE!"}},{"$f":"ROUNDUP($V46*FX!$G$10*CF!$B$4,0)","v":{"$error":"#VALUE!"}},{"$f":"ROUNDUP($V46*FX!$G$35*CF!$B$5,0)","v":{"$error":"#VALUE!"}},{"$f":"ROUNDUP($V46*FX!$G$3*CF!$B$6,0)","v":{"$error":"#VALUE!"}},null,null,null,null,null,null,null,null,null,null,null,null,null,null,null,null,null,null,null,null,null,null,null,null,null,null,null,null,null,null,null,{"$error":"#VALUE!"},null,null,{"$error":"#VALUE!"},"POA",null,0,null,"POA","POA","POA","POA","POA","POA","POA","POA","POA","POA","POA"]
[null,"MOD:Y53",null,"VS:C","IO:F","BM:1",null,null,null,null,null,null,null,null,null,null,null,null,null,"YA_5300_0046",null,"POA","SS (CF8M)",null,"POA","POA","POA","POA","POA","POA","POA",{"$f":"ROUNDUP($V47*FX!$G$2*CF!$B$3,0)","v":{"$error":"#VALUE!"}},{"$f":"ROUNDUP($V47*FX!$G$10*CF!$B$4,0)","v":{"$error":"#VALUE!"}},{"$f":"ROUNDUP($V47*FX!$G$35*CF!$B$5,0)","v":{"$error":"#VALUE!"}},{"$f":"ROUNDUP($V47*FX!$G$3*CF!$B$6,0)","v":{"$error":"#VALUE!"}},null,null,null,null,null,null,null,null,null,null,null,null,null,null,null,null,null,null,null,null,null,null,null,null,null,null,null,null,null,null,null,{"$error":"#VALUE!"},null,null,{"$error":"#VALUE!"},"POA",null,0,null,"POA","POA","POA","POA","POA","POA","POA","POA","POA","POA","POA"]
[null,"MOD:Y53",null,"VS:D","IO:F","BM:1",null,null,null,null,null,null,null,null,null,null,null,null,null,"YA_5300_0047",null,"POA","SS (CF8M)",null,"POA","POA","POA","POA","POA","POA","POA",{"$f":"ROUNDUP($V48*FX!$G$2*CF!$B$3,0)","v":{"$error":"#VALUE!"}},{"$f":"ROUNDUP($V48*FX!$G$10*CF!$B$4,0)","v":{"$error":"#VALUE!"}},{"$f":"ROUNDUP($V48*FX!$G$35*CF!$B$5,0)","v":{"$error":"#VALUE!"}},{"$f":"ROUNDUP($V48*FX!$G$3*CF!$B$6,0)","v":{"$error":"#VALUE!"}},null,null,null,null,null,null,null,null,null,null,null,null,null,null,null,null,null,null,null,null,null,null,null,null,null,null,null,null,null,null,null,{"$error":"#VALUE!"},null,null,{"$error":"#VALUE!"},"POA",null,0,null,"POA","POA","POA","POA","POA","POA","POA","POA","POA","POA","POA"]
[null,"MOD:Y53",null,"VS:E","IO:F","BM:1",null,null,null,null,null,null,null,null,null,null,null,null,null,"YA_5300_0048",null,"POA","SS (CF8M)",null,"POA","POA","POA","POA","POA","POA","POA",{"$f":"ROUNDUP($V49*FX!$G$2*CF!$B$3,0)","v":{"$error":"#VALUE!"}},{"$f":"ROUNDUP($V49*FX!$G$10*CF!$B$4,0)","v":{"$error":"#VALUE!"}},{"$f":"ROUNDUP($V49*FX!$G$35*CF!$B$5,0)","v":{"$error":"#VALUE!"}},{"$f":"ROUNDUP($V49*FX!$G$3*CF!$B$6,0)","v":{"$error":"#VALUE!"}},null,null,null,null,null,null,null,null,null,null,null,null,null,null,null,null,null,null,null,null,null,null,null,null,null,null,null,null,null,null,null,{"$error":"#VALUE!"},null,null,{"$error":"#VALUE!"},"POA",null,0,null,"POA","POA","POA","POA","POA","POA","POA","POA","POA","POA","POA"]
[null,"MOD:Y53",null,"VS:B","IO:G","BM:0",null,null,null,null,null,null,null,null,null,null,null,null,null,"YA_5300_0049",null,"POA","CS (WCB)",null,"POA","POA","POA","POA","POA","POA","POA",{"$f":"ROUNDUP($V50*FX!$G$2*CF!$B$3,0)","v":{"$error":"#VALUE!"}},{"$f":"ROUNDUP($V50*FX!$G$10*CF!$B$4,0)","v":{"$error":"#VALUE!"}},{"$f":"ROUNDUP($V50*FX!$G$35*CF!$B$5,0)","v":{"$error":"#VALUE!"}},{"$f":"ROUNDUP($V50*FX!$G$3*CF!$B$6,0)","v":{"$error":"#VALUE!"}},null,null,null,null,null,null,null,null,null,null,null,null,null,null,null,null,null,null,null,null,null,null,null,null,null,null,null,null,null,null,null,{"$error":"#VALUE!"},null,null,{"$error":"#VALUE!"},"POA",null,0,null,"POA","POA","POA","POA","POA","POA","POA","POA","POA","POA","POA"]
[null,"MOD:Y53",null,"VS:C","IO:G","BM:0",null,null,null,null,null,null,null,null,null,null,null,null,null,"YA_5300_0050",null,"POA","CS (WCB)",null,"POA","POA","POA","POA","POA","POA","POA",{"$f":"ROUNDUP($V51*FX!$G$2*CF!$B$3,0)","v":{"$error":"#VALUE!"}},{"$f":"ROUNDUP($V51*FX!$G$10*CF!$B$4,0)","v":{"$error":"#VALUE!"}},{"$f":"ROUNDUP($V51*FX!$G$35*CF!$B$5,0)","v":{"$error":"#VALUE!"}},{"$f":"ROUNDUP($V51*FX!$G$3*CF!$B$6,0)","v":{"$error":"#VALUE!"}},null,null,null,null,null,null,null,null,null,null,null,null,null,null,null,null,null,null,null,null,null,null,null,null,null,null,null,null,null,null,null,{"$error":"#VALUE!"},null,null,{"$error":"#VALUE!"},"POA",null,0,null,"POA","POA","POA","POA","POA","POA","POA","POA","POA","POA","POA"]
[null,"MOD:Y53",null,"VS:D","IO:G","BM:0",null,null,null,null,null,null,null,null,null,null,null,null,null,"YA_5300_0051",null,"POA","CS (WCB)",null,"POA","POA","POA","POA","POA","POA","POA",{"$f":"ROUNDUP($V52*FX!$G$2*CF!$B$3,0)","v":{"$error":"#VALUE!"}},{"$f":"ROUNDUP($V52*FX!$G$10*CF!$B$4,0)","v":{"$error":"#VALUE!"}},{"$f":"ROUNDUP($V52*FX!$G$35*CF!$B$5,0)","v":{"$error":"#VALUE!"}},{"$f":"ROUNDUP($V52*FX!$G$3*CF!$B$6,0)","v":{"$error":"#VALUE!"}},null,null,null,null,null,null,null,null,null,null,null,null,null,null,null,null,null,null,null,null,null,null,null,null,null,null,null,null,null,null,null,{"$error":"#VALUE!"},null,null,{"$error":"#VALUE!"},"POA",null,0,null,"POA","POA","POA","POA","POA","POA","POA","POA","POA","POA","POA"]
[null,"MOD:Y53",null,"VS:E","IO:G","BM:0",null,null,null,null,null,null,null,null,null,null,null,null,null,"YA_5300_0052",null,"POA","CS (WCB)",null,"POA","POA","POA","POA","POA","POA","POA",{"$f":"ROUNDUP($V53*FX!$G$2*CF!$B$3,0)","v":{"$error":"#VALUE!"}},{"$f":"ROUNDUP($V53*FX!$G$10*CF!$B$4,0)","v":{"$error":"#VALUE!"}},{"$f":"ROUNDUP($V53*FX!$G$35*CF!$B$5,0)","v":{"$error":"#VALUE!"}},{"$f":"ROUNDUP($V53*FX!$G$3*CF!$B$6,0)","v":{"$error":"#VALUE!"}},null,null,null,null,null,null,null,null,null,null,null,null,null,null,null,null,null,null,null,null,null,null,null,null,null,null,null,null,null,null,null,{"$error":"#VALUE!"},null,null,{"$error":"#VALUE!"},"POA",null,0,null,"POA","POA","POA","POA","POA","POA","POA","POA","POA","POA","POA"]
[null,"MOD:Y53",null,"VS:B","IO:G","BM:1",null,null,null,null,null,null,null,null,null,null,null,null,null,"YA_5300_0053",null,"POA","SS (CF8M)",null,"POA","POA","POA","POA","POA","POA","POA",{"$f":"ROUNDUP($V54*FX!$G$2*CF!$B$3,0)","v":{"$error":"#VALUE!"}},{"$f":"ROUNDUP($V54*FX!$G$10*CF!$B$4,0)","v":{"$error":"#VALUE!"}},{"$f":"ROUNDUP($V54*FX!$G$35*CF!$B$5,0)","v":{"$error":"#VALUE!"}},{"$f":"ROUNDUP($V54*FX!$G$3*CF!$B$6,0)","v":{"$error":"#VALUE!"}},null,null,null,null,null,null,null,null,null,null,null,null,null,null,null,null,null,null,null,null,null,null,null,null,null,null,null,null,null,null,null,{"$error":"#VALUE!"},null,null,{"$error":"#VALUE!"},{"$f":"AE54","v":"POA"},null,0,null,"POA","POA","POA","POA","POA","POA","POA","POA","POA","POA","POA"]
[null,"MOD:Y53",null,"VS:C","IO:G","BM:1",null,null,null,null,null,null,null,null,null,null,null,null,null,"YA_5300_0054",null,"POA","SS (CF8M)",null,"POA","POA","POA","POA","POA","POA","POA",{"$f":"ROUNDUP($V55*FX!$G$2*CF!$B$3,0)","v":{"$error":"#VALUE!"}},{"$f":"ROUNDUP($V55*FX!$G$10*CF!$B$4,0)","v":{"$error":"#VALUE!"}},{"$f":"ROUNDUP($V55*FX!$G$35*CF!$B$5,0)","v":{"$error":"#VALUE!"}},{"$f":"ROUNDUP($V55*FX!$G$3*CF!$B$6,0)","v":{"$error":"#VALUE!"}},null,null,null,null,null,null,null,null,null,null,null,null,null,null,null,null,null,null,null,null,null,null,null,null,null,null,null,null,null,null,null,{"$error":"#VALUE!"},null,null,{"$error":"#VALUE!"},"POA",null,0,null,"POA","POA","POA","POA","POA","POA","POA","POA","POA","POA","POA"]
[null,"MOD:Y53",null,"VS:D","IO:G","BM:1",null,null,null,null,null,null,null,null,null,null,null,null,null,"YA_5300_0055",null,"POA","SS (CF8M)",null,"POA","POA","POA","POA","POA","POA","POA",{"$f":"ROUNDUP($V56*FX!$G$2*CF!$B$3,0)","v":{"$error":"#VALUE!"}},{"$f":"ROUNDUP($V56*FX!$G$10*CF!$B$4,0)","v":{"$error":"#VALUE!"}},{"$f":"ROUNDUP($V56*FX!$G$35*CF!$B$5,0)","v":{"$error":"#VALUE!"}},{"$f":"ROUNDUP($V56*FX!$G$3*CF!$B$6,0)","v":{"$error":"#VALUE!"}},null,null,null,null,null,null,null,null,null,null,null,null,null,null,null,null,null,null,null,null,null,null,null,null,null,null,null,null,null,null,null,{"$error":"#VALUE!"},null,null,{"$error":"#VALUE!"},"POA",null,0,null,"POA","POA","POA","POA","POA","POA","POA","POA","POA","POA","POA"]
[null,"MOD:Y53",null,"VS:E","IO:G","BM:1",null,null,null,null,null,null,null,null,null,null,null,null,null,"YA_5300_0056",null,"POA","SS (CF8M)",null,"POA","POA","POA","POA","POA","POA","POA",{"$f":"ROUNDUP($V57*FX!$G$2*CF!$B$3,0)","v":{"$error":"#VALUE!"}},{"$f":"ROUNDUP($V57*FX!$G$10*CF!$B$4,0)","v":{"$error":"#VALUE!"}},{"$f":"ROUNDUP($V57*FX!$G$35*CF!$B$5,0)","v":{"$error":"#VALUE!"}},{"$f":"ROUNDUP($V57*FX!$G$3*CF!$B$6,0)","v":{"$error":"#VALUE!"}},null,null,null,null,null,null,null,null,null,null,null,null,null,null,null,null,null,null,null,null,null,null,null,null,null,null,null,null,null,null,null,{"$error":"#VALUE!"},null,null,{"$error":"#VALUE!"},"POA",null,0,null,"POA","POA","POA","POA","POA","POA","POA","POA","POA","POA","POA"]
[null,"MOD:Y53",null,"VS:B","IO:H","BM:0",null,null,null,null,null,null,null,null,null,null,null,null,null,"YA_5300_0057",null,"POA","CS (WCB)",null,"POA","POA","POA","POA","POA","POA","POA",{"$f":"ROUNDUP($V58*FX!$G$2*CF!$B$3,0)","v":{"$error":"#VALUE!"}},{"$f":"ROUNDUP($V58*FX!$G$10*CF!$B$4,0)","v":{"$error":"#VALUE!"}},{"$f":"ROUNDUP($V58*FX!$G$35*CF!$B$5,0)","v":{"$error":"#VALUE!"}},{"$f":"ROUNDUP($V58*FX!$G$3*CF!$B$6,0)","v":{"$error":"#VALUE!"}},null,null,null,null,null,null,null,null,null,null,null,null,null,null,null,null,null,null,null,null,null,null,null,null,null,null,null,null,null,null,null,{"$error":"#VALUE!"},null,null,{"$error":"#VALUE!"},"POA",null,0,null,"POA","POA","POA","POA","POA","POA","POA","POA","POA","POA","POA"]
[null,"MOD:Y53",null,"VS:C","IO:H","BM:0",null,null,null,null,null,null,null,null,null,null,null,null,null,"YA_5300_0058",null,"POA","CS (WCB)",null,"POA","POA","POA","POA","POA","POA","POA",{"$f":"ROUNDUP($V59*FX!$G$2*CF!$B$3,0)","v":{"$error":"#VALUE!"}},{"$f":"ROUNDUP($V59*FX!$G$10*CF!$B$4,0)","v":{"$error":"#VALUE!"}},{"$f":"ROUNDUP($V59*FX!$G$35*CF!$B$5,0)","v":{"$error":"#VALUE!"}},{"$f":"ROUNDUP($V59*FX!$G$3*CF!$B$6,0)","v":{"$error":"#VALUE!"}},null,null,null,null,null,null,null,null,null,null,null,null,null,null,null,null,null,null,null,null,null,null,null,null,null,null,null,null,null,null,null,{"$error":"#VALUE!"},null,null,{"$error":"#VALUE!"},"POA",null,0,null,"POA","POA","POA","POA","POA","POA","POA","POA","POA","POA","POA"]
[null,"MOD:Y53",null,"VS:D","IO:H","BM:0",null,null,null,null,null,null,null,null,null,null,null,null,null,"YA_5300_0059",null,"POA","CS (WCB)",null,"POA","POA","POA","POA","POA","POA","POA",{"$f":"ROUNDUP($V60*FX!$G$2*CF!$B$3,0)","v":{"$error":"#VALUE!"}},{"$f":"ROUNDUP($V60*FX!$G$10*CF!$B$4,0)","v":{"$error":"#VALUE!"}},{"$f":"ROUNDUP($V60*FX!$G$35*CF!$B$5,0)","v":{"$error":"#VALUE!"}},{"$f":"ROUNDUP($V60*FX!$G$3*CF!$B$6,0)","v":{"$error":"#VALUE!"}},null,null,null,null,null,null,null,null,null,null,null,null,null,null,null,null,null,null,null,null,null,null,null,null,null,null,null,null,null,null,null,{"$error":"#VALUE!"},null,null,{"$error":"#VALUE!"},"POA",null,0,null,"POA","POA","POA","POA","POA","POA","POA","POA","POA","POA","POA"]
[null,"MOD:Y53",null,"VS:E","IO:H","BM:0",null,null,null,null,null,null,null,null,null,null,null,null,null,"YA_5300_0060",null,"POA","CS (WCB)",null,"POA","POA","POA","POA","POA","POA","POA",{"$f":"ROUNDUP($V61*FX!$G$2*CF!$B$3,0)","v":{"$error":"#VALUE!"}},{"$f":"ROUNDUP($V61*FX!$G$10*CF!$B$4,0)","v":{"$error":"#VALUE!"}},{"$f":"ROUNDUP($V61*FX!$G$35*CF!$B$5,0)","v":{"$error":"#VALUE!"}},{"$f":"ROUNDUP($V61*FX!$G$3*CF!$B$6,0)","v":{"$error":"#VALUE!"}},null,null,null,null,null,null,null,null,null,null,null,null,null,null,null,null,null,null,null,null,null,null,null,null,null,null,null,null,null,null,null,{"$error":"#VALUE!"},null,null,{"$error":"#VALUE!"},"POA",null,0,null,"POA","POA","POA","POA","POA","POA","POA","POA","POA","POA","POA"]
[null,"MOD:Y53",null,"VS:B","IO:H","BM:1",null,null,null,null,null,null,null,null,null,null,null,null,null,"YA_5300_0061",null,"POA","SS (CF8M)",null,"POA","POA","POA","POA","POA","POA","POA",{"$f":"ROUNDUP($V62*FX!$G$2*CF!$B$3,0)","v":{"$error":"#VALUE!"}},{"$f":"ROUNDUP($V62*FX!$G$10*CF!$B$4,0)","v":{"$error":"#VALUE!"}},{"$f":"ROUNDUP($V62*FX!$G$35*CF!$B$5,0)","v":{"$error":"#VALUE!"}},{"$f":"ROUNDUP($V62*FX!$G$3*CF!$B$6,0)","v":{"$error":"#VALUE!"}},null,null,null,null,null,null,null,null,null,null,null,null,null,null,null,null,null,null,null,null,null,null,null,null,null,null,null,null,null,null,null,{"$error":"#VALUE!"},null,null,{"$error":"#VALUE!"},"POA",null,0,null,"POA","POA","POA","POA","POA","POA","POA","POA","POA","POA","POA"]
[null,"MOD:Y53",null,"VS:C","IO:H","BM:1",null,null,null,null,null,null,null,null,null,null,null,null,null,"YA_5300_0062",null,"POA","SS (CF8M)",null,"POA","POA","POA","POA","POA","POA","POA",{"$f":"ROUNDUP($V63*FX!$G$2*CF!$B$3,0)","v":{"$error":"#VALUE!"}},{"$f":"ROUNDUP($V63*FX!$G$10*CF!$B$4,0)","v":{"$error":"#VALUE!"}},{"$f":"ROUNDUP($V63*FX!$G$35*CF!$B$5,0)","v":{"$error":"#VALUE!"}},{"$f":"ROUNDUP($V63*FX!$G$3*CF!$B$6,0)","v":{"$error":"#VALUE!"}},null,null,null,null,null,null,null,null,null,null,null,null,null,null,null,null,null,null,null,null,null,null,null,null,null,null,null,null,null,null,null,{"$error":"#VALUE!"},null,null,{"$error":"#VALUE!"},"POA",null,0,null,"POA","POA","POA","POA","POA","POA","POA","POA","POA","POA","POA"]
[null,"MOD:Y53",null,"VS:D","IO:H","BM:1",null,null,null,null,null,null,null,null,null,null,null,null,null,"YA_5300_0063",null,"POA","SS (CF8M)",null,"POA","POA","POA","POA","POA","POA","POA",{"$f":"ROUNDUP($V64*FX!$G$2*CF!$B$3,0)","v":{"$error":"#VALUE!"}},{"$f":"ROUNDUP($V64*FX!$G$10*CF!$B$4,0)","v":{"$error":"#VALUE!"}},{"$f":"ROUNDUP($V64*FX!$G$35*CF!$B$5,0)","v":{"$error":"#VALUE!"}},{"$f":"ROUNDUP($V64*FX!$G$3*CF!$B$6,0)","v":{"$error":"#VALUE!"}},null,null,null,null,null,null,null,null,null,null,null,null,null,null,null,null,null,null,null,null,null,null,null,null,null,null,null,null,null,null,null,{"$error":"#VALUE!"},null,null,{"$error":"#VALUE!"},"POA",null,0,null,"POA","POA","POA","POA","POA","POA","POA","POA","POA","POA","POA"]
[null,"MOD:Y53",null,"VS:E","IO:H","BM:1",null,null,null,null,null,null,null,null,null,null,null,null,null,"YA_5300_0064",null,"POA","SS (CF8M)",null,"POA","POA","POA","POA","POA","POA","POA",{"$f":"ROUNDUP($V65*FX!$G$2*CF!$B$3,0)","v":{"$error":"#VALUE!"}},{"$f":"ROUNDUP($V65*FX!$G$10*CF!$B$4,0)","v":{"$error":"#VALUE!"}},{"$f":"ROUNDUP($V65*FX!$G$35*CF!$B$5,0)","v":{"$error":"#VALUE!"}},{"$f":"ROUNDUP($V65*FX!$G$3*CF!$B$6,0)","v":{"$error":"#VALUE!"}},null,null,null,null,null,null,null,null,null,null,null,null,null,null,null,null,null,null,null,null,null,null,null,null,null,null,null,null,null,null,null,{"$error":"#VALUE!"},null,null,{"$error":"#VALUE!"},"POA",null,0,null,"POA","POA","POA","POA","POA","POA","POA","POA","POA","POA","POA"]
[null,"MOD:Y53",null,"VS:B","IO:I","BM:0",null,null,null,null,null,null,null,null,null,null,null,null,null,"YA_5300_0065",null,{"$f":"AE66","v":"POA"},"CS (WCB)",null,"POA",{"$f":"IFERROR(AA66*1.03,\"POA\")","v":"POA"},"POA","POA","POA","POA","POA",{"$f":"ROUNDUP($V66*FX!$G$2*CF!$B$3,0)","v":{"$error":"#VALUE!"}},{"$f":"ROUNDUP($V66*FX!$G$10*CF!$B$4,0)","v":{"$error":"#VALUE!"}},{"$f":"ROUNDUP($V66*FX!$G$35*CF!$B$5,0)","v":{"$error":"#VALUE!"}},{"$f":"ROUNDUP($V66*FX!$G$3*CF!$B$6,0)","v":{"$error":"#VALUE!"}},null,null,null,null,null,null,null,null,null,null,null,null,null,null,null,null,null,null,null,null,null,null,null,null,null,null,null,null,null,null,null,{"$error":"#VALUE!"},null,null,{"$error":"#VALUE!"},"POA",null,0,null,"POA","POA","POA","POA","POA","POA","POA","POA","POA",{"$f":"IF(CE66=\"POA\",\"POA\", ROUNDUP(CE66*1.055,0))","v":"POA"},"POA"]
[null,"MOD:Y53",null,"VS:C","IO:I","BM:0",null,null,null,null,null,null,null,null,null,null,null,null,null,"YA_5300_0066",null,"POA","CS (WCB)",null,{"$f":"IFERROR(Z67*1,\"POA\")","v":"POA"},"POA","POA","POA","POA","POA",{"$f":"CG67","v":"POA"},{"$f":"ROUNDUP($V67*FX!$G$2*CF!$B$3,0)","v":{"$error":"#VALUE!"}},{"$f":"ROUNDUP($V67*FX!$G$10*CF!$B$4,0)","v":{"$error":"#VALUE!"}},{"$f":"ROUNDUP($V67*FX!$G$35*CF!$B$5,0)","v":{"$error":"#VALUE!"}},{"$f":"ROUNDUP($V67*FX!$G$3*CF!$B$6,0)","v":{"$error":"#VALUE!"}},null,null,null,null,null,null,null,null,null,null,null,null,null,null,null,null,null,null,null,null,null,null,null,null,null,null,null,null,null,null,null,{"$f":"ROUNDUP(($AE67+($AE67*$BO$1)),0)","v":{"$error":"#VALUE!"}},null,null,{"$error":"#VALUE!"},"POA",null,{"$f":"ROUNDUP(BT67,0)","v":0},null,"POA","POA","POA","POA","POA","POA","POA","POA","POA","POA",{"$f":"IF(CF67=\"POA\",\"POA\", ROUNDUP(CF67*1.043,0))","v":"POA"}]
[null,"MOD:Y53",null,"VS:D","IO:I","BM:0",null,null,null,null,null,null,null,null,null,null,null,null,null,"YA_5300_0067",null,"POA","CS (WCB)",null,"POA","POA","POA","POA","POA","POA","POA",{"$f":"ROUNDUP($V68*FX!$G$2*CF!$B$3,0)","v":{"$error":"#VALUE!"}},{"$f":"ROUNDUP($V68*FX!$G$10*CF!$B$4,0)","v":{"$error":"#VALUE!"}},{"$f":"ROUNDUP($V68*FX!$G$35*CF!$B$5,0)","v":{"$error":"#VALUE!"}},{"$f":"ROUNDUP($V68*FX!$G$3*CF!$B$6,0)","v":{"$error":"#VALUE!"}},null,null,null,null,null,null,null,null,null,null,null,null,null,null,null,null,null,null,null,null,null,null,null,null,null,null,null,null,null,null,null,{"$error":"#VALUE!"},null,null,{"$error":"#VALUE!"},"POA",null,0,null,"POA","POA","POA","POA","POA","POA","POA","POA","POA","POA","POA"]
[null,"MOD:Y53",null,"VS:E","IO:I","BM:0",null,null,null,null,null,null,null,null,null,null,null,null,null,"YA_5300_0068",null,"POA","CS (WCB)",null,"POA","POA","POA","POA","POA","POA","POA",{"$f":"ROUNDUP($V69*FX!$G$2*CF!$B$3,0)","v":{"$error":"#VALUE!"}},{"$f":"ROUNDUP($V69*FX!$G$10*CF!$B$4,0)","v":{"$error":"#VALUE!"}},{"$f":"ROUNDUP($V69*FX!$G$35*CF!$B$5,0)","v":{"$error":"#VALUE!"}},{"$f":"ROUNDUP($V69*FX!$G$3*CF!$B$6,0)","v":{"$error":"#VALUE!"}},null,null,null,null,null,null,null,null,null,null,null,null,null,null,null,null,null,null,null,null,null,null,null,null,null,null,null,null,null,null,null,{"$error":"#VALUE!"},null,null,{"$error":"#VALUE!"},"POA",null,0,null,"POA","POA","POA","POA","POA","POA","POA","POA","POA","POA","POA"]
[null,"MOD:Y53",null,"VS:B","IO:I","BM:1",null,null,null,null,null,null,null,null,null,null,null,null,null,"YA_5300_0069",null,"POA","SS (CF8M)",null,"POA","POA","POA","POA","POA","POA","POA",{"$f":"ROUNDUP($V70*FX!$G$2*CF!$B$3,0)","v":{"$error":"#VALUE!"}},{"$f":"ROUNDUP($V70*FX!$G$10*CF!$B$4,0)","v":{"$error":"#VALUE!"}},{"$f":"ROUNDUP($V70*FX!$G$35*CF!$B$5,0)","v":{"$error":"#VALUE!"}},{"$f":"ROUNDUP($V70*FX!$G$3*CF!$B$6,0)","v":{"$error":"#VALUE!"}},null,null,null,null,null,null,null,null,null,null,null,null,null,null,null,null,null,null,null,null,null,null,null,null,null,null,null,null,null,null,null,{"$error":"#VALUE!"},null,null,{"$error":"#VALUE!"},"POA",null,0,null,"POA","POA","POA","POA","POA","POA","POA","POA","POA","POA","POA"]
[null,"MOD:Y53",null,"VS:C","IO:I","BM:1",null,null,null,null,null,null,null,null,null,null,null,null,null,"YA_5300_0070",null,"POA","SS (CF8M)",null,"POA","POA","POA","POA","POA","POA","POA",{"$f":"ROUNDUP($V71*FX!$G$2*CF!$B$3,0)","v":{"$error":"#VALUE!"}},{"$f":"ROUNDUP($V71*FX!$G$10*CF!$B$4,0)","v":{"$error":"#VALUE!"}},{"$f":"ROUNDUP($V71*FX!$G$35*CF!$B$5,0)","v":{"$error":"#VALUE!"}},{"$f":"ROUNDUP($V71*FX!$G$3*CF!$B$6,0)","v":{"$error":"#VALUE!"}},null,null,null,null,null,null,null,null,null,null,null,null,null,null,null,null,null,null,null,null,null,null,null,null,null,null,null,null,null,null,null,{"$error":"#VALUE!"},null,null,{"$error":"#VALUE!"},"POA",null,0,null,"POA","POA","POA","POA","POA","POA","POA","POA","POA","POA","POA"]
[null,"MOD:Y53",null,"VS:D","IO:I","BM:1",null,null,null,null,null,null,null,null,null,null,null,null,null,"YA_5300_0071",null,"POA","SS (CF8M)",null,"POA","POA","POA","POA","POA","POA","POA",{"$f":"ROUNDUP($V72*FX!$G$2*CF!$B$3,0)","v":{"$error":"#VALUE!"}},{"$f":"ROUNDUP($V72*FX!$G$10*CF!$B$4,0)","v":{"$error":"#VALUE!"}},{"$f":"ROUNDUP($V72*FX!$G$35*CF!$B$5,0)","v":{"$error":"#VALUE!"}},{"$f":"ROUNDUP($V72*FX!$G$3*CF!$B$6,0)","v":{"$error":"#VALUE!"}},null,null,null,null,null,null,null,null,null,null,null,null,null,null,null,null,null,null,null,null,null,null,null,null,null,null,null,null,null,null,null,{"$error":"#VALUE!"},null,null,{"$error":"#VALUE!"},"POA",null,0,null,"POA","POA","POA","POA","POA","POA","POA","POA","POA","POA","POA"]
[null,"MOD:Y53",null,"VS:E","IO:I","BM:1",null,null,null,null,null,null,null,null,null,null,null,null,null,"YA_5300_0072",null,"POA","SS (CF8M)",null,"POA","POA","POA","POA","POA","POA","POA",{"$f":"ROUNDUP($V73*FX!$G$2*CF!$B$3,0)","v":{"$error":"#VALUE!"}},{"$f":"ROUNDUP($V73*FX!$G$10*CF!$B$4,0)","v":{"$error":"#VALUE!"}},{"$f":"ROUNDUP($V73*FX!$G$35*CF!$B$5,0)","v":{"$error":"#VALUE!"}},{"$f":"ROUNDUP($V73*FX!$G$3*CF!$B$6,0)","v":{"$error":"#VALUE!"}},null,null,null,null,null,null,null,null,null,null,null,null,null,null,null,null,null,null,null,null,null,null,null,null,null,null,null,null,null,null,null,{"$error":"#VALUE!"},null,null,{"$error":"#VALUE!"},"POA",null,0,null,"POA","POA","POA","POA","POA","POA","POA","POA","POA","POA","POA"]
[null,"MOD:Y53",null,"IO:A","BC:A",null,null,null,null,null,null,null,null,null,null,null,null,null,null,"YA_5300_0073",null,0,"900# RF",null,0,{"$f":"ROUND(IFERROR(AA74*1.03,\"POA\"),0)","v":0},0,0,0,0,0,{"$f":"ROUNDUP($V74*FX!$G$2*CF!$B$3,0)","v":0},{"$f":"ROUNDUP($V74*FX!$G$10*CF!$B$4,0)","v":0},{"$f":"ROUNDUP($V74*FX!$G$35*CF!$B$5,0)","v":0},{"$f":"ROUNDUP($V74*FX!$G$3*CF!$B$6,0)","v":0},null,null,null,null,null,null,null,null,null,null,null,null,null,null,null,null,null,null,null,null,null,null,null,null,null,null,null,null,null,null,null,0,null,null,0,{"$f":"ROUNDUP(BR74,0)","v":0},null,0,null,0,{"$f":"ROUNDUP(($BW74+($BX$1*$BW74)),0)","v":0},{"$f":"ROUNDUP(BX74,0)","v":0},{"$f":"BY74+(BY74*$BZ$1)","v":0},0,{"$f":"ROUNDUP(CA74,0)","v":0},{"$f":"CB74+(CB74*$CC$1)","v":0},0,{"$f":"ROUNDUP(CD74,0)","v":0},0,0]
[null,"MOD:Y53",null,"IO:B","BC:B",null,null,null,null,null,null,null,null,null,null,null,null,null,null,"YA_5300_0074",null,0,"1500# RF",null,0,0,0,0,0,0,0,{"$f":"ROUNDUP($V75*FX!$G$2*CF!$B$3,0)","v":0},{"$f":"ROUNDUP($V75*FX!$G$10*CF!$B$4,0)","v":0},{"$f":"ROUNDUP($V75*FX!$G$35*CF!$B$5,0)","v":0},{"$f":"ROUNDUP($V75*FX!$G$3*CF!$B$6,0)","v":0},null,null,null,null,null,null,null,null,null,null,null,null,null,null,null,null,null,null,null,null,null,null,null,null,null,null,null,null,null,null,null,0,null,null,0,0,null,0,null,0,0,0,0,0,0,0,0,0,0,0]
[null,"MOD:Y53",null,"IO:C","BC:C",null,null,null,null,null,null,null,null,null,null,null,null,null,null,"YA_5300_0075",null,0,"2500# RF",null,0,0,0,0,0,0,0,{"$f":"ROUNDUP($V76*FX!$G$2*CF!$B$3,0)","v":0},{"$f":"ROUNDUP($V76*FX!$G$10*CF!$B$4,0)","v":0},{"$f":"ROUNDUP($V76*FX!$G$35*CF!$B$5,0)","v":0},{"$f":"ROUNDUP($V76*FX!$G$3*CF!$B$6,0)","v":0},null,null,null,null,null,null,null,null,null,null,null,null,null,null,null,null,null,null,null,null,null,null,null,null,null,null,null,null,null,null,null,0,null,null,0,0,null,0,null,0,0,0,0,0,0,0,0,0,0,0]
[null,"MOD:Y53",null,"IO:D","BC:D",null,null,null,null,null,null,null,null,null,null,null,null,null,null,"YA_5300_0076",null,0,"900# RTJ",null,0,0,0,0,0,0,0,{"$f":"ROUNDUP($V77*FX!$G$2*CF!$B$3,0)","v":0},{"$f":"ROUNDUP($V77*FX!$G$10*CF!$B$4,0)","v":0},{"$f":"ROUNDUP($V77*FX!$G$35*CF!$B$5,0)","v":0},{"$f":"ROUNDUP($V77*FX!$G$3*CF!$B$6,0)","v":0},null,null,null,null,null,null,null,null,null,null,null,null,null,null,null,null,null,null,null,null,null,null,null,null,null,null,null,null,null,null,null,0,null,null,0,0,null,0,null,0,0,0,0,0,0,0,0,0,0,0]
[null,"MOD:Y53",null,"IO:E","BC:E",null,null,null,null,null,null,null,null,null,null,null,null,null,null,"YA_5300_0077",null,0,"1500# RTJ",null,0,0,0,0,0,0,0,{"$f":"ROUNDUP($V78*FX!$G$2*CF!$B$3,0)","v":0},{"$f":"ROUNDUP($V78*FX!$G$10*CF!$B$4,0)","v":0},{"$f":"ROUNDUP($V78*FX!$G$35*CF!$B$5,0)","v":0},{"$f":"ROUNDUP($V78*FX!$G$3*CF!$B$6,0)","v":0},null,null,null,null,null,null,null,null,null,null,null,null,null,null,null,null,null,null,null,null,null,null,null,null,null,null,null,null,null,null,null,0,null,null,0,0,null,0,null,0,0,0,0,0,0,0,0,0,0,0]
[null,"MOD:Y53",null,"IO:F","BC:F",null,null,null,null,null,null,null,null,null,null,null,null,null,null,"YA_5300_0078",null,0,"2500# RTJ",null,0,0,0,0,0,0,0,{"$f":"ROUNDUP($V79*FX!$G$2*CF!$B$3,0)","v":0},{"$f":"ROUNDUP($V79*FX!$G$10*CF!$B$4,0)","v":0},{"$f":"ROUNDUP($V79*FX!$G$35*CF!$B$5,0)","v":0},{"$f":"ROUNDUP($V79*FX!$G$3*CF!$B$6,0)","v":0},null,null,null,null,null,null,null,null,null,null,null,null,null,null,null,null,null,null,null,null,null,null,null,null,null,null,null,null,null,null,null,0,null,null,0,0,null,0,null,0,0,0,0,0,0,0,0,0,0,0]
[null,"MOD:Y53",null,"IO:G","BC:A,D",null,null,null,null,null,null,null,null,null,null,null,null,null,null,"YA_5300_0079",null,0,"900# BWE Sch 80",null,0,0,0,0,0,0,0,{"$f":"ROUNDUP($V80*FX!$G$2*CF!$B$3,0)","v":0},{"$f":"ROUNDUP($V80*FX!$G$10*CF!$B$4,0)","v":0},{"$f":"ROUNDUP($V80*FX!$G$35*CF!$B$5,0)","v":0},{"$f":"ROUNDUP($V80*FX!$G$3*CF!$B$6,0)","v":0},null,null,null,null,null,null,null,null,null,null,null,null,null,null,null,null,null,null,null,null,null,null,null,null,null,null,null,null,null,null,null,0,null,null,0,0,null,0,null,0,0,0,0,0,0,0,0,0,0,0]
[null,"MOD:Y53",null,"IO:H","BC:B,E",null,null,null,null,null,null,null,null,null,null,null,null,null,null,"YA_5300_0080",null,0,"1500# BWE Sch 160",null,0,0,0,0,0,0,0,{"$f":"ROUNDUP($V81*FX!$G$2*CF!$B$3,0)","v":0},{"$f":"ROUNDUP($V81*FX!$G$10*CF!$B$4,0)","v":0},{"$f":"ROUNDUP($V81*FX!$G$35*CF!$B$5,0)","v":0},{"$f":"ROUNDUP($V81*FX!$G$3*CF!$B$6,0)","v":0},null,null,null,null,null,null,null,null,null,null,null,null,null,null,null,null,null,null,null,null,null,null,null,null,null,null,null,null,null,null,null,0,null,null,0,0,null,0,null,0,0,0,0,0,0,0,0,0,0,0]
[null,"MOD:Y53",null,"IO:I","BC:C,F",null,null,null,null,null,null,null,null,null,null,null,null,null,null,"YA_5300_0081",null,0,"2500# BWE Sch XXS",null,0,0,0,0,0,0,0,{"$f":"ROUNDUP($V82*FX!$G$2*CF!$B$3,0)","v":0},{"$f":"ROUNDUP($V82*FX!$G$10*CF!$B$4,0)","v":0},{"$f":"ROUNDUP($V82*FX!$G$35*CF!$B$5,0)","v":0},{"$f":"ROUNDUP($V82*FX!$G$3*CF!$B$6,0)","v":0},null,null,null,null,null,null,null,null,null,null,null,null,null,null,null,null,null,null,null,null,null,null,null,null,null,null,null,null,null,null,null,0,null,null,0,0,null,0,null,0,0,0,0,0,0,0,0,0,0,0]
[null,"MOD:Y53",null,"IO:A,G","BC:A",null,null,null,null,null,null,null,null,null,null,null,null,null,null,"YA_5300_0082",null,0,"900# RF",null,0,0,0,0,0,0,0,{"$f":"ROUNDUP($V83*FX!$G$2*CF!$B$3,0)","v":0},{"$f":"ROUNDUP($V83*FX!$G$10*CF!$B$4,0)","v":0},{"$f":"ROUNDUP($V83*FX!$G$35*CF!$B$5,0)","v":0},{"$f":"ROUNDUP($V83*FX!$G$3*CF!$B$6,0)","v":0},null,null,null,null,null,null,null,null,null,null,null,null,null,null,null,null,null,null,null,null,null,null,null,null,null,null,null,null,null,null,null,0,null,null,0,0,null,0,null,0,0,0,0,0,0,0,0,0,0,0]
[null,"MOD:Y53",null,"IO:B,H","BC:B",null,null,null,null,null,null,null,null,null,null,null,null,null,null,"YA_5300_0083",null,0,"1500# RF",null,0,0,0,0,0,0,0,{"$f":"ROUNDUP($V84*FX!$G$2*CF!$B$3,0)","v":0},{"$f":"ROUNDUP($V84*FX!$G$10*CF!$B$4,0)","v":0},{"$f":"ROUNDUP($V84*FX!$G$35*CF!$B$5,0)","v":0},{"$f":"ROUNDUP($V84*FX!$G$3*CF!$B$6,0)","v":0},null,null,null,null,null,null,null,null,null,null,null,null,null,null,null,null,null,null,null,null,null,null,null,null,null,null,null,null,null,null,null,0,null,null,0,0,null,0,null,0,0,0,0,0,0,0,0,0,0,0]
[null,"MOD:Y53",null,"IO:C,I","BC:C",null,null,null,null,null,null,null,null,null,null,null,null,null,null,"YA_5300_0084",null,0,"2500# RF",null,0,0,0,0,0,0,0,{"$f":"ROUNDUP($V85*FX!$G$2*CF!$B$3,0)","v":0},{"$f":"ROUNDUP($V85*FX!$G$10*CF!$B$4,0)","v":0},{"$f":"ROUNDUP($V85*FX!$G$35*CF!$B$5,0)","v":0},{"$f":"ROUNDUP($V85*FX!$G$3*CF!$B$6,0)","v":0},null,null,null,null,null,null,null,null,null,null,null,null,null,null,null,null,null,null,null,null,null,null,null,null,null,null,null,null,null,null,null,0,null,null,0,0,null,0,null,0,0,0,0,0,0,0,0,0,0,0]
[null,"MOD:Y53",null,"IO:D,G","BC:D",null,null,null,null,null,null,null,null,null,null,null,null,null,null,"YA_5300_0085",null,0,"900# RTJ",null,0,0,0,0,0,0,0,{"$f":"ROUNDUP($V86*FX!$G$2*CF!$B$3,0)","v":0},{"$f":"ROUNDUP($V86*FX!$G$10*CF!$B$4,0)","v":0},{"$f":"ROUNDUP($V86*FX!$G$35*CF!$B$5,0)","v":0},{"$f":"ROUNDUP($V86*FX!$G$3*CF!$B$6,0)","v":0},null,null,null,null,null,null,null,null,null,null,null,null,null,null,null,null,null,null,null,null,null,null,null,null,null,null,null,null,null,null,null,0,null,null,0,0,null,0,null,0,0,0,0,0,0,0,0,0,0,0]
[null,"MOD:Y53",null,"IO:E,H","BC:E",null,null,null,null,null,null,null,null,null,null,null,null,null,null,"YA_5300_0086",null,0,"1500# RTJ",null,0,0,0,0,0,0,0,{"$f":"ROUNDUP($V87*FX!$G$2*CF!$B$3,0)","v":0},{"$f":"ROUNDUP($V87*FX!$G$10*CF!$B$4,0)","v":0},{"$f":"ROUNDUP($V87*FX!$G$35*CF!$B$5,0)","v":0},{"$f":"ROUNDUP($V87*FX!$G$3*CF!$B$6,0)","v":0},null,null,null,null,null,null,null,null,null,null,null,null,null,null,null,null,null,null,null,null,null,null,null,null,null,null,null,null,null,null,null,0,null,null,0,0,null,0,null,0,0,0,0,0,0,0,0,0,0,0]
[null,"MOD:Y53",null,"IO:F,I","BC:F",null,null,null,null,null,null,null,null,null,null,null,null,null,null,"YA_5300_0087",null,0,"2500# RTJ",null,0,0,0,0,0,0,0,{"$f":"ROUNDUP($V88*FX!$G$2*CF!$B$3,0)","v":0},{"$f":"ROUNDUP($V88*FX!$G$10*CF!$B$4,0)","v":0},{"$f":"ROUNDUP($V88*FX!$G$35*CF!$B$5,0)","v":0},{"$f":"ROUNDUP($V88*FX!$G$3*CF!$B$6,0)","v":0},null,null,null,null,null,null,null,null,null,null,null,null,null,null,null,null,null,null,null,null,null,null,null,null,null,null,null,null,null,null,null,0,null,null,0,0,null,0,null,0,0,0,0,0,0,0,0,0,0,0]
[null,"MOD:Y53",null,"VD:1",null,null,null,null,null,null,null,null,null,null,null,null,null,null,null,"YA_5300_0088",null,0,"Disc 1",null,0,0,0,0,0,0,0,{"$f":"ROUNDUP($V89*FX!$G$2*CF!$B$3,0)","v":0},{"$f":"ROUNDUP($V89*FX!$G$10*CF!$B$4,0)","v":0},{"$f":"ROUNDUP($V89*FX!$G$35*CF!$B$5,0)","v":0},{"$f":"ROUNDUP($V89*FX!$G$3*CF!$B$6,0)","v":0},null,null,null,null,null,null,null,null,null,null,null,null,null,null,null,null,null,null,null,null,null,null,null,null,null,null,null,null,null,null,null,0,null,null,0,0,null,0,null,0,0,0,0,0,0,0,0,0,0,0]
[null,"MOD:Y53",null,"VD:2",null,null,null,null,null,null,null,null,null,null,null,null,null,null,null,"YA_5300_0089",null,0,"Disc 2",null,0,0,0,0,0,0,0,{"$f":"ROUNDUP($V90*FX!$G$2*CF!$B$3,0)","v":0},{"$f":"ROUNDUP($V90*FX!$G$10*CF!$B$4,0)","v":0},{"$f":"ROUNDUP($V90*FX!$G$35*CF!$B$5,0)","v":0},{"$f":"ROUNDUP($V90*FX!$G$3*CF!$B$6,0)","v":0},null,null,null,null,null,null,null,null,null,null,null,null,null,null,null,null,null,null,null,null,null,null,null,null,null,null,null,null,null,null,null,0,null,null,0,0,null,0,null,0,0,0,0,0,0,0,0,0,0,0]
[null,"MOD:Y53",null,"VD:3",null,null,null,null,null,null,null,null,null,null,null,null,null,null,null,"YA_5300_0090",null,0,"Disc 3",null,0,0,0,0,0,0,0,{"$f":"ROUNDUP($V91*FX!$G$2*CF!$B$3,0)","v":0},{"$f":"ROUNDUP($V91*FX!$G$10*CF!$B$4,0)","v":0},{"$f":"ROUNDUP($V91*FX!$G$35*CF!$B$5,0)","v":0},{"$f":"ROUNDUP($V91*FX!$G$3*CF!$B$6,0)","v":0},null,null,null,null,null,null,null,null,null,null,null,null,null,null,null,null,null,null,null,null,null,null,null,null,null,null,null,null,null,null,null,0,null,null,0,0,null,0,null,0,0,0,0,0,0,0,0,0,0,0]
[null,"MOD:Y53",null,"VD:4",null,null,null,null,null,null,null,null,null,null,null,null,null,null,null,"YA_5300_0091",null,0,"Disc 4",null,0,0,0,0,0,0,0,{"$f":"ROUNDUP($V92*FX!$G$2*CF!$B$3,0)","v":0},{"$f":"ROUNDUP($V92*FX!$G$10*CF!$B$4,0)","v":0},{"$f":"ROUNDUP($V92*FX!$G$35*CF!$B$5,0)","v":0},{"$f":"ROUNDUP($V92*FX!$G$3*CF!$B$6,0)","v":0},null,null,null,null,null,null,null,null,null,null,null,null,null,null,null,null,null,null,null,null,null,null,null,null,null,null,null,null,null,null,null,0,null,null,0,0,null,0,null,0,0,0,0,0,0,0,0,0,0,0]
[null,"MOD:Y53",null,"TS:2",null,null,null,null,null,null,null,null,null,null,null,null,null,null,null,"YA_5300_0092",null,0,"2 Stage",null,0,0,0,0,0,0,0,{"$f":"ROUNDUP($V93*FX!$G$2*CF!$B$3,0)","v":0},{"$f":"ROUNDUP($V93*FX!$G$10*CF!$B$4,0)","v":0},{"$f":"ROUNDUP($V93*FX!$G$35*CF!$B$5,0)","v":0},{"$f":"ROUNDUP($V93*FX!$G$3*CF!$B$6,0)","v":0},null,null,null,null,null,null,null,null,null,null,null,null,null,null,null,null,null,null,null,null,null,null,null,null,null,null,null,null,null,null,null,0,null,null,0,0,null,0,null,0,0,0,0,0,0,0,0,0,0,0]
[null,"MOD:Y53",null,"TS:4",null,null,null,null,null,null,null,null,null,null,null,null,null,null,null,"YA_5300_0093",null,0,"4 Stage",null,0,0,0,0,0,0,0,{"$f":"ROUNDUP($V94*FX!$G$2*CF!$B$3,0)","v":0},{"$f":"ROUNDUP($V94*FX!$G$10*CF!$B$4,0)","v":0},{"$f":"ROUNDUP($V94*FX!$G$35*CF!$B$5,0)","v":0},{"$f":"ROUNDUP($V94*FX!$G$3*CF!$B$6,0)","v":0},null,null,null,null,null,null,null,null,null,null,null,null,null,null,null,null,null,null,null,null,null,null,null,null,null,null,null,null,null,null,null,0,null,null,0,0,null,0,null,0,0,0,0,0,0,0,0,0,0,0]
[null,"MOD:Y53",null,"SM:P","VS:B,C,D,E",null,null,null,null,null,null,null,null,null,null,null,null,null,null,"YA_5300_0094",null,0,"PTFE  (Af/Flz)STD",null,0,0,0,0,0,0,0,{"$f":"ROUNDUP($V95*FX!$G$2*CF!$B$3,0)","v":0},{"$f":"ROUNDUP($V95*FX!$G$10*CF!$B$4,0)","v":0},{"$f":"ROUNDUP($V95*FX!$G$35*CF!$B$5,0)","v":0},{"$f":"ROUNDUP($V95*FX!$G$3*CF!$B$6,0)","v":0},null,null,null,null,null,null,null,null,null,null,null,null,null,null,null,null,null,null,null,null,null,null,null,null,null,null,null,null,null,null,null,0,null,null,0,0,null,0,null,0,0,0,0,0,0,0,0,0,0,0]
[null,"MOD:Y53",null,"SM:E","VS:B",null,null,null,null,null,null,null,null,null,null,null,null,null,null,"YA_5300_0095",null,451,"EPDM",null,344,344,334,334,324,315,451,{"$f":"ROUNDUP($V96*FX!$G$2*CF!$B$3,0)","v":451},{"$f":"ROUNDUP($V96*FX!$G$10*CF!$B$4,0)","v":623},{"$f":"ROUNDUP($V96*FX!$G$35*CF!$B$5,0)","v":304},{"$f":"ROUNDUP($V96*FX!$G$3*CF!$B$6,0)","v":628},null,null,null,null,null,null,null,null,null,null,null,null,null,null,null,null,null,null,null,null,null,null,null,null,null,null,null,null,null,null,null,470,null,null,359.49,360,null,0,null,344.02,359,359,{"$f":"BY96+(BY96*$BZ$1)","v":373.36},373.36,374,408.78199999999998,408.78199999999998,409,432,451]
[null,"MOD:Y53",null,"SM:K","VS:B",null,null,null,null,null,null,null,null,null,null,null,null,null,null,"YA_5300_0096",null,964,"Kalrez",null,737,737,716,716,695,675,964,{"$f":"ROUNDUP($V97*FX!$G$2*CF!$B$3,0)","v":964},{"$f":"ROUNDUP($V97*FX!$G$10*CF!$B$4,0)","v":1330},{"$f":"ROUNDUP($V97*FX!$G$35*CF!$B$5,0)","v":648},{"$f":"ROUNDUP($V97*FX!$G$3*CF!$B$6,0)","v":1341},null,null,null,null,null,null,null,null,null,null,null,null,null,null,null,null,null,null,null,null,null,null,null,null,null,null,null,null,null,null,null,1005,null,null,768.99599999999998,769,null,0,null,737.48,769,769,799.76,799.76,800,874.4,874.4,875,924,964]
[null,"MOD:Y53",null,"SM:V","VS:B",null,null,null,null,null,null,null,null,null,null,null,null,null,null,"YA_5300_0097",null,645,"Viton","Soft Goods",492,492,478,478,464,450,645,{"$f":"ROUNDUP($V98*FX!$G$2*CF!$B$3,0)","v":645},{"$f":"ROUNDUP($V98*FX!$G$10*CF!$B$4,0)","v":890},{"$f":"ROUNDUP($V98*FX!$G$35*CF!$B$5,0)","v":434},{"$f":"ROUNDUP($V98*FX!$G$3*CF!$B$6,0)","v":897},null,null,null,null,null,null,null,null,null,null,null,null,null,null,null,null,null,null,null,null,null,null,null,null,null,null,null,null,null,null,null,673,null,null,513.70600000000002,514,null,0,null,492.34000000000003,514,514,534.55999999999995,534.55999999999995,535,584.755,584.755,585,618,645]
[null,"MOD:Y53",null,"VS:B","VD:1","OR:V","MCV:0085V",null,null,null,null,null,null,null,null,null,null,null,null,"YA_5300_0106",null,0,"85 Main Cv",null,0,0,0,0,0,0,0,{"$f":"ROUNDUP($V99*FX!$G$2*CF!$B$3,0)","v":0},{"$f":"ROUNDUP($V99*FX!$G$10*CF!$B$4,0)","v":0},{"$f":"ROUNDUP($V99*FX!$G$35*CF!$B$5,0)","v":0},{"$f":"ROUNDUP($V99*FX!$G$3*CF!$B$6,0)","v":0},null,null,null,null,null,null,null,null,null,null,null,null,null,null,null,null,null,null,null,null,null,null,null,null,null,null,null,null,null,null,null,0,null,null,0,0,null,0,null,0,0,0,0,0,0,0,0,0,0,0]
[null,"MOD:Y53",null,"VS:B","VD:2","OR:V","MCV:0110V",null,null,null,null,null,null,null,null,null,null,null,null,"YA_5300_0107",null,0,"110 Main Cv Vert",null,0,0,0,0,0,0,0,{"$f":"ROUNDUP($V100*FX!$G$2*CF!$B$3,0)","v":0},{"$f":"ROUNDUP($V100*FX!$G$10*CF!$B$4,0)","v":0},{"$f":"ROUNDUP($V100*FX!$G$35*CF!$B$5,0)","v":0},{"$f":"ROUNDUP($V100*FX!$G$3*CF!$B$6,0)","v":0},null,null,null,null,null,null,null,null,null,null,null,null,null,null,null,null,null,null,null,null,null,null,null,null,null,null,null,null,null,null,null,0,null,null,0,0,null,0,null,0,0,0,0,0,0,0,0,0,0,0]
[null,"MOD:Y53",null,"VS:B","VD:3","OR:V","MCV:0100V",null,null,null,null,null,null,null,null,null,null,null,null,"YA_5300_0108",null,0,"100 Main Cv",null,0,0,0,0,0,0,0,{"$f":"ROUNDUP($V101*FX!$G$2*CF!$B$3,0)","v":0},{"$f":"ROUNDUP($V101*FX!$G$10*CF!$B$4,0)","v":0},{"$f":"ROUNDUP($V101*FX!$G$35*CF!$B$5,0)","v":0},{"$f":"ROUNDUP($V101*FX!$G$3*CF!$B$6,0)","v":0},null,null,null,null,null,null,null,null,null,null,null,null,null,null,null,null,null,null,null,null,null,null,null,null,null,null,null,null,null,null,null,0,null,null,0,0,null,0,null,0,0,0,0,0,0,0,0,0,0,0]
[null,"MOD:Y53",null,"VS:B","VD:4","OR:V","MCV:0120V",null,null,null,null,null,null,null,null,null,null,null,null,"YA_5300_0109",null,0,"120 Main Cv",null,0,0,0,0,0,0,0,{"$f":"ROUNDUP($V102*FX!$G$2*CF!$B$3,0)","v":0},{"$f":"ROUNDUP($V102*FX!$G$10*CF!$B$4,0)","v":0},{"$f":"ROUNDUP($V102*FX!$G$35*CF!$B$5,0)","v":0},{"$f":"ROUNDUP($V102*FX!$G$3*CF!$B$6,0)","v":0},null,null,null,null,null,null,null,null,null,null,null,null,null,null,null,null,null,null,null,null,null,null,null,null,null,null,null,null,null,null,null,0,null,null,0,0,null,0,null,0,0,0,0,0,0,0,0,0,0,0]
[null,"MOD:Y53",null,"VS:C","VD:1","OR:V","MCV:0160V",null,null,null,null,null,null,null,null,null,null,null,null,"YA_5300_0110",null,0,"160 Main Cv",null,0,0,0,0,0,0,0,{"$f":"ROUNDUP($V103*FX!$G$2*CF!$B$3,0)","v":0},{"$f":"ROUNDUP($V103*FX!$G$10*CF!$B$4,0)","v":0},{"$f":"ROUNDUP($V103*FX!$G$35*CF!$B$5,0)","v":0},{"$f":"ROUNDUP($V103*FX!$G$3*CF!$B$6,0)","v":0},null,null,null,null,null,null,null,null,null,null,null,null,null,null,null,null,null,null,null,null,null,null,null,null,null,null,null,null,null,null,null,0,null,null,0,0,null,0,null,0,0,0,0,0,0,0,0,0,0,0]
[null,"MOD:Y53",null,"VS:C","VD:2","OR:V","MCV:0165V",null,null,null,null,null,null,null,null,null,null,null,null,"YA_5300_0111",null,0,"165 Main Cv",null,0,0,0,0,0,0,0,{"$f":"ROUNDUP($V104*FX!$G$2*CF!$B$3,0)","v":0},{"$f":"ROUNDUP($V104*FX!$G$10*CF!$B$4,0)","v":0},{"$f":"ROUNDUP($V104*FX!$G$35*CF!$B$5,0)","v":0},{"$f":"ROUNDUP($V104*FX!$G$3*CF!$B$6,0)","v":0},null,null,null,null,null,null,null,null,null,null,null,null,null,null,null,null,null,null,null,null,null,null,null,null,null,null,null,null,null,null,null,0,null,null,0,0,null,0,null,0,0,0,0,0,0,0,0,0,0,0]
[null,"MOD:Y53",null,"VS:C","VD:3","OR:V","MCV:0215V",null,null,null,null,null,null,null,null,null,null,null,null,"YA_5300_0112",null,0,"215 Main Cv",null,0,0,0,0,0,0,0,{"$f":"ROUNDUP($V105*FX!$G$2*CF!$B$3,0)","v":0},{"$f":"ROUNDUP($V105*FX!$G$10*CF!$B$4,0)","v":0},{"$f":"ROUNDUP($V105*FX!$G$35*CF!$B$5,0)","v":0},{"$f":"ROUNDUP($V105*FX!$G$3*CF!$B$6,0)","v":0},null,null,null,null,null,null,null,null,null,null,null,null,null,null,null,null,null,null,null,null,null,null,null,null,null,null,null,null,null,null,null,0,null,null,0,0,null,0,null,0,0,0,0,0,0,0,0,0,0,0]
[null,"MOD:Y53",null,"VS:C","VD:4","OR:V","MCV:0255V",null,null,null,null,null,null,null,null,null,null,null,null,"YA_5300_0113",null,0,"255 Main Cv",null,0,0,0,0,0,0,0,{"$f":"ROUNDUP($V106*FX!$G$2*CF!$B$3,0)","v":0},{"$f":"ROUNDUP($V106*FX!$G$10*CF!$B$4,0)","v":0},{"$f":"ROUNDUP($V106*FX!$G$35*CF!$B$5,0)","v":0},{"$f":"ROUNDUP($V106*FX!$G$3*CF!$B$6,0)","v":0},null,null,null,null,null,null,null,null,null,null,null,null,null,null,null,null,null,null,null,null,null,null,null,null,null,null,null,null,null,null,null,0,null,null,0,0,null,0,null,0,0,0,0,0,0,0,0,0,0,0]
[null,"MOD:Y53",null,"VS:D","VD:1","OR:V","MCV:0385V",null,null,null,null,null,null,null,null,null,null,null,null,"YA_5300_0114",null,0,"385 Main Cv",null,0,0,0,0,0,0,0,{"$f":"ROUNDUP($V107*FX!$G$2*CF!$B$3,0)","v":0},{"$f":"ROUNDUP($V107*FX!$G$10*CF!$B$4,0)","v":0},{"$f":"ROUNDUP($V107*FX!$G$35*CF!$B$5,0)","v":0},{"$f":"ROUNDUP($V107*FX!$G$3*CF!$B$6,0)","v":0},null,null,null,null,null,null,null,null,null,null,null,null,null,null,null,null,null,null,null,null,null,null,null,null,null,null,null,null,null,null,null,0,null,null,0,0,null,0,null,0,0,0,0,0,0,0,0,0,0,0]
[null,"MOD:Y53",null,"VS:D","VD:2","OR:V","MCV:0405V",null,null,null,null,null,null,null,null,null,null,null,null,"YA_5300_0115",null,0,"405 Main Cv",null,0,0,0,0,0,0,0,{"$f":"ROUNDUP($V108*FX!$G$2*CF!$B$3,0)","v":0},{"$f":"ROUNDUP($V108*FX!$G$10*CF!$B$4,0)","v":0},{"$f":"ROUNDUP($V108*FX!$G$35*CF!$B$5,0)","v":0},{"$f":"ROUNDUP($V108*FX!$G$3*CF!$B$6,0)","v":0},null,null,null,null,null,null,null,null,null,null,null,null,null,null,null,null,null,null,null,null,null,null,null,null,null,null,null,null,null,null,null,0,null,null,0,0,null,0,null,0,0,0,0,0,0,0,0,0,0,0]
[null,"MOD:Y53",null,"VS:D","VD:3","OR:V","MCV:0520V",null,null,null,null,null,null,null,null,null,null,null,null,"YA_5300_0116",null,0,"520 Main Cv",null,0,0,0,0,0,0,0,{"$f":"ROUNDUP($V109*FX!$G$2*CF!$B$3,0)","v":0},{"$f":"ROUNDUP($V109*FX!$G$10*CF!$B$4,0)","v":0},{"$f":"ROUNDUP($V109*FX!$G$35*CF!$B$5,0)","v":0},{"$f":"ROUNDUP($V109*FX!$G$3*CF!$B$6,0)","v":0},null,null,null,null,null,null,null,null,null,null,null,null,null,null,null,null,null,null,null,null,null,null,null,null,null,null,null,null,null,null,null,0,null,null,0,0,null,0,null,0,0,0,0,0,0,0,0,0,0,0]
[null,"MOD:Y53",null,"VS:D","VD:4","OR:V","MCV:0600V",null,null,null,null,null,null,null,null,null,null,null,null,"YA_5300_0117",null,0,"600 Main Cv",null,0,0,0,0,0,0,0,{"$f":"ROUNDUP($V110*FX!$G$2*CF!$B$3,0)","v":0},{"$f":"ROUNDUP($V110*FX!$G$10*CF!$B$4,0)","v":0},{"$f":"ROUNDUP($V110*FX!$G$35*CF!$B$5,0)","v":0},{"$f":"ROUNDUP($V110*FX!$G$3*CF!$B$6,0)","v":0},null,null,null,null,null,null,null,null,null,null,null,null,null,null,null,null,null,null,null,null,null,null,null,null,null,null,null,null,null,null,null,0,null,null,0,0,null,0,null,0,0,0,0,0,0,0,0,0,0,0]
[null,"MOD:Y53",null,"VS:E","VD:1","OR:V","MCV:0635V",null,null,null,null,null,null,null,null,null,null,null,null,"YA_5300_0118",null,0,"635 Main Cv",null,0,0,0,0,0,0,0,{"$f":"ROUNDUP($V111*FX!$G$2*CF!$B$3,0)","v":0},{"$f":"ROUNDUP($V111*FX!$G$10*CF!$B$4,0)","v":0},{"$f":"ROUNDUP($V111*FX!$G$35*CF!$B$5,0)","v":0},{"$f":"ROUNDUP($V111*FX!$G$3*CF!$B$6,0)","v":0},null,null,null,null,null,null,null,null,null,null,null,null,null,null,null,null,null,null,null,null,null,null,null,null,null,null,null,null,null,null,null,0,null,null,0,0,null,0,null,0,0,0,0,0,0,0,0,0,0,0]
[null,"MOD:Y53",null,"VS:E","VD:2","OR:V","MCV:0670V",null,null,null,null,null,null,null,null,null,null,null,null,"YA_5300_0119",null,0,"670 Main Cv",null,0,0,0,0,0,0,0,{"$f":"ROUNDUP($V112*FX!$G$2*CF!$B$3,0)","v":0},{"$f":"ROUNDUP($V112*FX!$G$10*CF!$B$4,0)","v":0},{"$f":"ROUNDUP($V112*FX!$G$35*CF!$B$5,0)","v":0},{"$f":"ROUNDUP($V112*FX!$G$3*CF!$B$6,0)","v":0},null,null,null,null,null,null,null,null,null,null,null,null,null,null,null,null,null,null,null,null,null,null,null,null,null,null,null,null,null,null,null,0,null,null,0,0,null,0,null,0,0,0,0,0,0,0,0,0,0,0]
[null,"MOD:Y53",null,"VS:E","VD:3","OR:V","MCV:0735V",null,null,null,null,null,null,null,null,null,null,null,null,"YA_5300_0120",null,0,"735 Main Cv",null,0,0,0,0,0,0,0,{"$f":"ROUNDUP($V113*FX!$G$2*CF!$B$3,0)","v":0},{"$f":"ROUNDUP($V113*FX!$G$10*CF!$B$4,0)","v":0},{"$f":"ROUNDUP($V113*FX!$G$35*CF!$B$5,0)","v":0},{"$f":"ROUNDUP($V113*FX!$G$3*CF!$B$6,0)","v":0},null,null,null,null,null,null,null,null,null,null,null,null,null,null,null,null,null,null,null,null,null,null,null,null,null,null,null,null,null,null,null,0,null,null,0,0,null,0,null,0,0,0,0,0,0,0,0,0,0,0]
[null,"MOD:Y53",null,"VS:E","VD:4","OR:V","MCV:0980V",null,null,null,null,null,null,null,null,null,null,null,null,"YA_5300_0121",null,0,"980 Main Cv",null,0,0,0,0,0,0,0,{"$f":"ROUNDUP($V114*FX!$G$2*CF!$B$3,0)","v":0},{"$f":"ROUNDUP($V114*FX!$G$10*CF!$B$4,0)","v":0},{"$f":"ROUNDUP($V114*FX!$G$35*CF!$B$5,0)","v":0},{"$f":"ROUNDUP($V114*FX!$G$3*CF!$B$6,0)","v":0},null,null,null,null,null,null,null,null,null,null,null,null,null,null,null,null,null,null,null,null,null,null,null,null,null,null,null,null,null,null,null,0,null,null,0,0,null,0,null,0,0,0,0,0,0,0,0,0,0,0]
[null,"MOD:Y53",null,"VS:B","VD:1","OR:H","MCV:0078H",null,null,null,null,null,null,null,null,null,null,null,null,"YA_5300_0122",null,0,"78 Main Cv",null,0,0,0,0,0,0,0,{"$f":"ROUNDUP($V115*FX!$G$2*CF!$B$3,0)","v":0},{"$f":"ROUNDUP($V115*FX!$G$10*CF!$B$4,0)","v":0},{"$f":"ROUNDUP($V115*FX!$G$35*CF!$B$5,0)","v":0},{"$f":"ROUNDUP($V115*FX!$G$3*CF!$B$6,0)","v":0},null,null,null,null,null,null,null,null,null,null,null,null,null,null,null,null,null,null,null,null,null,null,null,null,null,null,null,null,null,null,null,0,null,null,0,0,null,0,null,0,0,0,0,0,0,0,0,0,0,0]
[null,"MOD:Y53",null,"VS:B","VD:2","OR:H","MCV:0099H",null,null,null,null,null,null,null,null,null,null,null,null,"YA_5300_0123",null,0,"99 Main Cv",null,0,0,0,0,0,0,0,{"$f":"ROUNDUP($V116*FX!$G$2*CF!$B$3,0)","v":0},{"$f":"ROUNDUP($V116*FX!$G$10*CF!$B$4,0)","v":0},{"$f":"ROUNDUP($V116*FX!$G$35*CF!$B$5,0)","v":0},{"$f":"ROUNDUP($V116*FX!$G$3*CF!$B$6,0)","v":0},null,null,null,null,null,null,null,null,null,null,null,null,null,null,null,null,null,null,null,null,null,null,null,null,null,null,null,null,null,null,null,0,null,null,0,0,null,0,null,0,0,0,0,0,0,0,0,0,0,0]
[null,"MOD:Y53",null,"VS:B","VD:3","OR:H","MCV:0092H",null,null,null,null,null,null,null,null,null,null,null,null,"YA_5300_0124",null,0,"92 Main Cv",null,0,0,0,0,0,0,0,{"$f":"ROUNDUP($V117*FX!$G$2*CF!$B$3,0)","v":0},{"$f":"ROUNDUP($V117*FX!$G$10*CF!$B$4,0)","v":0},{"$f":"ROUNDUP($V117*FX!$G$35*CF!$B$5,0)","v":0},{"$f":"ROUNDUP($V117*FX!$G$3*CF!$B$6,0)","v":0},null,null,null,null,null,null,null,null,null,null,null,null,null,null,null,null,null,null,null,null,null,null,null,null,null,null,null,null,null,null,null,0,null,null,0,0,null,0,null,0,0,0,0,0,0,0,0,0,0,0]
[null,"MOD:Y53",null,"VS:B","VD:4","OR:H","MCV:0110H",null,null,null,null,null,null,null,null,null,null,null,null,"YA_5300_0125",null,0,"110 Main Cv Horiz",null,0,0,0,0,0,0,0,{"$f":"ROUNDUP($V118*FX!$G$2*CF!$B$3,0)","v":0},{"$f":"ROUNDUP($V118*FX!$G$10*CF!$B$4,0)","v":0},{"$f":"ROUNDUP($V118*FX!$G$35*CF!$B$5,0)","v":0},{"$f":"ROUNDUP($V118*FX!$G$3*CF!$B$6,0)","v":0},null,null,null,null,null,null,null,null,null,null,null,null,null,null,null,null,null,null,null,null,null,null,null,null,null,null,null,null,null,null,null,0,null,null,0,0,null,0,null,0,0,0,0,0,0,0,0,0,0,0]
[null,"MOD:Y53",null,"VS:C","VD:1","OR:H","MCV:0144H",null,null,null,null,null,null,null,null,null,null,null,null,"YA_5300_0126",null,0,"144 Main Cv",null,0,0,0,0,0,0,0,{"$f":"ROUNDUP($V119*FX!$G$2*CF!$B$3,0)","v":0},{"$f":"ROUNDUP($V119*FX!$G$10*CF!$B$4,0)","v":0},{"$f":"ROUNDUP($V119*FX!$G$35*CF!$B$5,0)","v":0},{"$f":"ROUNDUP($V119*FX!$G$3*CF!$B$6,0)","v":0},null,null,null,null,null,null,null,null,null,null,null,null,null,null,null,null,null,null,null,null,null,null,null,null,null,null,null,null,null,null,null,0,null,null,0,0,null,0,null,0,0,0,0,0,0,0,0,0,0,0]
[null,"MOD:Y53",null,"VS:C","VD:2","OR:H","MCV:0149H",null,null,null,null,null,null,null,null,null,null,null,null,"YA_5300_0127",null,0,"149 Main Cv",null,0,0,0,0,0,0,0,{"$f":"ROUNDUP($V120*FX!$G$2*CF!$B$3,0)","v":0},{"$f":"ROUNDUP($V120*FX!$G$10*CF!$B$4,0)","v":0},{"$f":"ROUNDUP($V120*FX!$G$35*CF!$B$5,0)","v":0},{"$f":"ROUNDUP($V120*FX!$G$3*CF!$B$6,0)","v":0},null,null,null,null,null,null,null,null,null,null,null,null,null,null,null,null,null,null,null,null,null,null,null,null,null,null,null,null,null,null,null,0,null,null,0,0,null,0,null,0,0,0,0,0,0,0,0,0,0,0]
[null,"MOD:Y53",null,"VS:C","VD:3","OR:H","MCV:0196H",null,null,null,null,null,null,null,null,null,null,null,null,"YA_5300_0128",null,0,"196 Main Cv",null,0,0,0,0,0,0,0,{"$f":"ROUNDUP($V121*FX!$G$2*CF!$B$3,0)","v":0},{"$f":"ROUNDUP($V121*FX!$G$10*CF!$B$4,0)","v":0},{"$f":"ROUNDUP($V121*FX!$G$35*CF!$B$5,0)","v":0},{"$f":"ROUNDUP($V121*FX!$G$3*CF!$B$6,0)","v":0},null,null,null,null,null,null,null,null,null,null,null,null,null,null,null,null,null,null,null,null,null,null,null,null,null,null,null,null,null,null,null,0,null,null,0,0,null,0,null,0,0,0,0,0,0,0,0,0,0,0]
[null,"MOD:Y53",null,"VS:C","VD:4","OR:H","MCV:0241H",null,null,null,null,null,null,null,null,null,null,null,null,"YA_5300_0129",null,0,"241 Main Cv",null,0,0,0,0,0,0,0,{"$f":"ROUNDUP($V122*FX!$G$2*CF!$B$3,0)","v":0},{"$f":"ROUNDUP($V122*FX!$G$10*CF!$B$4,0)","v":0},{"$f":"ROUNDUP($V122*FX!$G$35*CF!$B$5,0)","v":0},{"$f":"ROUNDUP($V122*FX!$G$3*CF!$B$6,0)","v":0},null,null,null,null,null,null,null,null,null,null,null,null,null,null,null,null,null,null,null,null,null,null,null,null,null,null,null,null,null,null,null,0,null,null,0,0,null,0,null,0,0,0,0,0,0,0,0,0,0,0]
[null,"MOD:Y53",null,"VS:D","VD:1","OR:H","MCV:0346H",null,null,null,null,null,null,null,null,null,null,null,null,"YA_5300_0130",null,0,"346 Main Cv",null,0,0,0,0,0,0,0,{"$f":"ROUNDUP($V123*FX!$G$2*CF!$B$3,0)","v":0},{"$f":"ROUNDUP($V123*FX!$G$10*CF!$B$4,0)","v":0},{"$f":"ROUNDUP($V123*FX!$G$35*CF!$B$5,0)","v":0},{"$f":"ROUNDUP($V123*FX!$G$3*CF!$B$6,0)","v":0},null,null,null,null,null,null,null,null,null,null,null,null,null,null,null,null,null,null,null,null,null,null,null,null,null,null,null,null,null,null,null,0,null,null,0,0,null,0,null,0,0,0,0,0,0,0,0,0,0,0]
[null,"MOD:Y53",null,"VS:D","VD:2","OR:H","MCV:0369H",null,null,null,null,null,null,null,null,null,null,null,null,"YA_5300_0131",null,0,"369 Main Cv",null,0,0,0,0,0,0,0,{"$f":"ROUNDUP($V124*FX!$G$2*CF!$B$3,0)","v":0},{"$f":"ROUNDUP($V124*FX!$G$10*CF!$B$4,0)","v":0},{"$f":"ROUNDUP($V124*FX!$G$35*CF!$B$5,0)","v":0},{"$f":"ROUNDUP($V124*FX!$G$3*CF!$B$6,0)","v":0},null,null,null,null,null,null,null,null,null,null,null,null,null,null,null,null,null,null,null,null,null,null,null,null,null,null,null,null,null,null,null,0,null,null,0,0,null,0,null,0,0,0,0,0,0,0,0,0,0,0]
[null,"MOD:Y53",null,"VS:D","VD:3","OR:H","MCV:0468H",null,null,null,null,null,null,null,null,null,null,null,null,"YA_5300_0132",null,0,"468 Main Cv",null,0,0,0,0,0,0,0,{"$f":"ROUNDUP($V125*FX!$G$2*CF!$B$3,0)","v":0},{"$f":"ROUNDUP($V125*FX!$G$10*CF!$B$4,0)","v":0},{"$f":"ROUNDUP($V125*FX!$G$35*CF!$B$5,0)","v":0},{"$f":"ROUNDUP($V125*FX!$G$3*CF!$B$6,0)","v":0},null,null,null,null,null,null,null,null,null,null,null,null,null,null,null,null,null,null,null,null,null,null,null,null,null,null,null,null,null,null,null,0,null,null,0,0,null,0,null,0,0,0,0,0,0,0,0,0,0,0]
[null,"MOD:Y53",null,"VS:D","VD:4","OR:H","MCV:0540H",null,null,null,null,null,null,null,null,null,null,null,null,"YA_5300_0133",null,0,"540 Main Cv",null,0,0,0,0,0,0,0,{"$f":"ROUNDUP($V126*FX!$G$2*CF!$B$3,0)","v":0},{"$f":"ROUNDUP($V126*FX!$G$10*CF!$B$4,0)","v":0},{"$f":"ROUNDUP($V126*FX!$G$35*CF!$B$5,0)","v":0},{"$f":"ROUNDUP($V126*FX!$G$3*CF!$B$6,0)","v":0},null,null,null,null,null,null,null,null,null,null,null,null,null,null,null,null,null,null,null,null,null,null,null,null,null,null,null,null,null,null,null,0,null,null,0,0,null,0,null,0,0,0,0,0,0,0,0,0,0,0]
[null,"MOD:Y53",null,"VS:E","VD:1","OR:H","MCV:0566H",null,null,null,null,null,null,null,null,null,null,null,null,"YA_5300_0134",null,0,"566 Main Cv",null,0,0,0,0,0,0,0,{"$f":"ROUNDUP($V127*FX!$G$2*CF!$B$3,0)","v":0},{"$f":"ROUNDUP($V127*FX!$G$10*CF!$B$4,0)","v":0},{"$f":"ROUNDUP($V127*FX!$G$35*CF!$B$5,0)","v":0},{"$f":"ROUNDUP($V127*FX!$G$3*CF!$B$6,0)","v":0},null,null,null,null,null,null,null,null,null,null,null,null,null,null,null,null,null,null,null,null,null,null,null,null,null,null,null,null,null,null,null,0,null,null,0,0,null,0,null,0,0,0,0,0,0,0,0,0,0,0]
[null,"MOD:Y53",null,"VS:E","VD:2","OR:H","MCV:0599H",null,null,null,null,null,null,null,null,null,null,null,null,"YA_5300_0135",null,0,"599 Main Cv",null,0,0,0,0,0,0,0,{"$f":"ROUNDUP($V128*FX!$G$2*CF!$B$3,0)","v":0},{"$f":"ROUNDUP($V128*FX!$G$10*CF!$B$4,0)","v":0},{"$f":"ROUNDUP($V128*FX!$G$35*CF!$B$5,0)","v":0},{"$f":"ROUNDUP($V128*FX!$G$3*CF!$B$6,0)","v":0},null,null,null,null,null,null,null,null,null,null,null,null,null,null,null,null,null,null,null,null,null,null,null,null,null,null,null,null,null,null,null,0,null,null,0,0,null,0,null,0,0,0,0,0,0,0,0,0,0,0]
[null,"MOD:Y53",null,"VS:E","VD:3","OR:H","MCV:0661H",null,null,null,null,null,null,null,null,null,null,null,null,"YA_5300_0136",null,0,"661 Main Cv",null,0,0,0,0,0,0,0,{"$f":"ROUNDUP($V129*FX!$G$2*CF!$B$3,0)","v":0},{"$f":"ROUNDUP($V129*FX!$G$10*CF!$B$4,0)","v":0},{"$f":"ROUNDUP($V129*FX!$G$35*CF!$B$5,0)","v":0},{"$f":"ROUNDUP($V129*FX!$G$3*CF!$B$6,0)","v":0},null,null,null,null,null,null,null,null,null,null,null,null,null,null,null,null,null,null,null,null,null,null,null,null,null,null,null,null,null,null,null,0,null,null,0,0,null,0,null,0,0,0,0,0,0,0,0,0,0,0]
[null,"MOD:Y53",null,"VS:E","VD:4","OR:H","MCV:0882H",null,null,null,null,null,null,null,null,null,null,null,null,"YA_5300_0137",null,{"$f":"AE130","v":0},"882 Main Cv",null,0,0,0,0,0,0,0,{"$f":"ROUNDUP($V130*FX!$G$2*CF!$B$3,0)","v":0},{"$f":"ROUNDUP($V130*FX!$G$10*CF!$B$4,0)","v":0},{"$f":"ROUNDUP($V130*FX!$G$35*CF!$B$5,0)","v":0},{"$f":"ROUNDUP($V130*FX!$G$3*CF!$B$6,0)","v":0},null,null,null,null,null,null,null,null,null,null,null,null,null,null,null,null,null,null,null,null,null,null,null,null,null,null,null,null,null,null,null,0,null,null,0,0,null,0,null,0,0,{"$f":"ROUNDUP(BX130,0)","v":0},0,0,0,0,0,0,{"$f":"IF(CE130=\"POA\",\"POA\", ROUNDUP(CE130*1.055,0))","v":0},0]
[null,"MOD:Y53",null,"VS:B","TS:4","BM:0","BCV:0018",null,null,null,null,null,null,null,null,null,null,null,null,"YA_5300_0138",null,0,"0.4 - 1.8 BCv Rg",null,{"$f":"IFERROR(Z131*1,\"POA\")","v":0},0,0,0,0,0,{"$f":"CG131","v":0},{"$f":"ROUNDUP($V131*FX!$G$2*CF!$B$3,0)","v":0},{"$f":"ROUNDUP($V131*FX!$G$10*CF!$B$4,0)","v":0},{"$f":"ROUNDUP($V131*FX!$G$35*CF!$B$5,0)","v":0},{"$f":"ROUNDUP($V131*FX!$G$3*CF!$B$6,0)","v":0},null,null,null,null,null,null,null,null,null,null,null,null,null,null,null,null,null,null,null,null,null,null,null,null,null,null,null,null,null,null,null,{"$f":"ROUNDUP(($AE131+($AE131*$BO$1)),0)","v":0},null,null,0,0,null,{"$f":"ROUNDUP(BT131,0)","v":0},null,0,0,0,0,0,{"$f":"ROUNDUP(CA131,0)","v":0},{"$f":"CB131+(CB131*$CC$1)","v":0},0,0,0,{"$f":"IF(CF131=\"POA\",\"POA\", ROUNDUP(CF131*1.043,0))","v":0}]
[null,"MOD:Y53",null,"VS:B","TS:2","BCV:0032",null,null,null,null,null,null,null,null,null,null,null,null,null,"YA_5300_0139",null,0,"0.6 - 3.2 BCv Rg",null,0,0,0,0,0,0,0,{"$f":"ROUNDUP($V132*FX!$G$2*CF!$B$3,0)","v":0},{"$f":"ROUNDUP($V132*FX!$G$10*CF!$B$4,0)","v":0},{"$f":"ROUNDUP($V132*FX!$G$35*CF!$B$5,0)","v":0},{"$f":"ROUNDUP($V132*FX!$G$3*CF!$B$6,0)","v":0},null,null,null,null,null,null,null,null,null,null,null,null,null,null,null,null,null,null,null,null,null,null,null,null,null,null,null,null,null,null,null,0,null,null,0,0,null,0,null,0,0,0,0,0,0,0,0,0,0,0]
[null,"MOD:Y53",null,"VS:C","TS:4","BCV:0044",null,null,null,null,null,null,null,null,null,null,null,null,null,"YA_5300_0140",null,0,"0.85 - 4.4 BCv Rg",null,0,0,0,0,0,0,0,{"$f":"ROUNDUP($V133*FX!$G$2*CF!$B$3,0)","v":0},{"$f":"ROUNDUP($V133*FX!$G$10*CF!$B$4,0)","v":0},{"$f":"ROUNDUP($V133*FX!$G$35*CF!$B$5,0)","v":0},{"$f":"ROUNDUP($V133*FX!$G$3*CF!$B$6,0)","v":0},null,null,null,null,null,null,null,null,null,null,null,null,null,null,null,null,null,null,null,null,null,null,null,null,null,null,null,null,null,null,null,0,null,null,0,0,null,0,null,0,0,0,0,0,0,0,0,0,0,0]
[null,"MOD:Y53",null,"VS:C","TS:2","BCV:0058",null,null,null,null,null,null,null,null,null,null,null,null,null,"YA_5300_0141",null,0,"1.3 - 5.8 BCv Rg",null,0,0,0,0,0,0,0,{"$f":"ROUNDUP($V134*FX!$G$2*CF!$B$3,0)","v":0},{"$f":"ROUNDUP($V134*FX!$G$10*CF!$B$4,0)","v":0},{"$f":"ROUNDUP($V134*FX!$G$35*CF!$B$5,0)","v":0},{"$f":"ROUNDUP($V134*FX!$G$3*CF!$B$6,0)","v":0},null,null,null,null,null,null,null,null,null,null,null,null,null,null,null,null,null,null,null,null,null,null,null,null,null,null,null,null,null,null,null,0,null,null,0,0,null,0,null,0,0,0,0,0,0,0,0,0,0,0]
[null,"MOD:Y53",null,"VS:D","TS:4","BCV:0090",null,null,null,null,null,null,null,null,null,null,null,null,null,"YA_5300_0142",null,0,"1.75 - 9 BCv Rg",null,0,0,0,0,0,0,0,{"$f":"ROUNDUP($V135*FX!$G$2*CF!$B$3,0)","v":0},{"$f":"ROUNDUP($V135*FX!$G$10*CF!$B$4,0)","v":0},{"$f":"ROUNDUP($V135*FX!$G$35*CF!$B$5,0)","v":0},{"$f":"ROUNDUP($V135*FX!$G$3*CF!$B$6,0)","v":0},null,null,null,null,null,null,null,null,null,null,null,null,null,null,null,null,null,null,null,null,null,null,null,null,null,null,null,null,null,null,null,0,null,null,0,0,null,0,null,0,0,0,0,0,0,0,0,0,0,0]
[null,"MOD:Y53",null,"VS:D","TS:2","BM:0","BCV:0150",null,null,null,null,null,null,null,null,null,null,null,null,"YA_5300_0143",null,0,"3 - 15 BCv Rg",null,0,0,0,0,0,0,0,{"$f":"ROUNDUP($V136*FX!$G$2*CF!$B$3,0)","v":0},{"$f":"ROUNDUP($V136*FX!$G$10*CF!$B$4,0)","v":0},{"$f":"ROUNDUP($V136*FX!$G$35*CF!$B$5,0)","v":0},{"$f":"ROUNDUP($V136*FX!$G$3*CF!$B$6,0)","v":0},null,null,null,null,null,null,null,null,null,null,null,null,null,null,null,null,null,null,null,null,null,null,null,null,null,null,null,null,null,null,null,0,null,null,0,0,null,0,null,0,0,0,0,0,0,0,0,0,0,0]
[null,"MOD:Y53",null,"VS:E","TS:4","BM:0","BCV:0188",null,null,null,null,null,null,null,null,null,null,null,null,"YA_5300_0144",null,0,"3.7 - 18.8 BCv Rg",null,0,0,0,0,0,0,0,{"$f":"ROUNDUP($V137*FX!$G$2*CF!$B$3,0)","v":0},{"$f":"ROUNDUP($V137*FX!$G$10*CF!$B$4,0)","v":0},{"$f":"ROUNDUP($V137*FX!$G$35*CF!$B$5,0)","v":0},{"$f":"ROUNDUP($V137*FX!$G$3*CF!$B$6,0)","v":0},null,null,null,null,null,null,null,null,null,null,null,null,null,null,null,null,null,null,null,null,null,null,null,null,null,null,null,null,null,null,null,0,null,null,0,0,null,0,null,0,0,0,0,0,0,0,0,0,0,0]
[null,"MOD:Y53",null,"VS:E","BCV:0248",null,null,null,null,null,null,null,null,null,null,null,null,null,null,"YA_5300_0145",null,0,"5 - 24.8 BCv Rg",null,0,{"$f":"ROUND(IFERROR(AA138*1.03,\"POA\"),0)","v":0},0,0,0,0,0,{"$f":"ROUNDUP($V138*FX!$G$2*CF!$B$3,0)","v":0},{"$f":"ROUNDUP($V138*FX!$G$10*CF!$B$4,0)","v":0},{"$f":"ROUNDUP($V138*FX!$G$35*CF!$B$5,0)","v":0},{"$f":"ROUNDUP($V138*FX!$G$3*CF!$B$6,0)","v":0},null,null,null,null,null,null,null,null,null,null,null,null,null,null,null,null,null,null,null,null,null,null,null,null,null,null,null,null,null,null,null,0,null,null,0,{"$f":"ROUNDUP(BR138,0)","v":0},null,0,null,0,{"$f":"ROUNDUP(($BW138+($BX$1*$BW138)),0)","v":0},0,0,0,0,0,0,{"$f":"ROUNDUP(CD138,0)","v":0},0,0]
[null,"MOD:Y53",null,"NC:N",null,null,null,null,null,null,null,null,null,null,null,null,null,null,null,"YA_5300_0146",null,0,"NACE not req(STD)",null,0,0,0,0,0,0,0,{"$f":"ROUNDUP($V139*FX!$G$2*CF!$B$3,0)","v":0},{"$f":"ROUNDUP($V139*FX!$G$10*CF!$B$4,0)","v":0},{"$f":"ROUNDUP($V139*FX!$G$35*CF!$B$5,0)","v":0},{"$f":"ROUNDUP($V139*FX!$G$3*CF!$B$6,0)","v":0},null,null,null,null,null,null,null,null,null,null,null,null,null,null,null,null,null,null,null,null,null,null,null,null,null,null,null,null,null,null,null,0,null,null,0,0,null,0,null,0,0,0,0,0,0,0,0,0,0,0]
[null,"MOD:Y53",null,"VS:B","NC:Y",null,null,null,null,null,null,null,null,null,null,null,null,null,null,"YA_5300_0147",null,645,"NACE",null,492,492,478,478,464,450,645,{"$f":"ROUNDUP($V140*FX!$G$2*CF!$B$3,0)","v":645},{"$f":"ROUNDUP($V140*FX!$G$10*CF!$B$4,0)","v":890},{"$f":"ROUNDUP($V140*FX!$G$35*CF!$B$5,0)","v":434},{"$f":"ROUNDUP($V140*FX!$G$3*CF!$B$6,0)","v":897},null,null,null,null,null,null,null,null,null,null,null,null,null,null,null,null,null,null,null,null,null,null,null,null,null,null,null,null,null,null,null,673,null,null,513.70600000000002,514,null,0,null,492.34000000000003,514,514,{"$f":"BY140+(BY140*$BZ$1)","v":534.55999999999995},534.55999999999995,535,584.755,584.755,585,618,645]
[null,"MOD:Y53",null,"VS:C","NC:Y",null,null,null,null,null,null,null,null,null,null,null,null,null,null,"YA_5300_0148",null,645,"NACE",null,492,492,478,478,464,450,645,{"$f":"ROUNDUP($V141*FX!$G$2*CF!$B$3,0)","v":645},{"$f":"ROUNDUP($V141*FX!$G$10*CF!$B$4,0)","v":890},{"$f":"ROUNDUP($V141*FX!$G$35*CF!$B$5,0)","v":434},{"$f":"ROUNDUP($V141*FX!$G$3*CF!$B$6,0)","v":897},null,null,null,null,null,null,null,null,null,null,null,null,null,null,null,null,null,null,null,null,null,null,null,null,null,null,null,null,null,null,null,673,null,null,513.70600000000002,514,null,0,null,492.34000000000003,514,514,534.55999999999995,534.55999999999995,535,584.755,584.755,585,618,645]
[null,"MOD:Y53",null,"VS:D","NC:Y",null,null,null,null,null,null,null,null,null,null,null,null,null,null,"YA_5300_0149",null,962,"NACE",null,735,735,714,714,693,673,962,{"$f":"ROUNDUP($V142*FX!$G$2*CF!$B$3,0)","v":962},{"$f":"ROUNDUP($V142*FX!$G$10*CF!$B$4,0)","v":1328},{"$f":"ROUNDUP($V142*FX!$G$35*CF!$B$5,0)","v":647},{"$f":"ROUNDUP($V142*FX!$G$3*CF!$B$6,0)","v":1338},null,null,null,null,null,null,null,null,null,null,null,null,null,null,null,null,null,null,null,null,null,null,null,null,null,null,null,null,null,null,null,1003,null,null,766.91200000000003,767,null,0,null,735.42000000000007,767,767,797.68,797.68,798,872.21399999999994,872.21399999999994,873,922,962]
[null,"MOD:Y53",null,"VS:E","NC:Y",null,null,null,null,null,null,null,null,null,null,null,null,null,null,"YA_5300_0150",null,962,"NACE",null,735,735,714,714,693,673,962,{"$f":"ROUNDUP($V143*FX!$G$2*CF!$B$3,0)","v":962},{"$f":"ROUNDUP($V143*FX!$G$10*CF!$B$4,0)","v":1328},{"$f":"ROUNDUP($V143*FX!$G$35*CF!$B$5,0)","v":647},{"$f":"ROUNDUP($V143*FX!$G$3*CF!$B$6,0)","v":1338},null,null,null,null,null,null,null,null,null,null,null,null,null,null,null,null,null,null,null,null,null,null,null,null,null,null,null,null,null,null,null,1003,null,null,766.91200000000003,767,null,0,null,735.42000000000007,767,767,797.68,797.68,798,872.21399999999994,872.21399999999994,873,922,962]
[null,"MOD:Y53",null,"OR:H",null,null,null,null,null,null,null,null,null,null,null,null,null,null,null,"YA_5300_0151",null,0,"Horizontal",null,0,0,0,0,0,0,0,{"$f":"ROUNDUP($V144*FX!$G$2*CF!$B$3,0)","v":0},{"$f":"ROUNDUP($V144*FX!$G$10*CF!$B$4,0)","v":0},{"$f":"ROUNDUP($V144*FX!$G$35*CF!$B$5,0)","v":0},{"$f":"ROUNDUP($V144*FX!$G$3*CF!$B$6,0)","v":0},null,null,null,null,null,null,null,null,null,null,null,null,null,null,null,null,null,null,null,null,null,null,null,null,null,null,null,null,null,null,null,0,null,null,0,0,null,0,null,0,0,0,0,0,0,0,0,0,0,0]
[null,"MOD:Y53",null,"OR:V",null,null,null,null,null,null,null,null,null,null,null,null,null,null,null,"YA_5300_0152",null,0,"Vertical","Do Not Use",0,0,0,0,0,0,0,{"$f":"ROUNDUP($V145*FX!$G$2*CF!$B$3,0)","v":0},{"$f":"ROUNDUP($V145*FX!$G$10*CF!$B$4,0)","v":0},{"$f":"ROUNDUP($V145*FX!$G$35*CF!$B$5,0)","v":0},{"$f":"ROUNDUP($V145*FX!$G$3*CF!$B$6,0)","v":0},null,null,null,null,null,null,null,null,null,null,null,null,null,null,null,null,null,null,null,null,null,null,null,null,null,null,null,null,null,null,null,0,null,null,0,0,null,0,null,0,0,0,0,0,0,0,0,0,0,0]
[null,"MOD:Y53",null,"VS:C","ORF:1",null,null,null,null,null,null,null,null,null,null,null,null,null,null,"YA_5300_0153",null,0,"OCv Rg = 1 / 1.5",null,0,0,0,0,0,0,0,{"$f":"ROUNDUP($V146*FX!$G$2*CF!$B$3,0)","v":0},{"$f":"ROUNDUP($V146*FX!$G$10*CF!$B$4,0)","v":0},{"$f":"ROUNDUP($V146*FX!$G$35*CF!$B$5,0)","v":0},{"$f":"ROUNDUP($V146*FX!$G$3*CF!$B$6,0)","v":0},null,null,null,null,null,null,null,null,null,null,null,null,null,null,null,null,null,null,null,null,null,null,null,null,null,null,null,null,null,null,null,0,null,null,0,0,null,0,null,0,0,0,0,0,0,0,0,0,0,0]
[null,"MOD:Y53",null,"VS:C","ORF:2",null,null,null,null,null,null,null,null,null,null,null,null,null,null,"YA_5300_0154",null,0,"OCv Rg = 1.5 / 2",null,0,0,0,0,0,0,0,{"$f":"ROUNDUP($V147*FX!$G$2*CF!$B$3,0)","v":0},{"$f":"ROUNDUP($V147*FX!$G$10*CF!$B$4,0)","v":0},{"$f":"ROUNDUP($V147*FX!$G$35*CF!$B$5,0)","v":0},{"$f":"ROUNDUP($V147*FX!$G$3*CF!$B$6,0)","v":0},null,null,null,null,null,null,null,null,null,null,null,null,null,null,null,null,null,null,null,null,null,null,null,null,null,null,null,null,null,null,null,0,null,null,0,0,null,0,null,0,0,0,0,0,0,0,0,0,0,0]
[null,"MOD:Y53",null,"VS:B,C","ORF:3",null,null,null,null,null,null,null,null,null,null,null,null,null,null,"YA_5300_0155",null,0,"OCv Rg = 2 / 2.5",null,0,0,0,0,0,0,0,{"$f":"ROUNDUP($V148*FX!$G$2*CF!$B$3,0)","v":0},{"$f":"ROUNDUP($V148*FX!$G$10*CF!$B$4,0)","v":0},{"$f":"ROUNDUP($V148*FX!$G$35*CF!$B$5,0)","v":0},{"$f":"ROUNDUP($V148*FX!$G$3*CF!$B$6,0)","v":0},null,null,null,null,null,null,null,null,null,null,null,null,null,null,null,null,null,null,null,null,null,null,null,null,null,null,null,null,null,null,null,0,null,null,0,0,null,0,null,0,0,0,0,0,0,0,0,0,0,0]
[null,"MOD:Y53",null,"VS:B,C","ORF:4",null,null,null,null,null,null,null,null,null,null,null,null,null,null,"YA_5300_0156",null,0,"OCv Rg = 2.5 / 3",null,0,0,0,0,0,0,0,{"$f":"ROUNDUP($V149*FX!$G$2*CF!$B$3,0)","v":0},{"$f":"ROUNDUP($V149*FX!$G$10*CF!$B$4,0)","v":0},{"$f":"ROUNDUP($V149*FX!$G$35*CF!$B$5,0)","v":0},{"$f":"ROUNDUP($V149*FX!$G$3*CF!$B$6,0)","v":0},null,null,null,null,null,null,null,null,null,null,null,null,null,null,null,null,null,null,null,null,null,null,null,null,null,null,null,null,null,null,null,0,null,null,0,0,null,0,null,0,0,0,0,0,0,0,0,0,0,0]
[null,"MOD:Y53",null,"VS:B,C","ORF:5",null,null,null,null,null,null,null,null,null,null,null,null,null,null,"YA_5300_0157",null,0,"OCv Rg = 3 / 4",null,0,0,0,0,0,0,0,{"$f":"ROUNDUP($V150*FX!$G$2*CF!$B$3,0)","v":0},{"$f":"ROUNDUP($V150*FX!$G$10*CF!$B$4,0)","v":0},{"$f":"ROUNDUP($V150*FX!$G$35*CF!$B$5,0)","v":0},{"$f":"ROUNDUP($V150*FX!$G$3*CF!$B$6,0)","v":0},null,null,null,null,null,null,null,null,null,null,null,null,null,null,null,null,null,null,null,null,null,null,null,null,null,null,null,null,null,null,null,0,null,null,0,0,null,0,null,0,0,0,0,0,0,0,0,0,0,0]
[null,"MOD:Y53",null,"VS:B,C","ORF:6",null,null,null,null,null,null,null,null,null,null,null,null,null,null,"YA_5300_0158",null,0,"OCv Rg = 4 / 5",null,0,0,0,0,0,0,0,{"$f":"ROUNDUP($V151*FX!$G$2*CF!$B$3,0)","v":0},{"$f":"ROUNDUP($V151*FX!$G$10*CF!$B$4,0)","v":0},{"$f":"ROUNDUP($V151*FX!$G$35*CF!$B$5,0)","v":0},{"$f":"ROUNDUP($V151*FX!$G$3*CF!$B$6,0)","v":0},null,null,null,null,null,null,null,null,null,null,null,null,null,null,null,null,null,null,null,null,null,null,null,null,null,null,null,null,null,null,null,0,null,null,0,0,null,0,null,0,0,0,0,0,0,0,0,0,0,0]
[null,"MOD:Y53",null,"VS:B,C","ORF:7",null,null,null,null,null,null,null,null,null,null,null,null,null,null,"YA_5300_0159",null,0,"OCv Rg = 5 / 7",null,0,0,0,0,0,0,0,{"$f":"ROUNDUP($V152*FX!$G$2*CF!$B$3,0)","v":0},{"$f":"ROUNDUP($V152*FX!$G$10*CF!$B$4,0)","v":0},{"$f":"ROUNDUP($V152*FX!$G$35*CF!$B$5,0)","v":0},{"$f":"ROUNDUP($V152*FX!$G$3*CF!$B$6,0)","v":0},null,null,null,null,null,null,null,null,null,null,null,null,null,null,null,null,null,null,null,null,null,null,null,null,null,null,null,null,null,null,null,0,null,null,0,0,null,0,null,0,0,0,0,0,0,0,0,0,0,0]
[null,"MOD:Y53",null,"VS:B,C","ORF:8",null,null,null,null,null,null,null,null,null,null,null,null,null,null,"YA_5300_0160",null,0,"OCv Rg = 7 / 9",null,0,0,0,0,0,0,0,{"$f":"ROUNDUP($V153*FX!$G$2*CF!$B$3,0)","v":0},{"$f":"ROUNDUP($V153*FX!$G$10*CF!$B$4,0)","v":0},{"$f":"ROUNDUP($V153*FX!$G$35*CF!$B$5,0)","v":0},{"$f":"ROUNDUP($V153*FX!$G$3*CF!$B$6,0)","v":0},null,null,null,null,null,null,null,null,null,null,null,null,null,null,null,null,null,null,null,null,null,null,null,null,null,null,null,null,null,null,null,0,null,null,0,0,null,0,null,0,0,0,0,0,0,0,0,0,0,0]
[null,"MOD:Y53",null,"ORF:9",null,null,null,null,null,null,null,null,null,null,null,null,null,null,null,"YA_5300_0161",null,0,"OCv Rg = 8 / 11",null,0,0,0,0,0,0,0,{"$f":"ROUNDUP($V154*FX!$G$2*CF!$B$3,0)","v":0},{"$f":"ROUNDUP($V154*FX!$G$10*CF!$B$4,0)","v":0},{"$f":"ROUNDUP($V154*FX!$G$35*CF!$B$5,0)","v":0},{"$f":"ROUNDUP($V154*FX!$G$3*CF!$B$6,0)","v":0},null,null,null,null,null,null,null,null,null,null,null,null,null,null,null,null,null,null,null,null,null,null,null,null,null,null,null,null,null,null,null,0,null,null,0,0,null,0,null,0,0,0,0,0,0,0,0,0,0,0]
[null,"MOD:Y53",null,"VS:C","ORF:10",null,null,null,null,null,null,null,null,null,null,null,null,null,null,"YA_5300_0162",null,0,"OCv Rg = 10 / 13",null,0,0,0,0,0,0,0,{"$f":"ROUNDUP($V155*FX!$G$2*CF!$B$3,0)","v":0},{"$f":"ROUNDUP($V155*FX!$G$10*CF!$B$4,0)","v":0},{"$f":"ROUNDUP($V155*FX!$G$35*CF!$B$5,0)","v":0},{"$f":"ROUNDUP($V155*FX!$G$3*CF!$B$6,0)","v":0},null,null,null,null,null,null,null,null,null,null,null,null,null,null,null,null,null,null,null,null,null,null,null,null,null,null,null,null,null,null,null,0,null,null,0,0,null,0,null,0,0,0,0,0,0,0,0,0,0,0]
[null,"MOD:Y53",null,"VS:D,E","ORF:11",null,null,null,null,null,null,null,null,null,null,null,null,null,null,"YA_5300_0163",null,0,"OCv Rg = 11 / 15",null,0,0,0,0,0,0,0,{"$f":"ROUNDUP($V156*FX!$G$2*CF!$B$3,0)","v":0},{"$f":"ROUNDUP($V156*FX!$G$10*CF!$B$4,0)","v":0},{"$f":"ROUNDUP($V156*FX!$G$35*CF!$B$5,0)","v":0},{"$f":"ROUNDUP($V156*FX!$G$3*CF!$B$6,0)","v":0},null,null,null,null,null,null,null,null,null,null,null,null,null,null,null,null,null,null,null,null,null,null,null,null,null,null,null,null,null,null,null,0,null,null,0,0,null,0,null,0,0,0,0,0,0,0,0,0,0,0]
[null,"MOD:Y53",null,"VS:C","ORF:12",null,null,null,null,null,null,null,null,null,null,null,null,null,null,"YA_5300_0164",null,0,"OCv Rg = 13 / 16",null,0,0,0,0,0,0,0,{"$f":"ROUNDUP($V157*FX!$G$2*CF!$B$3,0)","v":0},{"$f":"ROUNDUP($V157*FX!$G$10*CF!$B$4,0)","v":0},{"$f":"ROUNDUP($V157*FX!$G$35*CF!$B$5,0)","v":0},{"$f":"ROUNDUP($V157*FX!$G$3*CF!$B$6,0)","v":0},null,null,null,null,null,null,null,null,null,null,null,null,null,null,null,null,null,null,null,null,null,null,null,null,null,null,null,null,null,null,null,0,null,null,0,0,null,0,null,0,0,0,0,0,0,0,0,0,0,0]
[null,"MOD:Y53",null,"VS:C,D,E","ORF:13",null,null,null,null,null,null,null,null,null,null,null,null,null,null,"YA_5300_0165",null,0,"OCv Rg = 15 / 21",null,0,0,0,0,0,0,0,{"$f":"ROUNDUP($V158*FX!$G$2*CF!$B$3,0)","v":0},{"$f":"ROUNDUP($V158*FX!$G$10*CF!$B$4,0)","v":0},{"$f":"ROUNDUP($V158*FX!$G$35*CF!$B$5,0)","v":0},{"$f":"ROUNDUP($V158*FX!$G$3*CF!$B$6,0)","v":0},null,null,null,null,null,null,null,null,null,null,null,null,null,null,null,null,null,null,null,null,null,null,null,null,null,null,null,null,null,null,null,0,null,null,0,0,null,0,null,0,0,0,0,0,0,0,0,0,0,0]
[null,"MOD:Y53",null,"VS:D,E","ORF:14",null,null,null,null,null,null,null,null,null,null,null,null,null,null,"YA_5300_0166",null,0,"OCv Rg = 21 / 28",null,0,0,0,0,0,0,0,{"$f":"ROUNDUP($V159*FX!$G$2*CF!$B$3,0)","v":0},{"$f":"ROUNDUP($V159*FX!$G$10*CF!$B$4,0)","v":0},{"$f":"ROUNDUP($V159*FX!$G$35*CF!$B$5,0)","v":0},{"$f":"ROUNDUP($V159*FX!$G$3*CF!$B$6,0)","v":0},null,null,null,null,null,null,null,null,null,null,null,null,null,null,null,null,null,null,null,null,null,null,null,null,null,null,null,null,null,null,null,0,null,null,0,0,null,0,null,0,0,0,0,0,0,0,0,0,0,0]
[null,"MOD:Y53",null,"VS:D,E","ORF:15",null,null,null,null,null,null,null,null,null,null,null,null,null,null,"YA_5300_0167",null,0,"OCv Rg = 27 / 34",null,0,0,0,0,0,0,0,{"$f":"ROUNDUP($V160*FX!$G$2*CF!$B$3,0)","v":0},{"$f":"ROUNDUP($V160*FX!$G$10*CF!$B$4,0)","v":0},{"$f":"ROUNDUP($V160*FX!$G$35*CF!$B$5,0)","v":0},{"$f":"ROUNDUP($V160*FX!$G$3*CF!$B$6,0)","v":0},null,null,null,null,null,null,null,null,null,null,null,null,null,null,null,null,null,null,null,null,null,null,null,null,null,null,null,null,null,null,null,0,null,null,0,0,null,0,null,0,0,0,0,0,0,0,0,0,0,0]
[null,"MOD:Y53",null,"VS:D,E","ORF:16",null,null,null,null,null,null,null,null,null,null,null,null,null,null,"YA_5300_0168",null,0,"OCv Rg = 34 / 42",null,0,0,0,0,0,0,0,{"$f":"ROUNDUP($V161*FX!$G$2*CF!$B$3,0)","v":0},{"$f":"ROUNDUP($V161*FX!$G$10*CF!$B$4,0)","v":0},{"$f":"ROUNDUP($V161*FX!$G$35*CF!$B$5,0)","v":0},{"$f":"ROUNDUP($V161*FX!$G$3*CF!$B$6,0)","v":0},null,null,null,null,null,null,null,null,null,null,null,null,null,null,null,null,null,null,null,null,null,null,null,null,null,null,null,null,null,null,null,0,null,null,0,0,null,0,null,0,0,0,0,0,0,0,0,0,0,0]
[null,"MOD:Y53",null,"VS:E","ORF:17",null,null,null,null,null,null,null,null,null,null,null,null,null,null,"YA_5300_0169",null,0,"OCv Rg = 42 / 49",null,0,0,0,0,0,0,0,{"$f":"ROUNDUP($V162*FX!$G$2*CF!$B$3,0)","v":0},{"$f":"ROUNDUP($V162*FX!$G$10*CF!$B$4,0)","v":0},{"$f":"ROUNDUP($V162*FX!$G$35*CF!$B$5,0)","v":0},{"$f":"ROUNDUP($V162*FX!$G$3*CF!$B$6,0)","v":0},null,null,null,null,null,null,null,null,null,null,null,null,null,null,null,null,null,null,null,null,null,null,null,null,null,null,null,null,null,null,null,0,null,null,0,0,null,0,null,0,0,0,0,0,0,0,0,0,0,0]
[null,"MOD:Y53",null,"VS:E","ORF:18",null,null,null,null,null,null,null,null,null,null,null,null,null,null,"YA_5300_0170",null,0,"OCv Rg = 49 / 58",null,0,0,0,0,0,0,0,{"$f":"ROUNDUP($V163*FX!$G$2*CF!$B$3,0)","v":0},{"$f":"ROUNDUP($V163*FX!$G$10*CF!$B$4,0)","v":0},{"$f":"ROUNDUP($V163*FX!$G$35*CF!$B$5,0)","v":0},{"$f":"ROUNDUP($V163*FX!$G$3*CF!$B$6,0)","v":0},null,null,null,null,null,null,null,null,null,null,null,null,null,null,null,null,null,null,null,null,null,null,null,null,null,null,null,null,null,null,null,0,null,null,0,0,null,0,null,0,0,0,0,0,0,0,0,0,0,0]
[null,"MOD:Y53",null,"VS:E","ORF:19",null,null,null,null,null,null,null,null,null,null,null,null,null,null,"YA_5300_0171",null,0,"OCv Rg = 58 / 67",null,0,0,0,0,0,0,0,{"$f":"ROUNDUP($V164*FX!$G$2*CF!$B$3,0)","v":0},{"$f":"ROUNDUP($V164*FX!$G$10*CF!$B$4,0)","v":0},{"$f":"ROUNDUP($V164*FX!$G$35*CF!$B$5,0)","v":0},{"$f":"ROUNDUP($V164*FX!$G$3*CF!$B$6,0)","v":0},null,null,null,null,null,null,null,null,null,null,null,null,null,null,null,null,null,null,null,null,null,null,null,null,null,null,null,null,null,null,null,0,null,null,0,0,null,0,null,0,0,0,0,0,0,0,0,0,0,0]
[null,"MOD:Y53",null,"ORF:SLEEVE",null,null,null,null,null,null,null,null,null,null,null,null,null,null,null,"YA_5300_0172",null,0,"Sleeve","Do Not Use",0,0,0,0,0,0,0,{"$f":"ROUNDUP($V165*FX!$G$2*CF!$B$3,0)","v":0},{"$f":"ROUNDUP($V165*FX!$G$10*CF!$B$4,0)","v":0},{"$f":"ROUNDUP($V165*FX!$G$35*CF!$B$5,0)","v":0},{"$f":"ROUNDUP($V165*FX!$G$3*CF!$B$6,0)","v":0},null,null,null,null,null,null,null,null,null,null,null,null,null,null,null,null,null,null,null,null,null,null,null,null,null,null,null,null,null,null,null,0,null,null,0,0,null,0,null,0,0,0,0,0,0,0,0,0,0,0]
[null,"MOD:Y53",null,"IO:A,B,C","FF:RF",null,null,null,null,null,null,null,null,null,null,null,null,null,null,"YA_5300_0173",null,0,"Raised Face",null,0,0,0,0,0,0,0,{"$f":"ROUNDUP($V166*FX!$G$2*CF!$B$3,0)","v":0},{"$f":"ROUNDUP($V166*FX!$G$10*CF!$B$4,0)","v":0},{"$f":"ROUNDUP($V166*FX!$G$35*CF!$B$5,0)","v":0},{"$f":"ROUNDUP($V166*FX!$G$3*CF!$B$6,0)","v":0},null,null,null,null,null,null,null,null,null,null,null,null,null,null,null,null,null,null,null,null,null,null,null,null,null,null,null,null,null,null,null,0,null,null,0,0,null,0,null,0,0,{"$f":"ROUNDUP(BX166,0)","v":0},0,0,0,0,0,0,0,0]
[null,"MOD:Y53",null,"IO:D,E,F","FF:RJ","VS:B",null,null,null,null,null,null,null,null,null,null,null,null,null,"YA_5300_0174",null,2876,"Ring Type Joint",null,2205,2205,2141,2141,2079,2018,2876,{"$f":"ROUNDUP($V167*FX!$G$2*CF!$B$3,0)","v":2876},{"$f":"ROUNDUP($V167*FX!$G$10*CF!$B$4,0)","v":3968},{"$f":"ROUNDUP($V167*FX!$G$35*CF!$B$5,0)","v":1933},{"$f":"ROUNDUP($V167*FX!$G$3*CF!$B$6,0)","v":4000},null,null,null,null,null,null,null,null,null,null,null,null,null,null,null,null,null,null,null,null,null,null,null,null,null,null,null,null,null,null,null,2997,null,null,2298.652,2299,null,0,null,2205.23,2298,2298,2389.92,2389.92,2390,2612.27,2612.27,2613,2757,2876]
[null,"MOD:Y53",null,"IO:D,E,F","FF:RJ","VS:C",null,null,null,null,null,null,null,null,null,null,null,null,null,"YA_5300_0175",null,3196,"Ring Type Joint",null,2449,2449,2378,2378,2309,2242,3196,{"$f":"ROUNDUP($V168*FX!$G$2*CF!$B$3,0)","v":3196},{"$f":"ROUNDUP($V168*FX!$G$10*CF!$B$4,0)","v":4409},{"$f":"ROUNDUP($V168*FX!$G$35*CF!$B$5,0)","v":2148},{"$f":"ROUNDUP($V168*FX!$G$3*CF!$B$6,0)","v":4445},null,null,null,null,null,null,null,null,null,null,null,null,null,null,null,null,null,null,null,null,null,null,null,null,null,null,null,null,null,null,null,3331,null,null,2552.9,2553,null,0,null,2449.34,2553,2553,2655.12,2655.12,2656,2903.0079999999998,2903.0079999999998,2904,3064,3196]
[null,"MOD:Y53",null,"IO:D,E,F","FF:RJ","VS:D",null,null,null,null,null,null,null,null,null,null,null,null,null,"YA_5300_0176",null,3835,"Ring Type Joint",null,2940,2940,2854,2854,2771,2690,3835,{"$f":"ROUNDUP($V169*FX!$G$2*CF!$B$3,0)","v":3835},{"$f":"ROUNDUP($V169*FX!$G$10*CF!$B$4,0)","v":5291},{"$f":"ROUNDUP($V169*FX!$G$35*CF!$B$5,0)","v":2578},{"$f":"ROUNDUP($V169*FX!$G$3*CF!$B$6,0)","v":5333},null,null,null,null,null,null,null,null,null,null,null,null,null,null,null,null,null,null,null,null,null,null,null,null,null,null,null,null,null,null,null,3997,null,null,3063.48,3064,null,0,null,2939.62,3064,3064,3186.56,3186.56,3187,3483.3910000000001,3483.3910000000001,3484,3676,3835]
[null,"MOD:Y53",null,"IO:D,E,F","FF:RJ","VS:E",null,null,null,null,null,null,null,null,null,null,null,null,null,"YA_5300_0177",null,4472,"Ring Type Joint",null,3430,3430,3330,3330,3233,3139,4472,{"$f":"ROUNDUP($V170*FX!$G$2*CF!$B$3,0)","v":4472},{"$f":"ROUNDUP($V170*FX!$G$10*CF!$B$4,0)","v":6170},{"$f":"ROUNDUP($V170*FX!$G$35*CF!$B$5,0)","v":3006},{"$f":"ROUNDUP($V170*FX!$G$3*CF!$B$6,0)","v":6219},null,null,null,null,null,null,null,null,null,null,null,null,null,null,null,null,null,null,null,null,null,null,null,null,null,null,null,null,null,null,null,4660,null,null,3574.06,3575,null,0,null,3429.9,3574,3574,3716.96,3716.96,3717,4062.681,4062.681,4063,4287,4472]
[null,"MOD:Y53",null,"IO:G,H,I","FF:BW","VS:B",null,null,null,null,null,null,null,null,null,null,null,null,null,"YA_5300_0178",null,1919,"Butt Weld",null,1470,1470,1427,1427,1385,1345,1919,{"$f":"ROUNDUP($V171*FX!$G$2*CF!$B$3,0)","v":1919},{"$f":"ROUNDUP($V171*FX!$G$10*CF!$B$4,0)","v":2648},{"$f":"ROUNDUP($V171*FX!$G$35*CF!$B$5,0)","v":1290},{"$f":"ROUNDUP($V171*FX!$G$3*CF!$B$6,0)","v":2669},null,null,null,null,null,null,null,null,null,null,null,null,null,null,null,null,null,null,null,null,null,null,null,null,null,null,null,null,null,null,null,2000,null,null,1531.74,1532,null,0,null,1469.81,1532,1532,1593.28,1593.28,1594,1742.242,1742.242,1743,1839,1919]
[null,"MOD:Y53",null,"IO:G,H,I","FF:BW","VS:C",null,null,null,null,null,null,null,null,null,null,null,null,null,"YA_5300_0179",null,2240,"Butt Weld",null,1716,1716,1666,1666,1617,1570,2240,{"$f":"ROUNDUP($V172*FX!$G$2*CF!$B$3,0)","v":2240},{"$f":"ROUNDUP($V172*FX!$G$10*CF!$B$4,0)","v":3091},{"$f":"ROUNDUP($V172*FX!$G$35*CF!$B$5,0)","v":1506},{"$f":"ROUNDUP($V172*FX!$G$3*CF!$B$6,0)","v":3115},null,null,null,null,null,null,null,null,null,null,null,null,null,null,null,null,null,null,null,null,null,null,null,null,null,null,null,null,null,null,null,2335,null,null,1788.0720000000001,1789,null,0,null,1715.98,1789,1789,1860.56,1860.56,1861,2034.0730000000001,2034.0730000000001,2035,2147,2240]
[null,"MOD:Y53",null,"IO:G,H,I","FF:BW","VS:D",null,null,null,null,null,null,null,null,null,null,null,null,null,"YA_5300_0180",null,2558,"Butt Weld",null,1961,1961,1904,1904,1849,1795,2558,{"$f":"ROUNDUP($V173*FX!$G$2*CF!$B$3,0)","v":2558},{"$f":"ROUNDUP($V173*FX!$G$10*CF!$B$4,0)","v":3529},{"$f":"ROUNDUP($V173*FX!$G$35*CF!$B$5,0)","v":1720},{"$f":"ROUNDUP($V173*FX!$G$3*CF!$B$6,0)","v":3557},null,null,null,null,null,null,null,null,null,null,null,null,null,null,null,null,null,null,null,null,null,null,null,null,null,null,null,null,null,null,null,2666,null,null,2044.404,2045,null,0,null,1961.1200000000001,2044,2044,2125.7600000000002,2125.7600000000002,2126,2323.7179999999998,2323.7179999999998,2324,2452,2558]
[null,"MOD:Y53",null,"IO:G,H,I","FF:BW","VS:E",null,null,null,null,null,null,null,null,null,null,null,null,null,"YA_5300_0181",null,3196,"Butt Weld",null,2449,2449,2378,2378,2309,2242,3196,{"$f":"ROUNDUP($V174*FX!$G$2*CF!$B$3,0)","v":3196},{"$f":"ROUNDUP($V174*FX!$G$10*CF!$B$4,0)","v":4409},{"$f":"ROUNDUP($V174*FX!$G$35*CF!$B$5,0)","v":2148},{"$f":"ROUNDUP($V174*FX!$G$3*CF!$B$6,0)","v":4445},null,null,null,null,null,null,null,null,null,null,null,null,null,null,null,null,null,null,null,null,null,null,null,null,null,null,null,null,null,null,null,3331,null,null,2552.9,2553,null,0,null,2449.34,2553,2553,2655.12,2655.12,2656,2903.0079999999998,2903.0079999999998,2904,3064,3196]
[null,"MOD:Y53",null,"SM:E","VS:C",null,null,null,null,null,null,null,null,null,null,null,null,null,null,"YA_5300_0182",null,502,"EPDM",null,383,383,372,372,361,350,502,{"$f":"ROUNDUP($V175*FX!$G$2*CF!$B$3,0)","v":502},{"$f":"ROUNDUP($V175*FX!$G$10*CF!$B$4,0)","v":693},{"$f":"ROUNDUP($V175*FX!$G$35*CF!$B$5,0)","v":338},{"$f":"ROUNDUP($V175*FX!$G$3*CF!$B$6,0)","v":699},null,null,null,null,null,null,null,null,null,null,null,null,null,null,null,null,null,null,null,null,null,null,null,null,null,null,null,null,null,null,null,524,null,null,400.12799999999999,401,null,0,null,383.16,400,400,416,416,416,454.68799999999999,454.68799999999999,455,481,502]
[null,"MOD:Y53",null,"SM:E","VS:D",null,null,null,null,null,null,null,null,null,null,null,null,null,null,"YA_5300_0183",null,538,"EPDM",null,410,410,398,398,386,375,538,{"$f":"ROUNDUP($V176*FX!$G$2*CF!$B$3,0)","v":538},{"$f":"ROUNDUP($V176*FX!$G$10*CF!$B$4,0)","v":743},{"$f":"ROUNDUP($V176*FX!$G$35*CF!$B$5,0)","v":362},{"$f":"ROUNDUP($V176*FX!$G$3*CF!$B$6,0)","v":749},null,null,null,null,null,null,null,null,null,null,null,null,null,null,null,null,null,null,null,null,null,null,null,null,null,null,null,null,null,null,null,561,null,null,427.22,428,null,0,null,409.94,428,428,445.12,445.12,446,487.47800000000001,487.47800000000001,488,515,538]
[null,"MOD:Y53",null,"SM:E","VS:E",null,null,null,null,null,null,null,null,null,null,null,null,null,null,"YA_5300_0184",null,573,"EPDM",null,437,437,424,424,412,400,573,{"$f":"ROUNDUP($V177*FX!$G$2*CF!$B$3,0)","v":573},{"$f":"ROUNDUP($V177*FX!$G$10*CF!$B$4,0)","v":791},{"$f":"ROUNDUP($V177*FX!$G$35*CF!$B$5,0)","v":386},{"$f":"ROUNDUP($V177*FX!$G$3*CF!$B$6,0)","v":797},null,null,null,null,null,null,null,null,null,null,null,null,null,null,null,null,null,null,null,null,null,null,null,null,null,null,null,null,null,null,null,598,null,null,455.35399999999998,456,null,0,null,436.72,456,456,474.24,474.24,475,519.17499999999995,519.17499999999995,520,549,573]
[null,"MOD:Y53",null,"SM:K","VS:C",null,null,null,null,null,null,null,null,null,null,null,null,null,null,"YA_5300_0185",null,1000,"Kalrez",null,765,765,743,743,721,700,1000,{"$f":"ROUNDUP($V178*FX!$G$2*CF!$B$3,0)","v":1000},{"$f":"ROUNDUP($V178*FX!$G$10*CF!$B$4,0)","v":1380},{"$f":"ROUNDUP($V178*FX!$G$35*CF!$B$5,0)","v":673},{"$f":"ROUNDUP($V178*FX!$G$3*CF!$B$6,0)","v":1391},null,null,null,null,null,null,null,null,null,null,null,null,null,null,null,null,null,null,null,null,null,null,null,null,null,null,null,null,null,null,null,1042,null,null,798.17200000000003,799,null,0,null,765.29,798,798,829.92,829.92,830,907.19,907.19,908,958,1000]
[null,"MOD:Y53",null,"SM:K","VS:D",null,null,null,null,null,null,null,null,null,null,null,null,null,null,"YA_5300_0186",null,1035,"Kalrez",null,792,792,769,769,747,725,1035,{"$f":"ROUNDUP($V179*FX!$G$2*CF!$B$3,0)","v":1035},{"$f":"ROUNDUP($V179*FX!$G$10*CF!$B$4,0)","v":1428},{"$f":"ROUNDUP($V179*FX!$G$35*CF!$B$5,0)","v":696},{"$f":"ROUNDUP($V179*FX!$G$3*CF!$B$6,0)","v":1440},null,null,null,null,null,null,null,null,null,null,null,null,null,null,null,null,null,null,null,null,null,null,null,null,null,null,null,null,null,null,null,1079,null,null,826.30600000000004,827,null,0,null,792.07,826,826,859.04,859.04,860,939.98,939.98,940,992,1035]
[null,"MOD:Y53",null,"SM:K","VS:E",null,null,null,null,null,null,null,null,null,null,null,null,null,null,"YA_5300_0187",null,1072,"Kalrez",null,820,820,796,796,773,750,1072,{"$f":"ROUNDUP($V180*FX!$G$2*CF!$B$3,0)","v":1072},{"$f":"ROUNDUP($V180*FX!$G$10*CF!$B$4,0)","v":1479},{"$f":"ROUNDUP($V180*FX!$G$35*CF!$B$5,0)","v":721},{"$f":"ROUNDUP($V180*FX!$G$3*CF!$B$6,0)","v":1491},null,null,null,null,null,null,null,null,null,null,null,null,null,null,null,null,null,null,null,null,null,null,null,null,null,null,null,null,null,null,null,1118,null,null,854.44,855,null,0,null,819.88,855,855,889.2,889.2,890,972.77,972.77,973,1027,1072]
[null,"MOD:Y53",null,"SM:V","VS:C",null,null,null,null,null,null,null,null,null,null,null,null,null,null,"YA_5300_0188",null,678,"Viton","Soft Goods",519,519,504,504,489,475,678,{"$f":"ROUNDUP($V181*FX!$G$2*CF!$B$3,0)","v":678},{"$f":"ROUNDUP($V181*FX!$G$10*CF!$B$4,0)","v":936},{"$f":"ROUNDUP($V181*FX!$G$35*CF!$B$5,0)","v":456},{"$f":"ROUNDUP($V181*FX!$G$3*CF!$B$6,0)","v":943},null,null,null,null,null,null,null,null,null,null,null,null,null,null,null,null,null,null,null,null,null,null,null,null,null,null,null,null,null,null,null,707,null,null,541.84,542,null,0,null,519.12,541,541,562.64,562.64,563,615.35900000000004,615.35900000000004,616,650,678]
[null,"MOD:Y53",null,"SM:V","VS:D",null,null,null,null,null,null,null,null,null,null,null,null,null,null,"YA_5300_0189",null,714,"Viton","Soft Goods",546,546,530,530,515,500,714,{"$f":"ROUNDUP($V182*FX!$G$2*CF!$B$3,0)","v":714},{"$f":"ROUNDUP($V182*FX!$G$10*CF!$B$4,0)","v":985},{"$f":"ROUNDUP($V182*FX!$G$35*CF!$B$5,0)","v":480},{"$f":"ROUNDUP($V182*FX!$G$3*CF!$B$6,0)","v":993},null,null,null,null,null,null,null,null,null,null,null,null,null,null,null,null,null,null,null,null,null,null,null,null,null,null,null,null,null,null,null,744,null,null,568.93200000000002,569,null,0,null,545.9,569,569,591.76,591.76,592,647.05600000000004,647.05600000000004,648,{"$f":"IF(CE182=\"POA\",\"POA\", ROUNDUP(CE182*1.055,0))","v":684},714]
[null,"MOD:Y53",null,"SM:V","VS:E",null,null,null,null,null,null,null,null,null,null,null,null,null,null,"YA_5300_0190",null,749,"Viton","Soft Goods",574,574,557,557,541,525,749,{"$f":"ROUNDUP($V183*FX!$G$2*CF!$B$3,0)","v":749},{"$f":"ROUNDUP($V183*FX!$G$10*CF!$B$4,0)","v":1034},{"$f":"ROUNDUP($V183*FX!$G$35*CF!$B$5,0)","v":504},{"$f":"ROUNDUP($V183*FX!$G$3*CF!$B$6,0)","v":1042},null,null,null,null,null,null,null,null,null,null,null,null,null,null,null,null,null,null,null,null,null,null,null,null,null,null,null,null,null,null,null,781,null,null,598.10799999999995,599,null,0,null,573.71,598,598,621.91999999999996,621.91999999999996,622,679.846,679.846,680,718,749]
[null,"MOD:Y53",null,"BM:X",null,null,null,null,null,null,null,null,null,null,null,null,null,null,null,"YA_5300_0191",null,"POA","Cust Body Matl",null,"POA",{"$f":"IFERROR(AA184*1.03,\"POA\")","v":"POA"},"POA","POA","POA","POA","POA",{"$f":"ROUNDUP($V184*FX!$G$2*CF!$B$3,0)","v":{"$error":"#VALUE!"}},{"$f":"ROUNDUP($V184*FX!$G$10*CF!$B$4,0)","v":{"$error":"#VALUE!"}},{"$f":"ROUNDUP($V184*FX!$G$35*CF!$B$5,0)","v":{"$error":"#VALUE!"}},{"$f":"ROUNDUP($V184*FX!$G$3*CF!$B$6,0)","v":{"$error":"#VALUE!"}},null,null,null,null,null,null,null,null,null,null,null,null,null,null,null,null,null,null,null,null,null,null,null,null,null,null,null,null,null,null,null,{"$error":"#VALUE!"},null,null,{"$error":"#VALUE!"},{"$f":"AE184","v":"POA"},null,0,null,"POA","POA","POA","POA","POA","POA","POA","POA","POA","POA","POA"]
[null,"MOD:Y53",null,"IO:X",null,null,null,null,null,null,null,null,null,null,null,null,null,null,null,"YA_5300_0192",null,"POA","Cust In/Out Flg",null,"POA","POA","POA","POA","POA","POA","POA",{"$f":"ROUNDUP($V185*FX!$G$2*CF!$B$3,0)","v":{"$error":"#VALUE!"}},{"$f":"ROUNDUP($V185*FX!$G$10*CF!$B$4,0)","v":{"$error":"#VALUE!"}},{"$f":"ROUNDUP($V185*FX!$G$35*CF!$B$5,0)","v":{"$error":"#VALUE!"}},{"$f":"ROUNDUP($V185*FX!$G$3*CF!$B$6,0)","v":{"$error":"#VALUE!"}},null,null,null,null,null,null,null,null,null,null,null,null,null,null,null,null,null,null,null,null,null,null,null,null,null,null,null,null,null,null,null,{"$error":"#VALUE!"},null,null,{"$error":"#VALUE!"},"POA",null,0,null,"POA","POA","POA","POA","POA","POA","POA","POA","POA","POA","POA"]
[null,"MOD:Y53",null,"BC:X",null,null,null,null,null,null,null,null,null,null,null,null,null,null,null,"YA_5300_0193",null,"POA","Cust Bypass Flg",null,"POA","POA","POA","POA","POA","POA","POA",{"$f":"ROUNDUP($V186*FX!$G$2*CF!$B$3,0)","v":{"$error":"#VALUE!"}},{"$f":"ROUNDUP($V186*FX!$G$10*CF!$B$4,0)","v":{"$error":"#VALUE!"}},{"$f":"ROUNDUP($V186*FX!$G$35*CF!$B$5,0)","v":{"$error":"#VALUE!"}},{"$f":"ROUNDUP($V186*FX!$G$3*CF!$B$6,0)","v":{"$error":"#VALUE!"}},null,null,null,null,null,null,null,null,null,null,null,null,null,null,null,null,null,null,null,null,null,null,null,null,null,null,null,null,null,null,null,{"$error":"#VALUE!"},null,null,{"$error":"#VALUE!"},"POA",null,0,null,"POA","POA","POA","POA","POA","POA","POA","POA","POA","POA","POA"]
[null,"MOD:Y53",null,"FF:X",null,null,null,null,null,null,null,null,null,null,null,null,null,null,null,"YA_5300_0194",null,"POA","Cust Flange Face",null,"POA","POA","POA","POA","POA","POA","POA",{"$f":"ROUNDUP($V187*FX!$G$2*CF!$B$3,0)","v":{"$error":"#VALUE!"}},{"$f":"ROUNDUP($V187*FX!$G$10*CF!$B$4,0)","v":{"$error":"#VALUE!"}},{"$f":"ROUNDUP($V187*FX!$G$35*CF!$B$5,0)","v":{"$error":"#VALUE!"}},{"$f":"ROUNDUP($V187*FX!$G$3*CF!$B$6,0)","v":{"$error":"#VALUE!"}},null,null,null,null,null,null,null,null,null,null,null,null,null,null,null,null,null,null,null,null,null,null,null,null,null,null,null,null,null,null,null,{"$error":"#VALUE!"},null,null,{"$error":"#VALUE!"},"POA",null,0,null,"POA","POA","POA","POA","POA","POA","POA","POA","POA","POA","POA"]
[null,"MOD:Y53",null,"VD:X",null,null,null,null,null,null,null,null,null,null,null,null,null,null,null,"YA_5300_0195",null,"POA","Cust Valve Disc",null,"POA","POA","POA","POA","POA","POA","POA",{"$f":"ROUNDUP($V188*FX!$G$2*CF!$B$3,0)","v":{"$error":"#VALUE!"}},{"$f":"ROUNDUP($V188*FX!$G$10*CF!$B$4,0)","v":{"$error":"#VALUE!"}},{"$f":"ROUNDUP($V188*FX!$G$35*CF!$B$5,0)","v":{"$error":"#VALUE!"}},{"$f":"ROUNDUP($V188*FX!$G$3*CF!$B$6,0)","v":{"$error":"#VALUE!"}},null,null,null,null,null,null,null,null,null,null,null,null,null,null,null,null,null,null,null,null,null,null,null,null,null,null,null,null,null,null,null,{"$error":"#VALUE!"},null,null,{"$error":"#VALUE!"},"POA",null,0,null,"POA","POA","POA","POA","POA","POA","POA","POA","POA","POA","POA"]
[null,"MOD:Y53",null,"MCV:X",null,null,null,null,null,null,null,null,null,null,null,null,null,null,null,"YA_5300_0196",null,"POA","Cust Main Cv",null,"POA","POA","POA","POA","POA","POA","POA",{"$f":"ROUNDUP($V189*FX!$G$2*CF!$B$3,0)","v":{"$error":"#VALUE!"}},{"$f":"ROUNDUP($V189*FX!$G$10*CF!$B$4,0)","v":{"$error":"#VALUE!"}},{"$f":"ROUNDUP($V189*FX!$G$35*CF!$B$5,0)","v":{"$error":"#VALUE!"}},{"$f":"ROUNDUP($V189*FX!$G$3*CF!$B$6,0)","v":{"$error":"#VALUE!"}},null,null,null,null,null,null,null,null,null,null,null,null,null,null,null,null,null,null,null,null,null,null,null,null,null,null,null,null,null,null,null,{"$error":"#VALUE!"},null,null,{"$error":"#VALUE!"},"POA",null,0,null,"POA","POA","POA","POA","POA","POA","POA","POA","POA","POA","POA"]
[null,"MOD:Y53",null,"SM:X",null,null,null,null,null,null,null,null,null,null,null,null,null,null,null,"YA_5300_0197",null,"POA","Cust Seal Matl",null,"POA","POA","POA","POA","POA","POA","POA",{"$f":"ROUNDUP($V190*FX!$G$2*CF!$B$3,0)","v":{"$error":"#VALUE!"}},{"$f":"ROUNDUP($V190*FX!$G$10*CF!$B$4,0)","v":{"$error":"#VALUE!"}},{"$f":"ROUNDUP($V190*FX!$G$35*CF!$B$5,0)","v":{"$error":"#VALUE!"}},{"$f":"ROUNDUP($V190*FX!$G$3*CF!$B$6,0)","v":{"$error":"#VALUE!"}},null,null,null,null,null,null,null,null,null,null,null,null,null,null,null,null,null,null,null,null,null,null,null,null,null,null,null,null,null,null,null,{"$error":"#VALUE!"},null,null,{"$error":"#VALUE!"},"POA",null,0,null,"POA","POA","POA","POA","POA","POA","POA","POA","POA","POA","POA"]
[null,"MOD:Y53",null,"ORF:X",null,null,null,null,null,null,null,null,null,null,null,null,null,null,null,"YA_5300_0198",null,"POA","Cust Orifice",null,"POA","POA","POA","POA","POA","POA","POA",{"$f":"ROUNDUP($V191*FX!$G$2*CF!$B$3,0)","v":{"$error":"#VALUE!"}},{"$f":"ROUNDUP($V191*FX!$G$10*CF!$B$4,0)","v":{"$error":"#VALUE!"}},{"$f":"ROUNDUP($V191*FX!$G$35*CF!$B$5,0)","v":{"$error":"#VALUE!"}},{"$f":"ROUNDUP($V191*FX!$G$3*CF!$B$6,0)","v":{"$error":"#VALUE!"}},null,null,null,null,null,null,null,null,null,null,null,null,null,null,null,null,null,null,null,null,null,null,null,null,null,null,null,null,null,null,null,{"$error":"#VALUE!"},null,null,{"$error":"#VALUE!"},"POA",null,0,null,"POA","POA","POA","POA","POA","POA","POA","POA","POA","POA","POA"]
[null,"MOD:Y53",null,"VS:X",null,null,null,null,null,null,null,null,null,null,null,null,null,null,null,"YA_5300_0199",null,"POA","Cust Valve Size",null,"POA","POA","POA","POA","POA","POA","POA",{"$f":"ROUNDUP($V192*FX!$G$2*CF!$B$3,0)","v":{"$error":"#VALUE!"}},{"$f":"ROUNDUP($V192*FX!$G$10*CF!$B$4,0)","v":{"$error":"#VALUE!"}},{"$f":"ROUNDUP($V192*FX!$G$35*CF!$B$5,0)","v":{"$error":"#VALUE!"}},{"$f":"ROUNDUP($V192*FX!$G$3*CF!$B$6,0)","v":{"$error":"#VALUE!"}},null,null,null,null,null,null,null,null,null,null,null,null,null,null,null,null,null,null,null,null,null,null,null,null,null,null,null,null,null,null,null,{"$error":"#VALUE!"},null,null,{"$error":"#VALUE!"},"POA",null,0,null,"POA","POA","POA","POA","POA","POA","POA","POA","POA",{"$f":"IF(CE192=\"POA\",\"POA\", ROUNDUP(CE192*1.055,0))","v":"POA"},"POA"]
["YA9100","MOD:Y91",null,"VS:C","PC:1","BM:0","NC:N",null,null,null,null,null,null,null,null,null,null,null,null,"YA_9100_0001",null,57114,"CS (WCB)","Base Valve Price",{"$f":"IFERROR(Z193*1.02,\"POA\")","v":43612.14},{"$f":"ROUND(IFERROR(AA193*1.03,\"POA\"),0)","v":42757},41512,40129,38960,37825,57114,{"$f":"ROUNDUP($V193*FX!$G$2*CF!$B$3,0)","v":57114},{"$f":"ROUNDUP($V193*FX!$G$10*CF!$B$4,0)","v":78789},{"$f":"ROUNDUP($V193*FX!$G$35*CF!$B$5,0)","v":38384},{"$f":"ROUNDUP($V193*FX!$G$3*CF!$B$6,0)","v":79418},null,null,null,null,null,null,null,null,null,null,null,null,null,null,null,null,null,null,null,null,null,null,null,null,null,null,null,null,null,null,null,59513,null,null,45444.745999999999,{"$f":"ROUNDUP(BR193,0)","v":45445},null,0,null,43612.5072,{"$f":"ROUNDUP(($BW193+($BX$1*$BW193)),0)","v":45445},45445,{"$f":"BY193+(BY193*$BZ$1)","v":47262.8},47262.8,47263,51658.459000000003,51658.459000000003,{"$f":"ROUNDUP(CD193,0)","v":51659},{"$f":"IF(CE193=\"POA\",\"POA\", ROUNDUP(CE193*1.06,0))","v":54759},57114]
["YA9100","MOD:Y91",null,"VS:D","PC:1","BM:0","NC:N",null,null,null,null,null,null,null,null,null,null,null,null,"YA_9100_0002",null,{"$f":"AE194","v":65305},"CS (WCB)","Base Valve Price",49866.78,48889,47465,45884,44548,43250,65305,{"$f":"ROUNDUP($V194*FX!$G$2*CF!$B$3,0)","v":65305},{"$f":"ROUNDUP($V194*FX!$G$10*CF!$B$4,0)","v":90089},{"$f":"ROUNDUP($V194*FX!$G$35*CF!$B$5,0)","v":43888},{"$f":"ROUNDUP($V194*FX!$G$3*CF!$B$6,0)","v":90807},null,null,null,null,null,null,null,null,null,null,null,null,null,null,null,null,null,null,null,null,null,null,null,null,null,null,null,null,null,null,null,68048,null,null,51961.413999999997,51962,null,0,null,49866.729000000007,51962,51962,54040.480000000003,54040.480000000003,54041,59066.813000000002,59066.813000000002,59067,{"$f":"IF(CE194=\"POA\",\"POA\", ROUNDUP(CE194*1.06,0))","v":62612},65305]
["YA9100","MOD:Y91",null,"VS:E","PC:1","BM:0","NC:N",null,null,null,null,null,null,null,null,null,null,null,null,"YA_9100_0003",null,71520,"CS (WCB)","Base Valve Price",{"$f":"IFERROR(Z195*1.02,\"POA\")","v":54611.82},53541,51982,50250,48786,47365,{"$f":"CG195","v":71520},{"$f":"ROUNDUP($V195*FX!$G$2*CF!$B$3,0)","v":71520},{"$f":"ROUNDUP($V195*FX!$G$10*CF!$B$4,0)","v":98662},{"$f":"ROUNDUP($V195*FX!$G$35*CF!$B$5,0)","v":48065},{"$f":"ROUNDUP($V195*FX!$G$3*CF!$B$6,0)","v":99449},null,null,null,null,null,null,null,null,null,null,null,null,null,null,null,null,null,null,null,null,null,null,null,null,null,null,null,null,null,null,null,{"$f":"ROUNDUP(($AE195+($AE195*$BO$1)),0)","v":74524},null,null,56906.745999999999,56907,null,{"$f":"ROUNDUP(BT195,0)","v":0},null,54612.289199999999,56907,56907,59183.28,59183.28,{"$f":"ROUNDUP(CA195,0)","v":59184},{"$f":"CB195+(CB195*$CC$1)","v":64688.112000000001},64688.112000000001,64689,68571,{"$f":"IF(CF195=\"POA\",\"POA\", ROUNDUP(CF195*1.043,0))","v":71520}]
["YA9100","MOD:Y91",null,"VS:F","PC:1","BM:0","NC:N",null,null,null,null,null,null,null,null,null,null,null,null,"YA_9100_0004",null,74177,"CS (WCB)","Base Valve Price",56641.62,55531,53914,52117,50599,49125,74177,{"$f":"ROUNDUP($V196*FX!$G$2*CF!$B$3,0)","v":74177},{"$f":"ROUNDUP($V196*FX!$G$10*CF!$B$4,0)","v":102328},{"$f":"ROUNDUP($V196*FX!$G$35*CF!$B$5,0)","v":49851},{"$f":"ROUNDUP($V196*FX!$G$3*CF!$B$6,0)","v":103144},null,null,null,null,null,null,null,null,null,null,null,null,null,null,null,null,null,null,null,null,null,null,null,null,null,null,null,null,null,null,null,77293,null,null,59022.006000000001,59023,null,0,null,56642.0484,59022,59022,61382.879999999997,61382.879999999997,61383,67091.619000000006,67091.619000000006,67092,71118,74177]
["YA9100","MOD:Y91",null,"VS:G","PC:1","BM:0","NC:N",null,null,null,null,null,null,null,null,null,null,null,null,"YA_9100_0005",null,126562,"CS (WCB)","Base Valve Price",96646.02,94751,91991,89827,87211,84671,126562,{"$f":"ROUNDUP($V197*FX!$G$2*CF!$B$3,0)","v":126562},{"$f":"ROUNDUP($V197*FX!$G$10*CF!$B$4,0)","v":174593},{"$f":"ROUNDUP($V197*FX!$G$35*CF!$B$5,0)","v":85056},{"$f":"ROUNDUP($V197*FX!$G$3*CF!$B$6,0)","v":175985},null,null,null,null,null,null,null,null,null,null,null,null,null,null,null,null,null,null,null,null,null,null,null,null,null,null,null,null,null,null,null,131878,null,null,100705.132,100706,null,0,null,96645.744599999991,100705,100705,104733.2,104733.2,104734,114474.262,114474.262,114475,121344,126562]
["YA9100","MOD:Y91",null,"VS:C","PC:2","BM:0","NC:N",null,null,null,null,null,null,null,null,null,null,null,null,"YA_9100_0006",null,54830,"CS (WCB)","Base Valve Price",43612.14,42757,41512,41512,40303,39129,54830,{"$f":"ROUNDUP($V198*FX!$G$2*CF!$B$3,0)","v":54830},{"$f":"ROUNDUP($V198*FX!$G$10*CF!$B$4,0)","v":75639},{"$f":"ROUNDUP($V198*FX!$G$35*CF!$B$5,0)","v":36849},{"$f":"ROUNDUP($V198*FX!$G$3*CF!$B$6,0)","v":76242},null,null,null,null,null,null,null,null,null,null,null,null,null,null,null,null,null,null,null,null,null,null,null,null,null,null,null,null,null,null,null,57133,null,null,45444.745999999999,45445,null,0,null,43612.5072,45445,45445,47262.8,47262.8,47263,51658.459000000003,49592.120640000001,49593,52569,54830]
["YA9100","MOD:Y91",null,"VS:D","PC:2","BM:0","NC:N",null,null,null,null,null,null,null,null,null,null,null,null,"YA_9100_0007",null,62693,"CS (WCB)","Base Valve Price",49866.78,48889,47465,47465,46083,44741,62693,{"$f":"ROUNDUP($V199*FX!$G$2*CF!$B$3,0)","v":62693},{"$f":"ROUNDUP($V199*FX!$G$10*CF!$B$4,0)","v":86486},{"$f":"ROUNDUP($V199*FX!$G$35*CF!$B$5,0)","v":42133},{"$f":"ROUNDUP($V199*FX!$G$3*CF!$B$6,0)","v":87175},null,null,null,null,null,null,null,null,null,null,null,null,null,null,null,null,null,null,null,null,null,null,null,null,null,null,null,null,null,null,null,65327,null,null,51961.413999999997,51962,null,0,null,49866.729000000007,51962,51962,54040.480000000003,54040.480000000003,54041,59066.813000000002,56704.140480000002,56705,60108,62693]
["YA9100","MOD:Y91",null,"VS:E","PC:2","BM:0","NC:N",null,null,null,null,null,null,null,null,null,null,null,null,"YA_9100_0008",null,68659,"CS (WCB)","Base Valve Price",54611.82,53541,51982,51982,50468,48998,68659,{"$f":"ROUNDUP($V200*FX!$G$2*CF!$B$3,0)","v":68659},{"$f":"ROUNDUP($V200*FX!$G$10*CF!$B$4,0)","v":94716},{"$f":"ROUNDUP($V200*FX!$G$35*CF!$B$5,0)","v":46142},{"$f":"ROUNDUP($V200*FX!$G$3*CF!$B$6,0)","v":95471},null,null,null,null,null,null,null,null,null,null,null,null,null,null,null,null,null,null,null,null,null,null,null,null,null,null,null,null,null,null,null,71543,null,null,56906.745999999999,56907,null,0,null,54612.289199999999,56907,56907,59183.28,59183.28,59184,64688.112000000001,62100.587520000001,62101,65828,68659]
["YA9100","MOD:Y91",null,"VS:F","PC:2","BM:0","NC:N",null,null,null,null,null,null,null,null,null,null,null,null,"YA_9100_0009",null,74177,"CS (WCB)","Base Valve Price",56641.62,55531,53914,53914,52344,50819,74177,{"$f":"ROUNDUP($V201*FX!$G$2*CF!$B$3,0)","v":74177},{"$f":"ROUNDUP($V201*FX!$G$10*CF!$B$4,0)","v":102328},{"$f":"ROUNDUP($V201*FX!$G$35*CF!$B$5,0)","v":49851},{"$f":"ROUNDUP($V201*FX!$G$3*CF!$B$6,0)","v":103144},null,null,null,null,null,null,null,null,null,null,null,null,null,null,null,null,null,null,null,null,null,null,null,null,null,null,null,null,null,null,null,77293,null,null,59022.006000000001,59023,null,0,null,56642.0484,59022,59022,61382.879999999997,61382.879999999997,61383,67091.619000000006,67091.619000000006,67092,71118,74177]
["YA9100","MOD:Y91",null,"VS:G","PC:2","BM:0","NC:N",null,null,null,null,null,null,null,null,null,null,null,null,"YA_9100_0010",null,126562,"CS (WCB)","Base Valve Price",96646.02,94751,91991,91991,89312,86711,126562,{"$f":"ROUNDUP($V202*FX!$G$2*CF!$B$3,0)","v":126562},{"$f":"ROUNDUP($V202*FX!$G$10*CF!$B$4,0)","v":174593},{"$f":"ROUNDUP($V202*FX!$G$35*CF!$B$5,0)","v":85056},{"$f":"ROUNDUP($V202*FX!$G$3*CF!$B$6,0)","v":175985},null,null,null,null,null,null,null,null,null,null,null,null,null,null,null,null,null,null,null,null,null,null,null,null,null,null,null,null,null,null,null,131878,null,null,100705.132,100706,null,0,null,96645.744599999991,100705,100705,104733.2,104733.2,104734,114474.262,114474.262,114475,121344,126562]
["YA9100","MOD:Y91",null,"VS:C","PC:4","BM:0","NC:N",null,null,null,null,null,null,null,null,null,null,null,null,"YA_9100_0011",null,55791,"CS (WCB)","Base Valve Price",44377.14,43507,42240,42240,41010,39816,55791,{"$f":"ROUNDUP($V203*FX!$G$2*CF!$B$3,0)","v":55791},{"$f":"ROUNDUP($V203*FX!$G$10*CF!$B$4,0)","v":76964},{"$f":"ROUNDUP($V203*FX!$G$35*CF!$B$5,0)","v":37494},{"$f":"ROUNDUP($V203*FX!$G$3*CF!$B$6,0)","v":77578},null,null,null,null,null,null,null,null,null,null,null,null,null,null,null,null,null,null,null,null,null,null,null,null,null,null,null,null,null,null,null,58135,null,null,46241.876000000004,46242,null,0,null,44377.344000000005,46242,46242,48091.68,48091.68,48092,52564.555999999997,50461.973759999993,50462,53490,55791]
["YA9100","MOD:Y91",null,"VS:D","PC:4","BM:0","NC:N",null,null,null,null,null,null,null,null,null,null,null,null,"YA_9100_0012",null,63792,"CS (WCB)","Base Valve Price",50742.96,49748,48299,48299,46892,45526,63792,{"$f":"ROUNDUP($V204*FX!$G$2*CF!$B$3,0)","v":63792},{"$f":"ROUNDUP($V204*FX!$G$10*CF!$B$4,0)","v":88002},{"$f":"ROUNDUP($V204*FX!$G$35*CF!$B$5,0)","v":42871},{"$f":"ROUNDUP($V204*FX!$G$3*CF!$B$6,0)","v":88703},null,null,null,null,null,null,null,null,null,null,null,null,null,null,null,null,null,null,null,null,null,null,null,null,null,null,null,null,null,null,null,66472,null,null,52874.205999999998,52875,null,0,null,50742.929400000001,52875,52875,54990,54990,54990,60104.07,57699.907199999994,57700,61162,63792]
["YA9100","MOD:Y91",null,"VS:E","PC:4","BM:0","NC:N",null,null,null,null,null,null,null,null,null,null,null,null,"YA_9100_0013",null,69864,"CS (WCB)","Base Valve Price",55571.64,54482,52895,52895,51354,49858,69864,{"$f":"ROUNDUP($V205*FX!$G$2*CF!$B$3,0)","v":69864},{"$f":"ROUNDUP($V205*FX!$G$10*CF!$B$4,0)","v":96378},{"$f":"ROUNDUP($V205*FX!$G$35*CF!$B$5,0)","v":46952},{"$f":"ROUNDUP($V205*FX!$G$3*CF!$B$6,0)","v":97146},null,null,null,null,null,null,null,null,null,null,null,null,null,null,null,null,null,null,null,null,null,null,null,null,null,null,null,null,null,null,null,72799,null,null,57906.023999999998,57907,null,0,null,55571.487000000001,57906,57906,60222.239999999998,60222.239999999998,60223,65823.739000000001,63190.78944,63191,66983,69864]
["YA9100","MOD:Y91",null,"VS:F","PC:4","BM:0","NC:N",null,null,null,null,null,null,null,null,null,null,null,null,"YA_9100_0014",null,75478,"CS (WCB)","Base Valve Price",57636.12,56506,54860,54860,53262,51711,75478,{"$f":"ROUNDUP($V206*FX!$G$2*CF!$B$3,0)","v":75478},{"$f":"ROUNDUP($V206*FX!$G$10*CF!$B$4,0)","v":104122},{"$f":"ROUNDUP($V206*FX!$G$35*CF!$B$5,0)","v":50725},{"$f":"ROUNDUP($V206*FX!$G$3*CF!$B$6,0)","v":104953},null,null,null,null,null,null,null,null,null,null,null,null,null,null,null,null,null,null,null,null,null,null,null,null,null,null,null,null,null,null,null,78649,null,null,60056.712,60057,null,0,null,57635.916000000005,60057,60057,62459.28,62459.28,62460,68268.78,68268.78,68269,72366,75478]
["YA9100","MOD:Y91",null,"VS:G","PC:4","BM:0","NC:N",null,null,null,null,null,null,null,null,null,null,null,null,"YA_9100_0015",null,129689,"CS (WCB)","Base Valve Price",99033.84,97092,94264,94264,91518,88852,129689,{"$f":"ROUNDUP($V207*FX!$G$2*CF!$B$3,0)","v":129689},{"$f":"ROUNDUP($V207*FX!$G$10*CF!$B$4,0)","v":178907},{"$f":"ROUNDUP($V207*FX!$G$35*CF!$B$5,0)","v":87157},{"$f":"ROUNDUP($V207*FX!$G$3*CF!$B$6,0)","v":180333},null,null,null,null,null,null,null,null,null,null,null,null,null,null,null,null,null,null,null,null,null,null,null,null,null,null,null,null,null,null,null,135136,null,null,103193.428,103194,null,0,null,99033.758400000006,103194,103194,107321.76,107321.76,107322,117302.946,117302.946,117303,124342,129689]
["YA9100","MOD:Y91",null,"VS:A","PC:1","BM:1","NC:N",null,null,null,null,null,null,null,null,null,null,null,null,"YA_9100_0016",null,65526,"SS (CF8M)","Base Valve Price",50036.1,49055,47626,46505,45150,43835,65526,{"$f":"ROUNDUP($V208*FX!$G$2*CF!$B$3,0)","v":65526},{"$f":"ROUNDUP($V208*FX!$G$10*CF!$B$4,0)","v":90394},{"$f":"ROUNDUP($V208*FX!$G$35*CF!$B$5,0)","v":44037},{"$f":"ROUNDUP($V208*FX!$G$3*CF!$B$6,0)","v":91114},null,null,null,null,null,null,null,null,null,null,null,null,null,null,null,null,null,null,null,null,null,null,null,null,null,null,null,null,null,null,null,68279,null,null,52137.512000000002,52138,null,0,null,50035.875599999999,52138,52138,54223.519999999997,54223.519999999997,54224,59266.832000000002,59266.832000000002,59267,62824,65526]
["YA9100","MOD:Y91",null,"VS:B","PC:1","BM:1","NC:N",null,null,null,null,null,null,null,null,null,null,null,null,"YA_9100_0017",null,68784,"SS (CF8M)","Base Valve Price",52524.9,51495,49995,47995,46597,45240,68784,{"$f":"ROUNDUP($V209*FX!$G$2*CF!$B$3,0)","v":68784},{"$f":"ROUNDUP($V209*FX!$G$10*CF!$B$4,0)","v":94888},{"$f":"ROUNDUP($V209*FX!$G$35*CF!$B$5,0)","v":46226},{"$f":"ROUNDUP($V209*FX!$G$3*CF!$B$6,0)","v":95645},null,null,null,null,null,null,null,null,null,null,null,null,null,null,null,null,null,null,null,null,null,null,null,null,null,null,null,null,null,null,null,71673,null,null,54731.05,54732,null,0,null,52524.747000000003,54731,54731,56920.24,56920.24,56921,62214.652999999998,62214.652999999998,62215,65948,68784]
["YA9100","MOD:Y91",null,"VS:C","PC:1","BM:1","NC:N",null,null,null,null,null,null,null,null,null,null,null,null,"YA_9100_0018",null,70975,"SS (CF8M)","Base Valve Price",54197.700000000004,53135,51587,49522,48080,46680,70975,{"$f":"ROUNDUP($V210*FX!$G$2*CF!$B$3,0)","v":70975},{"$f":"ROUNDUP($V210*FX!$G$10*CF!$B$4,0)","v":97911},{"$f":"ROUNDUP($V210*FX!$G$35*CF!$B$5,0)","v":47699},{"$f":"ROUNDUP($V210*FX!$G$3*CF!$B$6,0)","v":98691},null,null,null,null,null,null,null,null,null,null,null,null,null,null,null,null,null,null,null,null,null,null,null,null,null,null,null,null,null,null,null,73956,null,null,56474.315999999999,56475,null,0,null,54197.302199999998,56474,56474,58732.959999999999,58732.959999999999,58733,64195.169000000002,64195.169000000002,64196,68048,70975]
["YA9100","MOD:Y91",null,"VS:D","PC:1","BM:1","NC:N",null,null,null,null,null,null,null,null,null,null,null,null,"YA_9100_0019",null,74139,"SS (CF8M)","Base Valve Price",56614.080000000002,55504,53887,52090,50573,49100,74139,{"$f":"ROUNDUP($V211*FX!$G$2*CF!$B$3,0)","v":74139},{"$f":"ROUNDUP($V211*FX!$G$10*CF!$B$4,0)","v":102275},{"$f":"ROUNDUP($V211*FX!$G$35*CF!$B$5,0)","v":49825},{"$f":"ROUNDUP($V211*FX!$G$3*CF!$B$6,0)","v":103091},null,null,null,null,null,null,null,null,null,null,null,null,null,null,null,null,null,null,null,null,null,null,null,null,null,null,null,null,null,null,null,77253,null,null,58991.788,58992,null,0,null,56613.682200000003,58992,58992,61351.68,61351.68,61352,67057.736000000004,67057.736000000004,67058,71082,74139]
["YA9100","MOD:Y91",null,"VS:E","PC:1","BM:1","NC:N",null,null,null,null,null,null,null,null,null,null,null,null,"YA_9100_0020",null,86896,"SS (CF8M)","Base Valve Price",66356.100000000006,65055,63160,61055,59277,57550,86896,{"$f":"ROUNDUP($V212*FX!$G$2*CF!$B$3,0)","v":86896},{"$f":"ROUNDUP($V212*FX!$G$10*CF!$B$4,0)","v":119874},{"$f":"ROUNDUP($V212*FX!$G$35*CF!$B$5,0)","v":58398},{"$f":"ROUNDUP($V212*FX!$G$3*CF!$B$6,0)","v":120829},null,null,null,null,null,null,null,null,null,null,null,null,null,null,null,null,null,null,null,null,null,null,null,null,null,null,null,null,null,null,null,90546,null,null,69142.952000000005,69143,null,0,null,66355.896000000008,69143,69143,71908.72,71908.72,71909,78596.536999999997,78596.536999999997,78597,83313,86896]
["YA9100","MOD:Y91",null,"VS:F","PC:1","BM:1","NC:N",null,null,null,null,null,null,null,null,null,null,null,null,"YA_9100_0021",null,90446,"SS (CF8M)","Base Valve Price",69066.240000000005,67712,65740,63548,61697,59900,90446,{"$f":"ROUNDUP($V213*FX!$G$2*CF!$B$3,0)","v":90446},{"$f":"ROUNDUP($V213*FX!$G$10*CF!$B$4,0)","v":124771},{"$f":"ROUNDUP($V213*FX!$G$35*CF!$B$5,0)","v":60784},{"$f":"ROUNDUP($V213*FX!$G$3*CF!$B$6,0)","v":125766},null,null,null,null,null,null,null,null,null,null,null,null,null,null,null,null,null,null,null,null,null,null,null,null,null,null,null,null,null,null,null,94245,null,null,71967.813999999998,71968,null,0,null,69066.444000000003,71968,71968,74846.720000000001,74846.720000000001,74847,81807.770999999993,81807.770999999993,81808,86717,90446]
["YA9100","MOD:Y91",null,"VS:G","PC:1","BM:1","NC:N",null,null,null,null,null,null,null,null,null,null,null,null,"YA_9100_0022",null,158105,"SS (CF8M)","Base Valve Price",120733.32,118366,114918,111853,108595,105432,158105,{"$f":"ROUNDUP($V214*FX!$G$2*CF!$B$3,0)","v":158105},{"$f":"ROUNDUP($V214*FX!$G$10*CF!$B$4,0)","v":218106},{"$f":"ROUNDUP($V214*FX!$G$35*CF!$B$5,0)","v":106254},{"$f":"ROUNDUP($V214*FX!$G$3*CF!$B$6,0)","v":219846},null,null,null,null,null,null,null,null,null,null,null,null,null,null,null,null,null,null,null,null,null,null,null,null,null,null,null,null,null,null,null,164746,null,null,125803.78599999999,125804,null,0,null,120732.85080000001,125804,125804,130836.16,130836.16,130837,143004.84100000001,143004.84100000001,143005,151586,158105]
["YA9100","MOD:Y91",null,"VS:A","PC:2","BM:1","NC:N",null,null,null,null,null,null,null,null,null,null,null,null,"YA_9100_0023",null,65526,"SS (CF8M)","Base Valve Price",50036.1,49055,47626,47626,46239,44892,65526,{"$f":"ROUNDUP($V215*FX!$G$2*CF!$B$3,0)","v":65526},{"$f":"ROUNDUP($V215*FX!$G$10*CF!$B$4,0)","v":90394},{"$f":"ROUNDUP($V215*FX!$G$35*CF!$B$5,0)","v":44037},{"$f":"ROUNDUP($V215*FX!$G$3*CF!$B$6,0)","v":91114},null,null,null,null,null,null,null,null,null,null,null,null,null,null,null,null,null,null,null,null,null,null,null,null,null,null,null,null,null,null,null,68279,null,null,52137.512000000002,52138,null,0,null,50035.875599999999,52138,52138,54223.519999999997,54223.519999999997,54224,59266.832000000002,59266.832000000002,59267,62824,65526]
["YA9100","MOD:Y91",null,"VS:B","PC:2","BM:1","NC:N",null,null,null,null,null,null,null,null,null,null,null,null,"YA_9100_0024",null,68784,"SS (CF8M)","Base Valve Price",52524.9,51495,49995,49995,48539,47125,68784,{"$f":"ROUNDUP($V216*FX!$G$2*CF!$B$3,0)","v":68784},{"$f":"ROUNDUP($V216*FX!$G$10*CF!$B$4,0)","v":94888},{"$f":"ROUNDUP($V216*FX!$G$35*CF!$B$5,0)","v":46226},{"$f":"ROUNDUP($V216*FX!$G$3*CF!$B$6,0)","v":95645},null,null,null,null,null,null,null,null,null,null,null,null,null,null,null,null,null,null,null,null,null,null,null,null,null,null,null,null,null,null,null,71673,null,null,54731.05,54732,null,0,null,52524.747000000003,54731,54731,56920.24,56920.24,56921,62214.652999999998,62214.652999999998,62215,65948,68784]
["YA9100","MOD:Y91",null,"VS:C","PC:2","BM:1","NC:N",null,null,null,null,null,null,null,null,null,null,null,null,"YA_9100_0025",null,70975,"SS (CF8M)","Base Valve Price",54197.700000000004,53135,51587,51587,50084,48625,70975,{"$f":"ROUNDUP($V217*FX!$G$2*CF!$B$3,0)","v":70975},{"$f":"ROUNDUP($V217*FX!$G$10*CF!$B$4,0)","v":97911},{"$f":"ROUNDUP($V217*FX!$G$35*CF!$B$5,0)","v":47699},{"$f":"ROUNDUP($V217*FX!$G$3*CF!$B$6,0)","v":98691},null,null,null,null,null,null,null,null,null,null,null,null,null,null,null,null,null,null,null,null,null,null,null,null,null,null,null,null,null,null,null,73956,null,null,56474.315999999999,56475,null,0,null,54197.302199999998,56474,56474,58732.959999999999,58732.959999999999,58733,64195.169000000002,64195.169000000002,64196,68048,70975]
["YA9100","MOD:Y91",null,"VS:D","PC:2","BM:1","NC:N",null,null,null,null,null,null,null,null,null,null,null,null,"YA_9100_0026",null,74139,"SS (CF8M)","Base Valve Price",56614.080000000002,55504,53887,53887,52317,50793,74139,{"$f":"ROUNDUP($V218*FX!$G$2*CF!$B$3,0)","v":74139},{"$f":"ROUNDUP($V218*FX!$G$10*CF!$B$4,0)","v":102275},{"$f":"ROUNDUP($V218*FX!$G$35*CF!$B$5,0)","v":49825},{"$f":"ROUNDUP($V218*FX!$G$3*CF!$B$6,0)","v":103091},null,null,null,null,null,null,null,null,null,null,null,null,null,null,null,null,null,null,null,null,null,null,null,null,null,null,null,null,null,null,null,77253,null,null,58991.788,58992,null,0,null,56613.682200000003,58992,58992,61351.68,61351.68,61352,67057.736000000004,67057.736000000004,67058,71082,74139]
["YA9100","MOD:Y91",null,"VS:E","PC:2","BM:1","NC:N",null,null,null,null,null,null,null,null,null,null,null,null,"YA_9100_0027",null,86896,"SS (CF8M)","Base Valve Price",66356.100000000006,65055,63160,63160,61320,59534,86896,{"$f":"ROUNDUP($V219*FX!$G$2*CF!$B$3,0)","v":86896},{"$f":"ROUNDUP($V219*FX!$G$10*CF!$B$4,0)","v":119874},{"$f":"ROUNDUP($V219*FX!$G$35*CF!$B$5,0)","v":58398},{"$f":"ROUNDUP($V219*FX!$G$3*CF!$B$6,0)","v":120829},null,null,null,null,null,null,null,null,null,null,null,null,null,null,null,null,null,null,null,null,null,null,null,null,null,null,null,null,null,null,null,90546,null,null,69142.952000000005,69143,null,0,null,66355.896000000008,69143,69143,71908.72,71908.72,71909,78596.536999999997,78596.536999999997,78597,83313,86896]
["YA9100","MOD:Y91",null,"VS:F","PC:2","BM:1","NC:N",null,null,null,null,null,null,null,null,null,null,null,null,"YA_9100_0028",null,90446,"SS (CF8M)","Base Valve Price",69066.240000000005,67712,65740,65740,63825,61966,90446,{"$f":"ROUNDUP($V220*FX!$G$2*CF!$B$3,0)","v":90446},{"$f":"ROUNDUP($V220*FX!$G$10*CF!$B$4,0)","v":124771},{"$f":"ROUNDUP($V220*FX!$G$35*CF!$B$5,0)","v":60784},{"$f":"ROUNDUP($V220*FX!$G$3*CF!$B$6,0)","v":125766},null,null,null,null,null,null,null,null,null,null,null,null,null,null,null,null,null,null,null,null,null,null,null,null,null,null,null,null,null,null,null,94245,null,null,71967.813999999998,71968,null,0,null,69066.444000000003,71968,71968,74846.720000000001,74846.720000000001,74847,81807.770999999993,81807.770999999993,81808,86717,90446]
["YA9100","MOD:Y91",null,"VS:G","PC:2","BM:1","NC:N",null,null,null,null,null,null,null,null,null,null,null,null,"YA_9100_0029",null,158105,"SS (CF8M)","Base Valve Price",120733.32,118366,114918,114918,111571,108321,158105,{"$f":"ROUNDUP($V221*FX!$G$2*CF!$B$3,0)","v":158105},{"$f":"ROUNDUP($V221*FX!$G$10*CF!$B$4,0)","v":218106},{"$f":"ROUNDUP($V221*FX!$G$35*CF!$B$5,0)","v":106254},{"$f":"ROUNDUP($V221*FX!$G$3*CF!$B$6,0)","v":219846},null,null,null,null,null,null,null,null,null,null,null,null,null,null,null,null,null,null,null,null,null,null,null,null,null,null,null,null,null,null,null,164746,null,null,125803.78599999999,125804,null,0,null,120732.85080000001,125804,125804,130836.16,130836.16,130837,143004.84100000001,143004.84100000001,143005,151586,158105]
["YA9100","MOD:Y91",null,"VS:A","PC:4","BM:1","NC:N",null,null,null,null,null,null,null,null,null,null,null,null,"YA_9100_0030",null,66324,"SS (CF8M)","Base Valve Price",50645.04,49652,48206,48206,46802,45439,66324,{"$f":"ROUNDUP($V222*FX!$G$2*CF!$B$3,0)","v":66324},{"$f":"ROUNDUP($V222*FX!$G$10*CF!$B$4,0)","v":91494},{"$f":"ROUNDUP($V222*FX!$G$35*CF!$B$5,0)","v":44573},{"$f":"ROUNDUP($V222*FX!$G$3*CF!$B$6,0)","v":92224},null,null,null,null,null,null,null,null,null,null,null,null,null,null,null,null,null,null,null,null,null,null,null,null,null,null,null,null,null,null,null,69110,null,null,52773.131999999998,52774,null,0,null,50645.223600000005,52773,52773,54883.92,54883.92,54884,59988.212,59988.212,59989,63589,66324]
["YA9100","MOD:Y91",null,"VS:B","PC:4","BM:1","NC:N",null,null,null,null,null,null,null,null,null,null,null,null,"YA_9100_0031",null,70249,"SS (CF8M)","Base Valve Price",53642.82,52591,51059,51059,49572,48128,70249,{"$f":"ROUNDUP($V223*FX!$G$2*CF!$B$3,0)","v":70249},{"$f":"ROUNDUP($V223*FX!$G$10*CF!$B$4,0)","v":96909},{"$f":"ROUNDUP($V223*FX!$G$35*CF!$B$5,0)","v":47211},{"$f":"ROUNDUP($V223*FX!$G$3*CF!$B$6,0)","v":97682},null,null,null,null,null,null,null,null,null,null,null,null,null,null,null,null,null,null,null,null,null,null,null,null,null,null,null,null,null,null,null,73200,null,null,55896.006000000001,55897,null,0,null,53642.585400000004,55896,55896,58131.839999999997,58131.839999999997,58132,63538.275999999998,63538.275999999998,63539,67352,70249]
["YA9100","MOD:Y91",null,"VS:C","PC:4","BM:1","NC:N",null,null,null,null,null,null,null,null,null,null,null,null,"YA_9100_0032",null,72486,"SS (CF8M)","Base Valve Price",55351.32,54266,52685,52685,51150,49660,72486,{"$f":"ROUNDUP($V224*FX!$G$2*CF!$B$3,0)","v":72486},{"$f":"ROUNDUP($V224*FX!$G$10*CF!$B$4,0)","v":99995},{"$f":"ROUNDUP($V224*FX!$G$35*CF!$B$5,0)","v":48714},{"$f":"ROUNDUP($V224*FX!$G$3*CF!$B$6,0)","v":100792},null,null,null,null,null,null,null,null,null,null,null,null,null,null,null,null,null,null,null,null,null,null,null,null,null,null,null,null,null,null,null,75531,null,null,57675.741999999998,57676,null,0,null,55350.861000000004,57676,57676,59983.040000000001,59983.040000000001,59984,65562.512000000002,65562.512000000002,65563,69497,72486]
["YA9100","MOD:Y91",null,"VS:D","PC:4","BM:1","NC:N",null,null,null,null,null,null,null,null,null,null,null,null,"YA_9100_0033",null,75440,"SS (CF8M)","Base Valve Price",57606.54,56477,54832,54832,53235,51684,75440,{"$f":"ROUNDUP($V225*FX!$G$2*CF!$B$3,0)","v":75440},{"$f":"ROUNDUP($V225*FX!$G$10*CF!$B$4,0)","v":104070},{"$f":"ROUNDUP($V225*FX!$G$35*CF!$B$5,0)","v":50699},{"$f":"ROUNDUP($V225*FX!$G$3*CF!$B$6,0)","v":104900},null,null,null,null,null,null,null,null,null,null,null,null,null,null,null,null,null,null,null,null,null,null,null,null,null,null,null,null,null,null,null,78609,null,null,60026.493999999999,60027,null,0,null,57606.499199999998,60026,60026,62427.040000000001,62427.040000000001,62428,68233.804000000004,68233.804000000004,68234,72329,75440]
["YA9100","MOD:Y91",null,"VS:E","PC:4","BM:1","NC:N",null,null,null,null,null,null,null,null,null,null,null,null,"YA_9100_0034",null,88421,"SS (CF8M)","Base Valve Price",67519.92,66196,64268,64268,62396,60579,88421,{"$f":"ROUNDUP($V226*FX!$G$2*CF!$B$3,0)","v":88421},{"$f":"ROUNDUP($V226*FX!$G$10*CF!$B$4,0)","v":121977},{"$f":"ROUNDUP($V226*FX!$G$35*CF!$B$5,0)","v":59423},{"$f":"ROUNDUP($V226*FX!$G$3*CF!$B$6,0)","v":122950},null,null,null,null,null,null,null,null,null,null,null,null,null,null,null,null,null,null,null,null,null,null,null,null,null,null,null,null,null,null,null,92135,null,null,70355.839999999997,70356,null,0,null,67519.960800000015,70356,70356,73170.240000000005,73170.240000000005,73171,79975.903000000006,79975.903000000006,79976,84775,88421]
["YA9100","MOD:Y91",null,"VS:F","PC:4","BM:1","NC:N",null,null,null,null,null,null,null,null,null,null,null,null,"YA_9100_0035",null,92033,"SS (CF8M)","Base Valve Price",70278,68900,66893,66893,64945,63053,92033,{"$f":"ROUNDUP($V227*FX!$G$2*CF!$B$3,0)","v":92033},{"$f":"ROUNDUP($V227*FX!$G$10*CF!$B$4,0)","v":126960},{"$f":"ROUNDUP($V227*FX!$G$35*CF!$B$5,0)","v":61851},{"$f":"ROUNDUP($V227*FX!$G$3*CF!$B$6,0)","v":127972},null,null,null,null,null,null,null,null,null,null,null,null,null,null,null,null,null,null,null,null,null,null,null,null,null,null,null,null,null,null,null,95899,null,null,73229.676000000007,73230,null,0,null,70277.785800000012,73230,73230,76159.199999999997,76159.199999999997,76160,83242.880000000005,83242.880000000005,83243,88238,92033]
["YA9100","MOD:Y91",null,"VS:G","PC:4","BM:1","NC:N",null,null,null,null,null,null,null,null,null,null,null,null,"YA_9100_0036",null,202484,"SS (CF8M)","Base Valve Price",154622.82,151591,147176,147176,142889,138727,202484,{"$f":"ROUNDUP($V228*FX!$G$2*CF!$B$3,0)","v":202484},{"$f":"ROUNDUP($V228*FX!$G$10*CF!$B$4,0)","v":279327},{"$f":"ROUNDUP($V228*FX!$G$35*CF!$B$5,0)","v":136078},{"$f":"ROUNDUP($V228*FX!$G$3*CF!$B$6,0)","v":281555},null,null,null,null,null,null,null,null,null,null,null,null,null,null,null,null,null,null,null,null,null,null,null,null,null,null,null,null,null,null,null,210989,null,null,161118.20800000001,161119,null,0,null,154623.10560000001,161118,161118,167562.72,167562.72,167563,183146.359,183146.359,183147,194136,202484]
["YA9100","MOD:Y91",null,"VS:C","PC:4","BM:5","NC:N",null,null,null,null,null,null,null,null,null,null,null,null,"YA_9100_0037",null,"POA","S Dup (CD3MWCuN)","Base Valve Price","POA",{"$f":"IFERROR(AA229*1.03,\"POA\")","v":"POA"},"POA","POA","POA","POA","POA",{"$f":"ROUNDUP($V229*FX!$G$2*CF!$B$3,0)","v":{"$error":"#VALUE!"}},{"$f":"ROUNDUP($V229*FX!$G$10*CF!$B$4,0)","v":{"$error":"#VALUE!"}},{"$f":"ROUNDUP($V229*FX!$G$35*CF!$B$5,0)","v":{"$error":"#VALUE!"}},{"$f":"ROUNDUP($V229*FX!$G$3*CF!$B$6,0)","v":{"$error":"#VALUE!"}},null,null,null,null,null,null,null,null,null,null,null,null,null,null,null,null,null,null,null,null,null,null,null,null,null,null,null,null,null,null,null,{"$error":"#VALUE!"},null,null,{"$error":"#VALUE!"},{"$f":"AE229","v":"POA"},null,0,null,"POA","POA","POA","POA","POA","POA","POA","POA","POA","POA","POA"]
["YA9100","MOD:Y91",null,"VS:D","PC:4","BM:5","NC:N",null,null,null,null,null,null,null,null,null,null,null,null,"YA_9100_0038",null,"POA","S Dup (CD3MWCuN)","Base Valve Price","POA","POA","POA","POA","POA","POA","POA",{"$f":"ROUNDUP($V230*FX!$G$2*CF!$B$3,0)","v":{"$error":"#VALUE!"}},{"$f":"ROUNDUP($V230*FX!$G$10*CF!$B$4,0)","v":{"$error":"#VALUE!"}},{"$f":"ROUNDUP($V230*FX!$G$35*CF!$B$5,0)","v":{"$error":"#VALUE!"}},{"$f":"ROUNDUP($V230*FX!$G$3*CF!$B$6,0)","v":{"$error":"#VALUE!"}},null,null,null,null,null,null,null,null,null,null,null,null,null,null,null,null,null,null,null,null,null,null,null,null,null,null,null,null,null,null,null,{"$error":"#VALUE!"},null,null,{"$error":"#VALUE!"},"POA",null,0,null,"POA","POA","POA","POA","POA","POA","POA","POA","POA","POA","POA"]
["YA9100","MOD:Y91",null,"VS:E","PC:4","BM:5","NC:N",null,null,null,null,null,null,null,null,null,null,null,null,"YA_9100_0039",null,"POA","S Dup (CD3MWCuN)","Base Valve Price","POA","POA","POA","POA","POA","POA","POA",{"$f":"ROUNDUP($V231*FX!$G$2*CF!$B$3,0)","v":{"$error":"#VALUE!"}},{"$f":"ROUNDUP($V231*FX!$G$10*CF!$B$4,0)","v":{"$error":"#VALUE!"}},{"$f":"ROUNDUP($V231*FX!$G$35*CF!$B$5,0)","v":{"$error":"#VALUE!"}},{"$f":"ROUNDUP($V231*FX!$G$3*CF!$B$6,0)","v":{"$error":"#VALUE!"}},null,null,null,null,null,null,null,null,null,null,null,null,null,null,null,null,null,null,null,null,null,null,null,null,null,null,null,null,null,null,null,{"$error":"#VALUE!"},null,null,{"$error":"#VALUE!"},"POA",null,0,null,"POA","POA","POA","POA","POA","POA","POA","POA","POA","POA","POA"]
["YA9100","MOD:Y91",null,"VS:F","PC:4","BM:5","NC:N",null,null,null,null,null,null,null,null,null,null,null,null,"YA_9100_0040",null,"POA","S Dup (CD3MWCuN)","Base Valve Price","POA","POA","POA","POA","POA","POA","POA",{"$f":"ROUNDUP($V232*FX!$G$2*CF!$B$3,0)","v":{"$error":"#VALUE!"}},{"$f":"ROUNDUP($V232*FX!$G$10*CF!$B$4,0)","v":{"$error":"#VALUE!"}},{"$f":"ROUNDUP($V232*FX!$G$35*CF!$B$5,0)","v":{"$error":"#VALUE!"}},{"$f":"ROUNDUP($V232*FX!$G$3*CF!$B$6,0)","v":{"$error":"#VALUE!"}},null,null,null,null,null,null,null,null,null,null,null,null,null,null,null,null,null,null,null,null,null,null,null,null,null,null,null,null,null,null,null,{"$error":"#VALUE!"},null,null,{"$error":"#VALUE!"},"POA",null,0,null,"POA","POA","POA","POA","POA","POA","POA","POA","POA","POA","POA"]
["YA9100","MOD:Y91",null,"VS:G","PC:4","BM:5","NC:N",null,null,null,null,null,null,null,null,null,null,null,null,"YA_9100_0041",null,"POA","S Dup (CD3MWCuN)","Base Valve Price","POA","POA","POA","POA","POA","POA","POA",{"$f":"ROUNDUP($V233*FX!$G$2*CF!$B$3,0)","v":{"$error":"#VALUE!"}},{"$f":"ROUNDUP($V233*FX!$G$10*CF!$B$4,0)","v":{"$error":"#VALUE!"}},{"$f":"ROUNDUP($V233*FX!$G$35*CF!$B$5,0)","v":{"$error":"#VALUE!"}},{"$f":"ROUNDUP($V233*FX!$G$3*CF!$B$6,0)","v":{"$error":"#VALUE!"}},null,null,null,null,null,null,null,null,null,null,null,null,null,null,null,null,null,null,null,null,null,null,null,null,null,null,null,null,null,null,null,{"$error":"#VALUE!"},null,null,{"$error":"#VALUE!"},"POA",null,0,null,"POA","POA","POA","POA","POA","POA","POA","POA","POA","POA","POA"]
["YA9100","MOD:Y91",null,"VS:C","PC:4","BM:6","NC:N",null,null,null,null,null,null,null,null,null,null,null,null,"YA_9100_0042",null,"POA","6Mo (CK3MCuN)","Base Valve Price","POA","POA","POA","POA","POA","POA","POA",{"$f":"ROUNDUP($V234*FX!$G$2*CF!$B$3,0)","v":{"$error":"#VALUE!"}},{"$f":"ROUNDUP($V234*FX!$G$10*CF!$B$4,0)","v":{"$error":"#VALUE!"}},{"$f":"ROUNDUP($V234*FX!$G$35*CF!$B$5,0)","v":{"$error":"#VALUE!"}},{"$f":"ROUNDUP($V234*FX!$G$3*CF!$B$6,0)","v":{"$error":"#VALUE!"}},null,null,null,null,null,null,null,null,null,null,null,null,null,null,null,null,null,null,null,null,null,null,null,null,null,null,null,null,null,null,null,{"$error":"#VALUE!"},null,null,{"$error":"#VALUE!"},"POA",null,0,null,"POA","POA","POA","POA","POA","POA","POA","POA","POA","POA","POA"]
["YA9100","MOD:Y91",null,"VS:D","PC:4","BM:6","NC:N",null,null,null,null,null,null,null,null,null,null,null,null,"YA_9100_0043",null,"POA","6Mo (CK3MCuN)","Base Valve Price","POA","POA","POA","POA","POA","POA","POA",{"$f":"ROUNDUP($V235*FX!$G$2*CF!$B$3,0)","v":{"$error":"#VALUE!"}},{"$f":"ROUNDUP($V235*FX!$G$10*CF!$B$4,0)","v":{"$error":"#VALUE!"}},{"$f":"ROUNDUP($V235*FX!$G$35*CF!$B$5,0)","v":{"$error":"#VALUE!"}},{"$f":"ROUNDUP($V235*FX!$G$3*CF!$B$6,0)","v":{"$error":"#VALUE!"}},null,null,null,null,null,null,null,null,null,null,null,null,null,null,null,null,null,null,null,null,null,null,null,null,null,null,null,null,null,null,null,{"$error":"#VALUE!"},null,null,{"$error":"#VALUE!"},"POA",null,0,null,"POA","POA","POA","POA","POA","POA","POA","POA","POA","POA","POA"]
["YA9100","MOD:Y91",null,"VS:E","PC:4","BM:6","NC:N",null,null,null,null,null,null,null,null,null,null,null,null,"YA_9100_0044",null,"POA","6Mo (CK3MCuN)","Base Valve Price","POA","POA","POA","POA","POA","POA","POA",{"$f":"ROUNDUP($V236*FX!$G$2*CF!$B$3,0)","v":{"$error":"#VALUE!"}},{"$f":"ROUNDUP($V236*FX!$G$10*CF!$B$4,0)","v":{"$error":"#VALUE!"}},{"$f":"ROUNDUP($V236*FX!$G$35*CF!$B$5,0)","v":{"$error":"#VALUE!"}},{"$f":"ROUNDUP($V236*FX!$G$3*CF!$B$6,0)","v":{"$error":"#VALUE!"}},null,null,null,null,null,null,null,null,null,null,null,null,null,null,null,null,null,null,null,null,null,null,null,null,null,null,null,null,null,null,null,{"$error":"#VALUE!"},null,null,{"$error":"#VALUE!"},"POA",null,0,null,"POA","POA","POA","POA","POA","POA","POA","POA","POA","POA","POA"]
["YA9100","MOD:Y91",null,"VS:F","PC:4","BM:6","NC:N",null,null,null,null,null,null,null,null,null,null,null,null,"YA_9100_0045",null,"POA","6Mo (CK3MCuN)","Base Valve Price","POA","POA","POA","POA","POA","POA","POA",{"$f":"ROUNDUP($V237*FX!$G$2*CF!$B$3,0)","v":{"$error":"#VALUE!"}},{"$f":"ROUNDUP($V237*FX!$G$10*CF!$B$4,0)","v":{"$error":"#VALUE!"}},{"$f":"ROUNDUP($V237*FX!$G$35*CF!$B$5,0)","v":{"$error":"#VALUE!"}},{"$f":"ROUNDUP($V237*FX!$G$3*CF!$B$6,0)","v":{"$error":"#VALUE!"}},null,null,null,null,null,null,null,null,null,null,null,null,null,null,null,null,null,null,null,null,null,null,null,null,null,null,null,null,null,null,null,{"$error":"#VALUE!"},null,null,{"$error":"#VALUE!"},"POA",null,0,null,"POA","POA","POA","POA","POA","POA","POA","POA","POA","POA","POA"]
["YA9100","MOD:Y91",null,"VS:G","PC:4","BM:6","NC:N",null,null,null,null,null,null,null,null,null,null,null,null,"YA_9100_0046",null,"POA","6Mo (CK3MCuN)","Base Valve Price","POA","POA","POA","POA","POA","POA","POA",{"$f":"ROUNDUP($V238*FX!$G$2*CF!$B$3,0)","v":{"$error":"#VALUE!"}},{"$f":"ROUNDUP($V238*FX!$G$10*CF!$B$4,0)","v":{"$error":"#VALUE!"}},{"$f":"ROUNDUP($V238*FX!$G$35*CF!$B$5,0)","v":{"$error":"#VALUE!"}},{"$f":"ROUNDUP($V238*FX!$G$3*CF!$B$6,0)","v":{"$error":"#VALUE!"}},null,null,null,null,null,null,null,null,null,null,null,null,null,null,null,null,null,null,null,null,null,null,null,null,null,null,null,null,null,null,null,{"$error":"#VALUE!"},null,null,{"$error":"#VALUE!"},"POA",null,0,null,"POA","POA","POA","POA","POA","POA","POA","POA","POA","POA","POA"]
["YA9100","MOD:Y91",null,"VS:C","PC:1","BM:3","NC:Y",null,null,null,null,null,null,null,null,null,null,null,null,"YA_9100_0047",null,57114,"CS (WCB), NACE","Base Valve Price",43612.14,{"$f":"ROUND(IFERROR(AA239*1.03,\"POA\"),0)","v":42757},41512,40129,38960,37825,57114,{"$f":"ROUNDUP($V239*FX!$G$2*CF!$B$3,0)","v":57114},{"$f":"ROUNDUP($V239*FX!$G$10*CF!$B$4,0)","v":78789},{"$f":"ROUNDUP($V239*FX!$G$35*CF!$B$5,0)","v":38384},{"$f":"ROUNDUP($V239*FX!$G$3*CF!$B$6,0)","v":79418},null,null,null,null,null,null,null,null,null,null,null,null,null,null,null,null,null,null,null,null,null,null,null,null,null,null,null,null,null,null,null,59513,null,null,45444.745999999999,{"$f":"ROUNDUP(BR239,0)","v":45445},null,0,null,43612.5072,{"$f":"ROUNDUP(($BW239+($BX$1*$BW239)),0)","v":45445},{"$f":"ROUNDUP(BX239,0)","v":45445},{"$f":"BY239+(BY239*$BZ$1)","v":47262.8},47262.8,47263,51658.459000000003,51658.459000000003,{"$f":"ROUNDUP(CD239,0)","v":51659},54759,57114]
["YA9100","MOD:Y91",null,"VS:D","PC:1","BM:3","NC:Y",null,null,null,null,null,null,null,null,null,null,null,null,"YA_9100_0048",null,65305,"CS (WCB), NACE","Base Valve Price",49866.78,48889,47465,45884,44548,43250,65305,{"$f":"ROUNDUP($V240*FX!$G$2*CF!$B$3,0)","v":65305},{"$f":"ROUNDUP($V240*FX!$G$10*CF!$B$4,0)","v":90089},{"$f":"ROUNDUP($V240*FX!$G$35*CF!$B$5,0)","v":43888},{"$f":"ROUNDUP($V240*FX!$G$3*CF!$B$6,0)","v":90807},null,null,null,null,null,null,null,null,null,null,null,null,null,null,null,null,null,null,null,null,null,null,null,null,null,null,null,null,null,null,null,68048,null,null,51961.413999999997,51962,null,0,null,49866.729000000007,51962,51962,54040.480000000003,54040.480000000003,54041,59066.813000000002,59066.813000000002,59067,62612,65305]
["YA9100","MOD:Y91",null,"VS:E","PC:1","BM:3","NC:Y",null,null,null,null,null,null,null,null,null,null,null,null,"YA_9100_0049",null,71520,"CS (WCB), NACE","Base Valve Price",54611.82,53541,51982,50250,48786,47365,71520,{"$f":"ROUNDUP($V241*FX!$G$2*CF!$B$3,0)","v":71520},{"$f":"ROUNDUP($V241*FX!$G$10*CF!$B$4,0)","v":98662},{"$f":"ROUNDUP($V241*FX!$G$35*CF!$B$5,0)","v":48065},{"$f":"ROUNDUP($V241*FX!$G$3*CF!$B$6,0)","v":99449},null,null,null,null,null,null,null,null,null,null,null,null,null,null,null,null,null,null,null,null,null,null,null,null,null,null,null,null,null,null,null,74524,null,null,56906.745999999999,56907,null,0,null,54612.289199999999,56907,56907,59183.28,59183.28,59184,64688.112000000001,64688.112000000001,64689,68571,71520]
["YA9100","MOD:Y91",null,"VS:F","PC:1","BM:3","NC:Y",null,null,null,null,null,null,null,null,null,null,null,null,"YA_9100_0050",null,74177,"CS (WCB), NACE","Base Valve Price",56641.62,55531,53914,52117,50599,49125,74177,{"$f":"ROUNDUP($V242*FX!$G$2*CF!$B$3,0)","v":74177},{"$f":"ROUNDUP($V242*FX!$G$10*CF!$B$4,0)","v":102328},{"$f":"ROUNDUP($V242*FX!$G$35*CF!$B$5,0)","v":49851},{"$f":"ROUNDUP($V242*FX!$G$3*CF!$B$6,0)","v":103144},null,null,null,null,null,null,null,null,null,null,null,null,null,null,null,null,null,null,null,null,null,null,null,null,null,null,null,null,null,null,null,77293,null,null,59022.006000000001,59023,null,0,null,56642.0484,59022,59022,61382.879999999997,61382.879999999997,61383,67091.619000000006,67091.619000000006,67092,71118,74177]
["YA9100","MOD:Y91",null,"VS:G","PC:1","BM:3","NC:Y",null,null,null,null,null,null,null,null,null,null,null,null,"YA_9100_0051",null,126562,"CS (WCB), NACE","Base Valve Price",96646.02,94751,91991,89827,87211,84671,126562,{"$f":"ROUNDUP($V243*FX!$G$2*CF!$B$3,0)","v":126562},{"$f":"ROUNDUP($V243*FX!$G$10*CF!$B$4,0)","v":174593},{"$f":"ROUNDUP($V243*FX!$G$35*CF!$B$5,0)","v":85056},{"$f":"ROUNDUP($V243*FX!$G$3*CF!$B$6,0)","v":175985},null,null,null,null,null,null,null,null,null,null,null,null,null,null,null,null,null,null,null,null,null,null,null,null,null,null,null,null,null,null,null,131878,null,null,100705.132,100706,null,0,null,96645.744599999991,100705,100705,104733.2,104733.2,104734,114474.262,114474.262,114475,121344,126562]
["YA9100","MOD:Y91",null,"VS:C","PC:2","BM:3","NC:Y",null,null,null,null,null,null,null,null,null,null,null,null,"YA_9100_0052",null,57114,"CS (WCB), NACE","Base Valve Price",43612.14,42757,41512,41512,40303,39129,57114,{"$f":"ROUNDUP($V244*FX!$G$2*CF!$B$3,0)","v":57114},{"$f":"ROUNDUP($V244*FX!$G$10*CF!$B$4,0)","v":78789},{"$f":"ROUNDUP($V244*FX!$G$35*CF!$B$5,0)","v":38384},{"$f":"ROUNDUP($V244*FX!$G$3*CF!$B$6,0)","v":79418},null,null,null,null,null,null,null,null,null,null,null,null,null,null,null,null,null,null,null,null,null,null,null,null,null,null,null,null,null,null,null,59513,null,null,45444.745999999999,45445,null,0,null,43612.5072,45445,45445,47262.8,47262.8,47263,51658.459000000003,51658.459000000003,51659,54759,57114]
["YA9100","MOD:Y91",null,"VS:D","PC:2","BM:3","NC:Y",null,null,null,null,null,null,null,null,null,null,null,null,"YA_9100_0053",null,65305,"CS (WCB), NACE","Base Valve Price",49866.78,48889,47465,47465,46083,44741,65305,{"$f":"ROUNDUP($V245*FX!$G$2*CF!$B$3,0)","v":65305},{"$f":"ROUNDUP($V245*FX!$G$10*CF!$B$4,0)","v":90089},{"$f":"ROUNDUP($V245*FX!$G$35*CF!$B$5,0)","v":43888},{"$f":"ROUNDUP($V245*FX!$G$3*CF!$B$6,0)","v":90807},null,null,null,null,null,null,null,null,null,null,null,null,null,null,null,null,null,null,null,null,null,null,null,null,null,null,null,null,null,null,null,68048,null,null,51961.413999999997,51962,null,0,null,49866.729000000007,51962,51962,54040.480000000003,54040.480000000003,54041,59066.813000000002,59066.813000000002,59067,62612,65305]
["YA9100","MOD:Y91",null,"VS:E","PC:2","BM:3","NC:Y",null,null,null,null,null,null,null,null,null,null,null,null,"YA_9100_0054",null,71520,"CS (WCB), NACE","Base Valve Price",54611.82,53541,51982,51982,50468,48998,71520,{"$f":"ROUNDUP($V246*FX!$G$2*CF!$B$3,0)","v":71520},{"$f":"ROUNDUP($V246*FX!$G$10*CF!$B$4,0)","v":98662},{"$f":"ROUNDUP($V246*FX!$G$35*CF!$B$5,0)","v":48065},{"$f":"ROUNDUP($V246*FX!$G$3*CF!$B$6,0)","v":99449},null,null,null,null,null,null,null,null,null,null,null,null,null,null,null,null,null,null,null,null,null,null,null,null,null,null,null,null,null,null,null,74524,null,null,56906.745999999999,56907,null,0,null,54612.289199999999,56907,56907,59183.28,59183.28,59184,64688.112000000001,64688.112000000001,64689,68571,71520]
["YA9100","MOD:Y91",null,"VS:F","PC:2","BM:3","NC:Y",null,null,null,null,null,null,null,null,null,null,null,null,"YA_9100_0055",null,74177,"CS (WCB), NACE","Base Valve Price",56641.62,55531,53914,53914,52344,50819,74177,{"$f":"ROUNDUP($V247*FX!$G$2*CF!$B$3,0)","v":74177},{"$f":"ROUNDUP($V247*FX!$G$10*CF!$B$4,0)","v":102328},{"$f":"ROUNDUP($V247*FX!$G$35*CF!$B$5,0)","v":49851},{"$f":"ROUNDUP($V247*FX!$G$3*CF!$B$6,0)","v":103144},null,null,null,null,null,null,null,null,null,null,null,null,null,null,null,null,null,null,null,null,null,null,null,null,null,null,null,null,null,null,null,77293,null,null,59022.006000000001,59023,null,0,null,56642.0484,59022,59022,61382.879999999997,61382.879999999997,61383,67091.619000000006,67091.619000000006,67092,71118,74177]
["YA9100","MOD:Y91",null,"VS:G","PC:2","BM:3","NC:Y",null,null,null,null,null,null,null,null,null,null,null,null,"YA_9100_0056",null,126562,"CS (WCB), NACE","Base Valve Price",96646.02,94751,91991,91991,89312,86711,126562,{"$f":"ROUNDUP($V248*FX!$G$2*CF!$B$3,0)","v":126562},{"$f":"ROUNDUP($V248*FX!$G$10*CF!$B$4,0)","v":174593},{"$f":"ROUNDUP($V248*FX!$G$35*CF!$B$5,0)","v":85056},{"$f":"ROUNDUP($V248*FX!$G$3*CF!$B$6,0)","v":175985},null,null,null,null,null,null,null,null,null,null,null,null,null,null,null,null,null,null,null,null,null,null,null,null,null,null,null,null,null,null,null,131878,null,null,100705.132,100706,null,0,null,96645.744599999991,100705,100705,104733.2,104733.2,104734,114474.262,114474.262,114475,121344,126562]
["YA9100","MOD:Y91",null,"VS:C","PC:4","BM:3","NC:Y",null,null,null,null,null,null,null,null,null,null,null,null,"YA_9100_0057",null,58115,"CS (WCB), NACE","Base Valve Price",44377.14,43507,42240,42240,41010,39816,58115,{"$f":"ROUNDUP($V249*FX!$G$2*CF!$B$3,0)","v":58115},{"$f":"ROUNDUP($V249*FX!$G$10*CF!$B$4,0)","v":80170},{"$f":"ROUNDUP($V249*FX!$G$35*CF!$B$5,0)","v":39056},{"$f":"ROUNDUP($V249*FX!$G$3*CF!$B$6,0)","v":80809},null,null,null,null,null,null,null,null,null,null,null,null,null,null,null,null,null,null,null,null,null,null,null,null,null,null,null,null,null,null,null,60556,null,null,46241.876000000004,46242,null,0,null,44377.344000000005,46242,46242,48091.68,48091.68,48092,52564.555999999997,52564.555999999997,52565,55719,58115]
["YA9100","MOD:Y91",null,"VS:D","PC:4","BM:3","NC:Y",null,null,null,null,null,null,null,null,null,null,null,null,"YA_9100_0058",null,66452,"CS (WCB), NACE","Base Valve Price",50742.96,49748,48299,48299,46892,45526,66452,{"$f":"ROUNDUP($V250*FX!$G$2*CF!$B$3,0)","v":66452},{"$f":"ROUNDUP($V250*FX!$G$10*CF!$B$4,0)","v":91671},{"$f":"ROUNDUP($V250*FX!$G$35*CF!$B$5,0)","v":44659},{"$f":"ROUNDUP($V250*FX!$G$3*CF!$B$6,0)","v":92402},null,null,null,null,null,null,null,null,null,null,null,null,null,null,null,null,null,null,null,null,null,null,null,null,null,null,null,null,null,null,null,69243,null,null,52874.205999999998,52875,null,0,null,50742.929400000001,52875,52875,54990,54990,54990,60104.07,60104.07,60105,63712,66452]
["YA9100","MOD:Y91",null,"VS:E","PC:4","BM:3","NC:Y",null,null,null,null,null,null,null,null,null,null,null,null,"YA_9100_0059",null,72775,"CS (WCB), NACE","Base Valve Price",55571.64,54482,52895,52895,51354,49858,72775,{"$f":"ROUNDUP($V251*FX!$G$2*CF!$B$3,0)","v":72775},{"$f":"ROUNDUP($V251*FX!$G$10*CF!$B$4,0)","v":100394},{"$f":"ROUNDUP($V251*FX!$G$35*CF!$B$5,0)","v":48908},{"$f":"ROUNDUP($V251*FX!$G$3*CF!$B$6,0)","v":101194},null,null,null,null,null,null,null,null,null,null,null,null,null,null,null,null,null,null,null,null,null,null,null,null,null,null,null,null,null,null,null,75832,null,null,57906.023999999998,57907,null,0,null,55571.487000000001,57906,57906,60222.239999999998,60222.239999999998,60223,65823.739000000001,65823.739000000001,65824,69774,72775]
["YA9100","MOD:Y91",null,"VS:F","PC:4","BM:3","NC:Y",null,null,null,null,null,null,null,null,null,null,null,null,"YA_9100_0060",null,75478,"CS (WCB), NACE","Base Valve Price",57636.12,56506,54860,54860,53262,51711,75478,{"$f":"ROUNDUP($V252*FX!$G$2*CF!$B$3,0)","v":75478},{"$f":"ROUNDUP($V252*FX!$G$10*CF!$B$4,0)","v":104122},{"$f":"ROUNDUP($V252*FX!$G$35*CF!$B$5,0)","v":50725},{"$f":"ROUNDUP($V252*FX!$G$3*CF!$B$6,0)","v":104953},null,null,null,null,null,null,null,null,null,null,null,null,null,null,null,null,null,null,null,null,null,null,null,null,null,null,null,null,null,null,null,78649,null,null,60056.712,60057,null,0,null,57635.916000000005,60057,60057,62459.28,62459.28,62460,68268.78,68268.78,68269,72366,75478]
["YA9100","MOD:Y91",null,"VS:G","PC:4","BM:3","NC:Y",null,null,null,null,null,null,null,null,null,null,null,null,"YA_9100_0061",null,129689,"CS (WCB), NACE","Base Valve Price",99033.84,97092,94264,94264,91518,88852,129689,{"$f":"ROUNDUP($V253*FX!$G$2*CF!$B$3,0)","v":129689},{"$f":"ROUNDUP($V253*FX!$G$10*CF!$B$4,0)","v":178907},{"$f":"ROUNDUP($V253*FX!$G$35*CF!$B$5,0)","v":87157},{"$f":"ROUNDUP($V253*FX!$G$3*CF!$B$6,0)","v":180333},null,null,null,null,null,null,null,null,null,null,null,null,null,null,null,null,null,null,null,null,null,null,null,null,null,null,null,null,null,null,null,135136,null,null,103193.428,103194,null,0,null,99033.758400000006,103194,103194,107321.76,107321.76,107322,117302.946,117302.946,117303,124342,129689]
["YA9100","MOD:Y91",null,"VS:A","PC:1","BM:2","NC:Y",null,null,null,null,null,null,null,null,null,null,null,null,"YA_9100_0062",null,65526,"SS (CF8M), NACE","Base Valve Price",50036.1,49055,47626,46505,45150,43835,65526,{"$f":"ROUNDUP($V254*FX!$G$2*CF!$B$3,0)","v":65526},{"$f":"ROUNDUP($V254*FX!$G$10*CF!$B$4,0)","v":90394},{"$f":"ROUNDUP($V254*FX!$G$35*CF!$B$5,0)","v":44037},{"$f":"ROUNDUP($V254*FX!$G$3*CF!$B$6,0)","v":91114},null,null,null,null,null,null,null,null,null,null,null,null,null,null,null,null,null,null,null,null,null,null,null,null,null,null,null,null,null,null,null,68279,null,null,52137.512000000002,52138,null,0,null,50035.875599999999,52138,52138,54223.519999999997,54223.519999999997,54224,59266.832000000002,59266.832000000002,59267,62824,65526]
["YA9100","MOD:Y91",null,"VS:B","PC:1","BM:2","NC:Y",null,null,null,null,null,null,null,null,null,null,null,null,"YA_9100_0063",null,68784,"SS (CF8M), NACE","Base Valve Price",52524.9,51495,49995,47995,46597,45240,68784,{"$f":"ROUNDUP($V255*FX!$G$2*CF!$B$3,0)","v":68784},{"$f":"ROUNDUP($V255*FX!$G$10*CF!$B$4,0)","v":94888},{"$f":"ROUNDUP($V255*FX!$G$35*CF!$B$5,0)","v":46226},{"$f":"ROUNDUP($V255*FX!$G$3*CF!$B$6,0)","v":95645},null,null,null,null,null,null,null,null,null,null,null,null,null,null,null,null,null,null,null,null,null,null,null,null,null,null,null,null,null,null,null,71673,null,null,54731.05,54732,null,0,null,52524.747000000003,54731,54731,56920.24,56920.24,56921,62214.652999999998,62214.652999999998,62215,65948,68784]
["YA9100","MOD:Y91",null,"VS:C","PC:1","BM:2","NC:Y",null,null,null,null,null,null,null,null,null,null,null,null,"YA_9100_0064",null,70975,"SS (CF8M), NACE","Base Valve Price",54197.700000000004,53135,51587,49522,48080,46680,70975,{"$f":"ROUNDUP($V256*FX!$G$2*CF!$B$3,0)","v":70975},{"$f":"ROUNDUP($V256*FX!$G$10*CF!$B$4,0)","v":97911},{"$f":"ROUNDUP($V256*FX!$G$35*CF!$B$5,0)","v":47699},{"$f":"ROUNDUP($V256*FX!$G$3*CF!$B$6,0)","v":98691},null,null,null,null,null,null,null,null,null,null,null,null,null,null,null,null,null,null,null,null,null,null,null,null,null,null,null,null,null,null,null,73956,null,null,56474.315999999999,56475,null,0,null,54197.302199999998,56474,56474,58732.959999999999,58732.959999999999,58733,64195.169000000002,64195.169000000002,64196,68048,70975]
["YA9100","MOD:Y91",null,"VS:D","PC:1","BM:2","NC:Y",null,null,null,null,null,null,null,null,null,null,null,null,"YA_9100_0065",null,74139,"SS (CF8M), NACE","Base Valve Price",56614.080000000002,55504,53887,52090,50573,49100,74139,{"$f":"ROUNDUP($V257*FX!$G$2*CF!$B$3,0)","v":74139},{"$f":"ROUNDUP($V257*FX!$G$10*CF!$B$4,0)","v":102275},{"$f":"ROUNDUP($V257*FX!$G$35*CF!$B$5,0)","v":49825},{"$f":"ROUNDUP($V257*FX!$G$3*CF!$B$6,0)","v":103091},null,null,null,null,null,null,null,null,null,null,null,null,null,null,null,null,null,null,null,null,null,null,null,null,null,null,null,null,null,null,null,77253,null,null,58991.788,58992,null,0,null,56613.682200000003,58992,58992,61351.68,61351.68,61352,67057.736000000004,67057.736000000004,67058,71082,74139]
["YA9100","MOD:Y91",null,"VS:E","PC:1","BM:2","NC:Y",null,null,null,null,null,null,null,null,null,null,null,null,"YA_9100_0066",null,{"$f":"AE258","v":86896},"SS (CF8M), NACE","Base Valve Price",66356.100000000006,65055,63160,61055,59277,57550,86896,{"$f":"ROUNDUP($V258*FX!$G$2*CF!$B$3,0)","v":86896},{"$f":"ROUNDUP($V258*FX!$G$10*CF!$B$4,0)","v":119874},{"$f":"ROUNDUP($V258*FX!$G$35*CF!$B$5,0)","v":58398},{"$f":"ROUNDUP($V258*FX!$G$3*CF!$B$6,0)","v":120829},null,null,null,null,null,null,null,null,null,null,null,null,null,null,null,null,null,null,null,null,null,null,null,null,null,null,null,null,null,null,null,90546,null,null,69142.952000000005,69143,null,0,null,66355.896000000008,69143,69143,71908.72,71908.72,71909,78596.536999999997,78596.536999999997,78597,{"$f":"IF(CE258=\"POA\",\"POA\", ROUNDUP(CE258*1.06,0))","v":83313},86896]
["YA9100","MOD:Y91",null,"VS:F","PC:1","BM:2","NC:Y",null,null,null,null,null,null,null,null,null,null,null,null,"YA_9100_0067",null,90446,"SS (CF8M), NACE","Base Valve Price",{"$f":"IFERROR(Z259*1.02,\"POA\")","v":69066.240000000005},67712,65740,63548,61697,59900,{"$f":"CG259","v":90446},{"$f":"ROUNDUP($V259*FX!$G$2*CF!$B$3,0)","v":90446},{"$f":"ROUNDUP($V259*FX!$G$10*CF!$B$4,0)","v":124771},{"$f":"ROUNDUP($V259*FX!$G$35*CF!$B$5,0)","v":60784},{"$f":"ROUNDUP($V259*FX!$G$3*CF!$B$6,0)","v":125766},null,null,null,null,null,null,null,null,null,null,null,null,null,null,null,null,null,null,null,null,null,null,null,null,null,null,null,null,null,null,null,{"$f":"ROUNDUP(($AE259+($AE259*$BO$1)),0)","v":94245},null,null,71967.813999999998,71968,null,{"$f":"ROUNDUP(BT259,0)","v":0},null,69066.444000000003,71968,71968,74846.720000000001,74846.720000000001,{"$f":"ROUNDUP(CA259,0)","v":74847},{"$f":"CB259+(CB259*$CC$1)","v":81807.770999999993},81807.770999999993,81808,86717,{"$f":"IF(CF259=\"POA\",\"POA\", ROUNDUP(CF259*1.043,0))","v":90446}]
["YA9100","MOD:Y91",null,"VS:G","PC:1","BM:2","NC:Y",null,null,null,null,null,null,null,null,null,null,null,null,"YA_9100_0068",null,158105,"SS (CF8M), NACE","Base Valve Price",120733.32,118366,114918,111853,108595,105432,158105,{"$f":"ROUNDUP($V260*FX!$G$2*CF!$B$3,0)","v":158105},{"$f":"ROUNDUP($V260*FX!$G$10*CF!$B$4,0)","v":218106},{"$f":"ROUNDUP($V260*FX!$G$35*CF!$B$5,0)","v":106254},{"$f":"ROUNDUP($V260*FX!$G$3*CF!$B$6,0)","v":219846},null,null,null,null,null,null,null,null,null,null,null,null,null,null,null,null,null,null,null,null,null,null,null,null,null,null,null,null,null,null,null,164746,null,null,125803.78599999999,125804,null,0,null,120732.85080000001,125804,125804,130836.16,130836.16,130837,143004.84100000001,143004.84100000001,143005,151586,158105]
["YA9100","MOD:Y91",null,"VS:A","PC:2","BM:2","NC:Y",null,null,null,null,null,null,null,null,null,null,null,null,"YA_9100_0069",null,65526,"SS (CF8M), NACE","Base Valve Price",50036.1,49055,47626,47626,46239,44892,65526,{"$f":"ROUNDUP($V261*FX!$G$2*CF!$B$3,0)","v":65526},{"$f":"ROUNDUP($V261*FX!$G$10*CF!$B$4,0)","v":90394},{"$f":"ROUNDUP($V261*FX!$G$35*CF!$B$5,0)","v":44037},{"$f":"ROUNDUP($V261*FX!$G$3*CF!$B$6,0)","v":91114},null,null,null,null,null,null,null,null,null,null,null,null,null,null,null,null,null,null,null,null,null,null,null,null,null,null,null,null,null,null,null,68279,null,null,52137.512000000002,52138,null,0,null,50035.875599999999,52138,52138,54223.519999999997,54223.519999999997,54224,59266.832000000002,59266.832000000002,59267,62824,65526]
["YA9100","MOD:Y91",null,"VS:B","PC:2","BM:2","NC:Y",null,null,null,null,null,null,null,null,null,null,null,null,"YA_9100_0070",null,68784,"SS (CF8M), NACE","Base Valve Price",52524.9,51495,49995,49995,48539,47125,68784,{"$f":"ROUNDUP($V262*FX!$G$2*CF!$B$3,0)","v":68784},{"$f":"ROUNDUP($V262*FX!$G$10*CF!$B$4,0)","v":94888},{"$f":"ROUNDUP($V262*FX!$G$35*CF!$B$5,0)","v":46226},{"$f":"ROUNDUP($V262*FX!$G$3*CF!$B$6,0)","v":95645},null,null,null,null,null,null,null,null,null,null,null,null,null,null,null,null,null,null,null,null,null,null,null,null,null,null,null,null,null,null,null,71673,null,null,54731.05,54732,null,0,null,52524.747000000003,54731,54731,56920.24,56920.24,56921,62214.652999999998,62214.652999999998,62215,65948,68784]
["YA9100","MOD:Y91",null,"VS:C","PC:2","BM:2","NC:Y",null,null,null,null,null,null,null,null,null,null,null,null,"YA_9100_0071",null,70975,"SS (CF8M), NACE","Base Valve Price",54197.700000000004,53135,51587,51587,50084,48625,70975,{"$f":"ROUNDUP($V263*FX!$G$2*CF!$B$3,0)","v":70975},{"$f":"ROUNDUP($V263*FX!$G$10*CF!$B$4,0)","v":97911},{"$f":"ROUNDUP($V263*FX!$G$35*CF!$B$5,0)","v":47699},{"$f":"ROUNDUP($V263*FX!$G$3*CF!$B$6,0)","v":98691},null,null,null,null,null,null,null,null,null,null,null,null,null,null,null,null,null,null,null,null,null,null,null,null,null,null,null,null,null,null,null,73956,null,null,56474.315999999999,56475,null,0,null,54197.302199999998,56474,56474,58732.959999999999,58732.959999999999,58733,64195.169000000002,64195.169000000002,64196,68048,70975]
["YA9100","MOD:Y91",null,"VS:D","PC:2","BM:2","NC:Y",null,null,null,null,null,null,null,null,null,null,null,null,"YA_9100_0072",null,74139,"SS (CF8M), NACE","Base Valve Price",56614.080000000002,55504,53887,53887,52317,50793,74139,{"$f":"ROUNDUP($V264*FX!$G$2*CF!$B$3,0)","v":74139},{"$f":"ROUNDUP($V264*FX!$G$10*CF!$B$4,0)","v":102275},{"$f":"ROUNDUP($V264*FX!$G$35*CF!$B$5,0)","v":49825},{"$f":"ROUNDUP($V264*FX!$G$3*CF!$B$6,0)","v":103091},null,null,null,null,null,null,null,null,null,null,null,null,null,null,null,null,null,null,null,null,null,null,null,null,null,null,null,null,null,null,null,77253,null,null,58991.788,58992,null,0,null,56613.682200000003,58992,58992,61351.68,61351.68,61352,67057.736000000004,67057.736000000004,67058,71082,74139]
["YA9100","MOD:Y91",null,"VS:E","PC:2","BM:2","NC:Y",null,null,null,null,null,null,null,null,null,null,null,null,"YA_9100_0073",null,86896,"SS (CF8M), NACE","Base Valve Price",66356.100000000006,65055,63160,63160,61320,59534,86896,{"$f":"ROUNDUP($V265*FX!$G$2*CF!$B$3,0)","v":86896},{"$f":"ROUNDUP($V265*FX!$G$10*CF!$B$4,0)","v":119874},{"$f":"ROUNDUP($V265*FX!$G$35*CF!$B$5,0)","v":58398},{"$f":"ROUNDUP($V265*FX!$G$3*CF!$B$6,0)","v":120829},null,null,null,null,null,null,null,null,null,null,null,null,null,null,null,null,null,null,null,null,null,null,null,null,null,null,null,null,null,null,null,90546,null,null,69142.952000000005,69143,null,0,null,66355.896000000008,69143,69143,71908.72,71908.72,71909,78596.536999999997,78596.536999999997,78597,83313,86896]
["YA9100","MOD:Y91",null,"VS:F","PC:2","BM:2","NC:Y",null,null,null,null,null,null,null,null,null,null,null,null,"YA_9100_0074",null,90446,"SS (CF8M), NACE","Base Valve Price",69066.240000000005,67712,65740,65740,63825,61966,90446,{"$f":"ROUNDUP($V266*FX!$G$2*CF!$B$3,0)","v":90446},{"$f":"ROUNDUP($V266*FX!$G$10*CF!$B$4,0)","v":124771},{"$f":"ROUNDUP($V266*FX!$G$35*CF!$B$5,0)","v":60784},{"$f":"ROUNDUP($V266*FX!$G$3*CF!$B$6,0)","v":125766},null,null,null,null,null,null,null,null,null,null,null,null,null,null,null,null,null,null,null,null,null,null,null,null,null,null,null,null,null,null,null,94245,null,null,71967.813999999998,71968,null,0,null,69066.444000000003,71968,71968,74846.720000000001,74846.720000000001,74847,81807.770999999993,81807.770999999993,81808,86717,90446]
["YA9100","MOD:Y91",null,"VS:G","PC:2","BM:2","NC:Y",null,null,null,null,null,null,null,null,null,null,null,null,"YA_9100_0075",null,158105,"SS (CF8M), NACE","Base Valve Price",120733.32,118366,114918,114918,111571,108321,158105,{"$f":"ROUNDUP($V267*FX!$G$2*CF!$B$3,0)","v":158105},{"$f":"ROUNDUP($V267*FX!$G$10*CF!$B$4,0)","v":218106},{"$f":"ROUNDUP($V267*FX!$G$35*CF!$B$5,0)","v":106254},{"$f":"ROUNDUP($V267*FX!$G$3*CF!$B$6,0)","v":219846},null,null,null,null,null,null,null,null,null,null,null,null,null,null,null,null,null,null,null,null,null,null,null,null,null,null,null,null,null,null,null,164746,null,null,125803.78599999999,125804,null,0,null,120732.85080000001,125804,125804,130836.16,130836.16,130837,143004.84100000001,143004.84100000001,143005,151586,158105]
["YA9100","MOD:Y91",null,"VS:A","PC:4","BM:2","NC:Y",null,null,null,null,null,null,null,null,null,null,null,null,"YA_9100_0076",null,66324,"SS (CF8M), NACE","Base Valve Price",50645.04,49652,48206,48206,46802,45439,66324,{"$f":"ROUNDUP($V268*FX!$G$2*CF!$B$3,0)","v":66324},{"$f":"ROUNDUP($V268*FX!$G$10*CF!$B$4,0)","v":91494},{"$f":"ROUNDUP($V268*FX!$G$35*CF!$B$5,0)","v":44573},{"$f":"ROUNDUP($V268*FX!$G$3*CF!$B$6,0)","v":92224},null,null,null,null,null,null,null,null,null,null,null,null,null,null,null,null,null,null,null,null,null,null,null,null,null,null,null,null,null,null,null,69110,null,null,52773.131999999998,52774,null,0,null,50645.223600000005,52773,52773,54883.92,54883.92,54884,59988.212,59988.212,59989,63589,66324]
["YA9100","MOD:Y91",null,"VS:B","PC:4","BM:2","NC:Y",null,null,null,null,null,null,null,null,null,null,null,null,"YA_9100_0077",null,70249,"SS (CF8M), NACE","Base Valve Price",53642.82,52591,51059,51059,49572,48128,70249,{"$f":"ROUNDUP($V269*FX!$G$2*CF!$B$3,0)","v":70249},{"$f":"ROUNDUP($V269*FX!$G$10*CF!$B$4,0)","v":96909},{"$f":"ROUNDUP($V269*FX!$G$35*CF!$B$5,0)","v":47211},{"$f":"ROUNDUP($V269*FX!$G$3*CF!$B$6,0)","v":97682},null,null,null,null,null,null,null,null,null,null,null,null,null,null,null,null,null,null,null,null,null,null,null,null,null,null,null,null,null,null,null,73200,null,null,55896.006000000001,55897,null,0,null,53642.585400000004,55896,55896,58131.839999999997,58131.839999999997,58132,63538.275999999998,63538.275999999998,63539,67352,70249]
["YA9100","MOD:Y91",null,"VS:C","PC:4","BM:2","NC:Y",null,null,null,null,null,null,null,null,null,null,null,null,"YA_9100_0078",null,72486,"SS (CF8M), NACE","Base Valve Price",55351.32,54266,52685,52685,51150,49660,72486,{"$f":"ROUNDUP($V270*FX!$G$2*CF!$B$3,0)","v":72486},{"$f":"ROUNDUP($V270*FX!$G$10*CF!$B$4,0)","v":99995},{"$f":"ROUNDUP($V270*FX!$G$35*CF!$B$5,0)","v":48714},{"$f":"ROUNDUP($V270*FX!$G$3*CF!$B$6,0)","v":100792},null,null,null,null,null,null,null,null,null,null,null,null,null,null,null,null,null,null,null,null,null,null,null,null,null,null,null,null,null,null,null,75531,null,null,57675.741999999998,57676,null,0,null,55350.861000000004,57676,57676,59983.040000000001,59983.040000000001,59984,65562.512000000002,65562.512000000002,65563,69497,72486]
["YA9100","MOD:Y91",null,"VS:D","PC:4","BM:2","NC:Y",null,null,null,null,null,null,null,null,null,null,null,null,"YA_9100_0079",null,75440,"SS (CF8M), NACE","Base Valve Price",57606.54,56477,54832,54832,53235,51684,75440,{"$f":"ROUNDUP($V271*FX!$G$2*CF!$B$3,0)","v":75440},{"$f":"ROUNDUP($V271*FX!$G$10*CF!$B$4,0)","v":104070},{"$f":"ROUNDUP($V271*FX!$G$35*CF!$B$5,0)","v":50699},{"$f":"ROUNDUP($V271*FX!$G$3*CF!$B$6,0)","v":104900},null,null,null,null,null,null,null,null,null,null,null,null,null,null,null,null,null,null,null,null,null,null,null,null,null,null,null,null,null,null,null,78609,null,null,60026.493999999999,60027,null,0,null,57606.499199999998,60026,60026,62427.040000000001,62427.040000000001,62428,68233.804000000004,68233.804000000004,68234,72329,75440]
["YA9100","MOD:Y91",null,"VS:E","PC:4","BM:2","NC:Y",null,null,null,null,null,null,null,null,null,null,null,null,"YA_9100_0080",null,88421,"SS (CF8M), NACE","Base Valve Price",67519.92,66196,64268,64268,62396,60579,88421,{"$f":"ROUNDUP($V272*FX!$G$2*CF!$B$3,0)","v":88421},{"$f":"ROUNDUP($V272*FX!$G$10*CF!$B$4,0)","v":121977},{"$f":"ROUNDUP($V272*FX!$G$35*CF!$B$5,0)","v":59423},{"$f":"ROUNDUP($V272*FX!$G$3*CF!$B$6,0)","v":122950},null,null,null,null,null,null,null,null,null,null,null,null,null,null,null,null,null,null,null,null,null,null,null,null,null,null,null,null,null,null,null,92135,null,null,70355.839999999997,70356,null,0,null,67519.960800000015,70356,70356,73170.240000000005,73170.240000000005,73171,79975.903000000006,79975.903000000006,79976,84775,88421]
["YA9100","MOD:Y91",null,"VS:F","PC:4","BM:2","NC:Y",null,null,null,null,null,null,null,null,null,null,null,null,"YA_9100_0081",null,92033,"SS (CF8M), NACE","Base Valve Price",70278,68900,66893,66893,64945,63053,92033,{"$f":"ROUNDUP($V273*FX!$G$2*CF!$B$3,0)","v":92033},{"$f":"ROUNDUP($V273*FX!$G$10*CF!$B$4,0)","v":126960},{"$f":"ROUNDUP($V273*FX!$G$35*CF!$B$5,0)","v":61851},{"$f":"ROUNDUP($V273*FX!$G$3*CF!$B$6,0)","v":127972},null,null,null,null,null,null,null,null,null,null,null,null,null,null,null,null,null,null,null,null,null,null,null,null,null,null,null,null,null,null,null,95899,null,null,73229.676000000007,73230,null,0,null,70277.785800000012,73230,73230,76159.199999999997,76159.199999999997,76160,83242.880000000005,83242.880000000005,83243,88238,92033]
["YA9100","MOD:Y91",null,"VS:G","PC:4","BM:2","NC:Y",null,null,null,null,null,null,null,null,null,null,null,null,"YA_9100_0082",null,202484,"SS (CF8M), NACE","Base Valve Price",154622.82,151591,147176,147176,142889,138727,202484,{"$f":"ROUNDUP($V274*FX!$G$2*CF!$B$3,0)","v":202484},{"$f":"ROUNDUP($V274*FX!$G$10*CF!$B$4,0)","v":279327},{"$f":"ROUNDUP($V274*FX!$G$35*CF!$B$5,0)","v":136078},{"$f":"ROUNDUP($V274*FX!$G$3*CF!$B$6,0)","v":281555},null,null,null,null,null,null,null,null,null,null,null,null,null,null,null,null,null,null,null,null,null,null,null,null,null,null,null,null,null,null,null,210989,null,null,161118.20800000001,161119,null,0,null,154623.10560000001,161118,161118,167562.72,167562.72,167563,183146.359,183146.359,183147,194136,202484]
["YA9100","MOD:Y91",null,"VS:C","PC:4","BM:8","NC:Y",null,null,null,null,null,null,null,null,null,null,null,null,"YA_9100_0083",null,"POA","SDupx(CD3MWCuN),N","Base Valve Price","POA",{"$f":"IFERROR(AA275*1.03,\"POA\")","v":"POA"},"POA","POA","POA","POA","POA",{"$f":"ROUNDUP($V275*FX!$G$2*CF!$B$3,0)","v":{"$error":"#VALUE!"}},{"$f":"ROUNDUP($V275*FX!$G$10*CF!$B$4,0)","v":{"$error":"#VALUE!"}},{"$f":"ROUNDUP($V275*FX!$G$35*CF!$B$5,0)","v":{"$error":"#VALUE!"}},{"$f":"ROUNDUP($V275*FX!$G$3*CF!$B$6,0)","v":{"$error":"#VALUE!"}},null,null,null,null,null,null,null,null,null,null,null,null,null,null,null,null,null,null,null,null,null,null,null,null,null,null,null,null,null,null,null,{"$error":"#VALUE!"},null,null,{"$error":"#VALUE!"},{"$f":"AE275","v":"POA"},null,0,null,"POA","POA","POA","POA","POA","POA","POA","POA","POA","POA","POA"]
["YA9100","MOD:Y91",null,"VS:D","PC:4","BM:8","NC:Y",null,null,null,null,null,null,null,null,null,null,null,null,"YA_9100_0084",null,"POA","SDupx(CD3MWCuN),N","Base Valve Price","POA","POA","POA","POA","POA","POA","POA",{"$f":"ROUNDUP($V276*FX!$G$2*CF!$B$3,0)","v":{"$error":"#VALUE!"}},{"$f":"ROUNDUP($V276*FX!$G$10*CF!$B$4,0)","v":{"$error":"#VALUE!"}},{"$f":"ROUNDUP($V276*FX!$G$35*CF!$B$5,0)","v":{"$error":"#VALUE!"}},{"$f":"ROUNDUP($V276*FX!$G$3*CF!$B$6,0)","v":{"$error":"#VALUE!"}},null,null,null,null,null,null,null,null,null,null,null,null,null,null,null,null,null,null,null,null,null,null,null,null,null,null,null,null,null,null,null,{"$error":"#VALUE!"},null,null,{"$error":"#VALUE!"},"POA",null,0,null,"POA","POA","POA","POA","POA","POA","POA","POA","POA","POA","POA"]
["YA9100","MOD:Y91",null,"VS:E","PC:4","BM:8","NC:Y",null,null,null,null,null,null,null,null,null,null,null,null,"YA_9100_0085",null,"POA","SDupx(CD3MWCuN),N","Base Valve Price","POA","POA","POA","POA","POA","POA","POA",{"$f":"ROUNDUP($V277*FX!$G$2*CF!$B$3,0)","v":{"$error":"#VALUE!"}},{"$f":"ROUNDUP($V277*FX!$G$10*CF!$B$4,0)","v":{"$error":"#VALUE!"}},{"$f":"ROUNDUP($V277*FX!$G$35*CF!$B$5,0)","v":{"$error":"#VALUE!"}},{"$f":"ROUNDUP($V277*FX!$G$3*CF!$B$6,0)","v":{"$error":"#VALUE!"}},null,null,null,null,null,null,null,null,null,null,null,null,null,null,null,null,null,null,null,null,null,null,null,null,null,null,null,null,null,null,null,{"$error":"#VALUE!"},null,null,{"$error":"#VALUE!"},"POA",null,0,null,"POA","POA","POA","POA","POA","POA","POA","POA","POA","POA","POA"]
["YA9100","MOD:Y91",null,"VS:F","PC:4","BM:8","NC:Y",null,null,null,null,null,null,null,null,null,null,null,null,"YA_9100_0086",null,"POA","SDupx(CD3MWCuN),N","Base Valve Price","POA","POA","POA","POA","POA","POA","POA",{"$f":"ROUNDUP($V278*FX!$G$2*CF!$B$3,0)","v":{"$error":"#VALUE!"}},{"$f":"ROUNDUP($V278*FX!$G$10*CF!$B$4,0)","v":{"$error":"#VALUE!"}},{"$f":"ROUNDUP($V278*FX!$G$35*CF!$B$5,0)","v":{"$error":"#VALUE!"}},{"$f":"ROUNDUP($V278*FX!$G$3*CF!$B$6,0)","v":{"$error":"#VALUE!"}},null,null,null,null,null,null,null,null,null,null,null,null,null,null,null,null,null,null,null,null,null,null,null,null,null,null,null,null,null,null,null,{"$error":"#VALUE!"},null,null,{"$error":"#VALUE!"},"POA",null,0,null,"POA","POA","POA","POA","POA","POA","POA","POA","POA","POA","POA"]
["YA9100","MOD:Y91",null,"VS:G","PC:4","BM:8","NC:Y",null,null,null,null,null,null,null,null,null,null,null,null,"YA_9100_0087",null,"POA","SDupx(CD3MWCuN),N","Base Valve Price","POA","POA","POA","POA","POA","POA","POA",{"$f":"ROUNDUP($V279*FX!$G$2*CF!$B$3,0)","v":{"$error":"#VALUE!"}},{"$f":"ROUNDUP($V279*FX!$G$10*CF!$B$4,0)","v":{"$error":"#VALUE!"}},{"$f":"ROUNDUP($V279*FX!$G$35*CF!$B$5,0)","v":{"$error":"#VALUE!"}},{"$f":"ROUNDUP($V279*FX!$G$3*CF!$B$6,0)","v":{"$error":"#VALUE!"}},null,null,null,null,null,null,null,null,null,null,null,null,null,null,null,null,null,null,null,null,null,null,null,null,null,null,null,null,null,null,null,{"$error":"#VALUE!"},null,null,{"$error":"#VALUE!"},"POA",null,0,null,"POA","POA","POA","POA","POA","POA","POA","POA","POA","POA","POA"]
["YA9100","MOD:Y91",null,"VS:C","PC:4","BM:7","NC:Y",null,null,null,null,null,null,null,null,null,null,null,null,"YA_9100_0088",null,"POA","6Mo (CK3MCuN), N","Base Valve Price","POA","POA","POA","POA","POA","POA","POA",{"$f":"ROUNDUP($V280*FX!$G$2*CF!$B$3,0)","v":{"$error":"#VALUE!"}},{"$f":"ROUNDUP($V280*FX!$G$10*CF!$B$4,0)","v":{"$error":"#VALUE!"}},{"$f":"ROUNDUP($V280*FX!$G$35*CF!$B$5,0)","v":{"$error":"#VALUE!"}},{"$f":"ROUNDUP($V280*FX!$G$3*CF!$B$6,0)","v":{"$error":"#VALUE!"}},null,null,null,null,null,null,null,null,null,null,null,null,null,null,null,null,null,null,null,null,null,null,null,null,null,null,null,null,null,null,null,{"$error":"#VALUE!"},null,null,{"$error":"#VALUE!"},"POA",null,0,null,"POA","POA","POA","POA","POA","POA","POA","POA","POA","POA","POA"]
["YA9100","MOD:Y91",null,"VS:D","PC:4","BM:7","NC:Y",null,null,null,null,null,null,null,null,null,null,null,null,"YA_9100_0089",null,"POA","6Mo (CK3MCuN), N","Base Valve Price","POA","POA","POA","POA","POA","POA","POA",{"$f":"ROUNDUP($V281*FX!$G$2*CF!$B$3,0)","v":{"$error":"#VALUE!"}},{"$f":"ROUNDUP($V281*FX!$G$10*CF!$B$4,0)","v":{"$error":"#VALUE!"}},{"$f":"ROUNDUP($V281*FX!$G$35*CF!$B$5,0)","v":{"$error":"#VALUE!"}},{"$f":"ROUNDUP($V281*FX!$G$3*CF!$B$6,0)","v":{"$error":"#VALUE!"}},null,null,null,null,null,null,null,null,null,null,null,null,null,null,null,null,null,null,null,null,null,null,null,null,null,null,null,null,null,null,null,{"$error":"#VALUE!"},null,null,{"$error":"#VALUE!"},"POA",null,0,null,"POA","POA","POA","POA","POA","POA","POA","POA","POA","POA","POA"]
["YA9100","MOD:Y91",null,"VS:E","PC:4","BM:7","NC:Y",null,null,null,null,null,null,null,null,null,null,null,null,"YA_9100_0090",null,"POA","6Mo (CK3MCuN), N","Base Valve Price","POA","POA","POA","POA","POA","POA","POA",{"$f":"ROUNDUP($V282*FX!$G$2*CF!$B$3,0)","v":{"$error":"#VALUE!"}},{"$f":"ROUNDUP($V282*FX!$G$10*CF!$B$4,0)","v":{"$error":"#VALUE!"}},{"$f":"ROUNDUP($V282*FX!$G$35*CF!$B$5,0)","v":{"$error":"#VALUE!"}},{"$f":"ROUNDUP($V282*FX!$G$3*CF!$B$6,0)","v":{"$error":"#VALUE!"}},null,null,null,null,null,null,null,null,null,null,null,null,null,null,null,null,null,null,null,null,null,null,null,null,null,null,null,null,null,null,null,{"$error":"#VALUE!"},null,null,{"$error":"#VALUE!"},"POA",null,0,null,"POA","POA","POA","POA","POA","POA","POA","POA","POA","POA","POA"]
["YA9100","MOD:Y91",null,"VS:F","PC:4","BM:7","NC:Y",null,null,null,null,null,null,null,null,null,null,null,null,"YA_9100_0091",null,"POA","6Mo (CK3MCuN), N","Base Valve Price","POA","POA","POA","POA","POA","POA","POA",{"$f":"ROUNDUP($V283*FX!$G$2*CF!$B$3,0)","v":{"$error":"#VALUE!"}},{"$f":"ROUNDUP($V283*FX!$G$10*CF!$B$4,0)","v":{"$error":"#VALUE!"}},{"$f":"ROUNDUP($V283*FX!$G$35*CF!$B$5,0)","v":{"$error":"#VALUE!"}},{"$f":"ROUNDUP($V283*FX!$G$3*CF!$B$6,0)","v":{"$error":"#VALUE!"}},null,null,null,null,null,null,null,null,null,null,null,null,null,null,null,null,null,null,null,null,null,null,null,null,null,null,null,null,null,null,null,{"$error":"#VALUE!"},null,null,{"$error":"#VALUE!"},"POA",null,0,null,"POA","POA","POA","POA","POA","POA","POA","POA","POA","POA","POA"]
["YA9100","MOD:Y91",null,"VS:G","PC:4","BM:7","NC:Y",null,null,null,null,null,null,null,null,null,null,null,null,"YA_9100_0092",null,"POA","6Mo (CK3MCuN), N","Base Valve Price","POA","POA","POA","POA","POA","POA","POA",{"$f":"ROUNDUP($V284*FX!$G$2*CF!$B$3,0)","v":{"$error":"#VALUE!"}},{"$f":"ROUNDUP($V284*FX!$G$10*CF!$B$4,0)","v":{"$error":"#VALUE!"}},{"$f":"ROUNDUP($V284*FX!$G$35*CF!$B$5,0)","v":{"$error":"#VALUE!"}},{"$f":"ROUNDUP($V284*FX!$G$3*CF!$B$6,0)","v":{"$error":"#VALUE!"}},null,null,null,null,null,null,null,null,null,null,null,null,null,null,null,null,null,null,null,null,null,null,null,null,null,null,null,null,null,null,null,{"$error":"#VALUE!"},null,null,{"$error":"#VALUE!"},"POA",null,0,null,"POA","POA","POA","POA","POA","POA","POA","POA","POA","POA","POA"]
[null,"MOD:Y91",null,"PC:1","BM:0,1,2,3","FC:N",null,null,null,null,null,null,null,null,null,null,null,null,null,"YA_9100_0093",null,0,"150#","Do Not Use",0,{"$f":"ROUND(IFERROR(AA285*1.03,\"POA\"),0)","v":0},0,0,0,0,0,{"$f":"ROUNDUP($V285*FX!$G$2*CF!$B$3,0)","v":0},{"$f":"ROUNDUP($V285*FX!$G$10*CF!$B$4,0)","v":0},{"$f":"ROUNDUP($V285*FX!$G$35*CF!$B$5,0)","v":0},{"$f":"ROUNDUP($V285*FX!$G$3*CF!$B$6,0)","v":0},null,null,null,null,null,null,null,null,null,null,null,null,null,null,null,null,null,null,null,null,null,null,null,null,null,null,null,null,null,null,null,0,null,null,0,{"$f":"ROUNDUP(BR285,0)","v":0},null,0,null,0,{"$f":"ROUNDUP(($BW285+($BX$1*$BW285)),0)","v":0},0,{"$f":"BY285+(BY285*$BZ$1)","v":0},0,0,0,0,{"$f":"ROUNDUP(CD285,0)","v":0},0,0]
[null,"MOD:Y91",null,"FF:A",null,null,null,null,null,null,null,null,null,null,null,null,null,null,null,"YA_9100_0096",null,0,"RF","In/Out Flanges",0,0,0,0,0,0,0,{"$f":"ROUNDUP($V286*FX!$G$2*CF!$B$3,0)","v":0},{"$f":"ROUNDUP($V286*FX!$G$10*CF!$B$4,0)","v":0},{"$f":"ROUNDUP($V286*FX!$G$35*CF!$B$5,0)","v":0},{"$f":"ROUNDUP($V286*FX!$G$3*CF!$B$6,0)","v":0},null,null,null,null,null,null,null,null,null,null,null,null,null,null,null,null,null,null,null,null,null,null,null,null,null,null,null,null,null,null,null,0,null,null,0,0,null,0,null,0,0,0,0,0,0,0,0,0,0,0]
["YA9100","MOD:Y91",null,"SM:P","LT:N","NC:N,Y","VS:A,B,C,D,E,F,G",null,null,null,null,null,null,null,null,null,null,null,null,"YA_9100_0097",null,0,"PTFE  (Af/Flz)STD","Soft Goods",0,0,0,0,0,0,0,{"$f":"ROUNDUP($V287*FX!$G$2*CF!$B$3,0)","v":0},{"$f":"ROUNDUP($V287*FX!$G$10*CF!$B$4,0)","v":0},{"$f":"ROUNDUP($V287*FX!$G$35*CF!$B$5,0)","v":0},{"$f":"ROUNDUP($V287*FX!$G$3*CF!$B$6,0)","v":0},null,null,null,null,null,null,null,null,null,null,null,null,null,null,null,null,null,null,null,null,null,null,null,null,null,null,null,null,null,null,null,0,null,null,0,0,null,0,null,0,0,0,0,0,0,0,0,0,0,0]
["YA9100","MOD:Y91",null,"SM:V","LT:N","NC:Y,N","VS:A ",null,null,null,null,null,null,null,null,null,null,null,null,"YA_9100_0098",null,491,"Viton","Soft Goods",373.32,366,355,355,345,335,491,{"$f":"ROUNDUP($V288*FX!$G$2*CF!$B$3,0)","v":491},{"$f":"ROUNDUP($V288*FX!$G$10*CF!$B$4,0)","v":678},{"$f":"ROUNDUP($V288*FX!$G$35*CF!$B$5,0)","v":330},{"$f":"ROUNDUP($V288*FX!$G$3*CF!$B$6,0)","v":683},null,null,null,null,null,null,null,null,null,null,null,null,null,null,null,null,null,null,null,null,null,null,null,null,null,null,null,null,null,null,null,512,null,null,388.666,389,null,0,null,372.96300000000002,389,389,404.56,404.56,405,442.66500000000002,442.66500000000002,443,470,491]
["YA9100","MOD:Y91",null,"SM:E","LT:N","NC:N","VS:A ",null,null,null,null,null,null,null,null,null,null,null,null,"YA_9100_0099",null,266,"EPDM","Soft Goods",200.94,197,191,191,185,180,266,{"$f":"ROUNDUP($V289*FX!$G$2*CF!$B$3,0)","v":266},{"$f":"ROUNDUP($V289*FX!$G$10*CF!$B$4,0)","v":367},{"$f":"ROUNDUP($V289*FX!$G$35*CF!$B$5,0)","v":179},{"$f":"ROUNDUP($V289*FX!$G$3*CF!$B$6,0)","v":370},null,null,null,null,null,null,null,null,null,null,null,null,null,null,null,null,null,null,null,null,null,null,null,null,null,null,null,null,null,null,null,278,null,null,209.44200000000001,210,null,0,null,200.66460000000004,210,210,218.4,218.4,219,239.36699999999999,239.36699999999999,240,255,266]
["YA9100","MOD:Y91",null,"SM:K","LT:N","NC:Y,N","VS:A ",null,null,null,null,null,null,null,null,null,null,null,null,"YA_9100_0100",null,550,"Kalrez 4079","Soft Goods",418.2,410,398,398,386,375,550,{"$f":"ROUNDUP($V290*FX!$G$2*CF!$B$3,0)","v":550},{"$f":"ROUNDUP($V290*FX!$G$10*CF!$B$4,0)","v":759},{"$f":"ROUNDUP($V290*FX!$G$35*CF!$B$5,0)","v":370},{"$f":"ROUNDUP($V290*FX!$G$3*CF!$B$6,0)","v":765},null,null,null,null,null,null,null,null,null,null,null,null,null,null,null,null,null,null,null,null,null,null,null,null,null,null,null,null,null,null,null,574,null,null,436.59800000000001,437,null,0,null,418.1388,436,436,453.44,453.44,454,496.22199999999998,496.22199999999998,497,527,550]
["YA9100","MOD:Y91",null,"SM:T","LT:Y,N","NC:Y,N","VS:A ",null,null,null,null,null,null,null,null,null,null,null,null,"YA_9100_0101",null,491,"Variseal (TURC52)","Soft Goods",373.32,366,355,355,345,335,491,{"$f":"ROUNDUP($V291*FX!$G$2*CF!$B$3,0)","v":491},{"$f":"ROUNDUP($V291*FX!$G$10*CF!$B$4,0)","v":678},{"$f":"ROUNDUP($V291*FX!$G$35*CF!$B$5,0)","v":330},{"$f":"ROUNDUP($V291*FX!$G$3*CF!$B$6,0)","v":683},null,null,null,null,null,null,null,null,null,null,null,null,null,null,null,null,null,null,null,null,null,null,null,null,null,null,null,null,null,null,null,512,null,null,388.666,389,null,0,null,372.96300000000002,389,389,404.56,404.56,405,442.66500000000002,442.66500000000002,443,470,491]
[null,"MOD:Y91",null,"ST:L",null,null,null,null,null,null,null,null,null,null,null,null,null,null,null,"YA_9100_0102",null,0,"Low Press Spring","Do Not Use",0,0,0,0,0,0,0,{"$f":"ROUNDUP($V292*FX!$G$2*CF!$B$3,0)","v":0},{"$f":"ROUNDUP($V292*FX!$G$10*CF!$B$4,0)","v":0},{"$f":"ROUNDUP($V292*FX!$G$35*CF!$B$5,0)","v":0},{"$f":"ROUNDUP($V292*FX!$G$3*CF!$B$6,0)","v":0},null,null,null,null,null,null,null,null,null,null,null,null,null,null,null,null,null,null,null,null,null,null,null,null,null,null,null,null,null,null,null,0,null,null,0,0,null,0,null,0,0,0,0,0,0,0,0,0,0,0]
[null,"MOD:Y91",null,"ST:H",null,null,null,null,null,null,null,null,null,null,null,null,null,null,null,"YA_9100_0103",null,0,"High Press Spring","Do Not Use",0,0,0,0,0,0,0,{"$f":"ROUNDUP($V293*FX!$G$2*CF!$B$3,0)","v":0},{"$f":"ROUNDUP($V293*FX!$G$10*CF!$B$4,0)","v":0},{"$f":"ROUNDUP($V293*FX!$G$35*CF!$B$5,0)","v":0},{"$f":"ROUNDUP($V293*FX!$G$3*CF!$B$6,0)","v":0},null,null,null,null,null,null,null,null,null,null,null,null,null,null,null,null,null,null,null,null,null,null,null,null,null,null,null,null,null,null,null,0,null,null,0,0,null,0,null,0,0,0,0,0,0,0,0,0,0,0]
[null,"MOD:Y91",null,"DT:H",null,null,null,null,null,null,null,null,null,null,null,null,null,null,null,"YA_9100_0104",null,0,"Hole Pattern Trim","Do Not Use",0,0,0,0,0,0,0,{"$f":"ROUNDUP($V294*FX!$G$2*CF!$B$3,0)","v":0},{"$f":"ROUNDUP($V294*FX!$G$10*CF!$B$4,0)","v":0},{"$f":"ROUNDUP($V294*FX!$G$35*CF!$B$5,0)","v":0},{"$f":"ROUNDUP($V294*FX!$G$3*CF!$B$6,0)","v":0},null,null,null,null,null,null,null,null,null,null,null,null,null,null,null,null,null,null,null,null,null,null,null,null,null,null,null,null,null,null,null,0,null,null,0,0,null,0,null,0,0,{"$f":"ROUNDUP(BX294,0)","v":0},0,0,0,0,0,0,0,0]
[null,"MOD:Y91",null,"LT:N",null,null,null,null,null,null,null,null,null,null,null,null,null,null,null,"YA_9100_0105",null,0,"Not Low Temp","Do Not Use",0,0,0,0,0,0,0,{"$f":"ROUNDUP($V295*FX!$G$2*CF!$B$3,0)","v":0},{"$f":"ROUNDUP($V295*FX!$G$10*CF!$B$4,0)","v":0},{"$f":"ROUNDUP($V295*FX!$G$35*CF!$B$5,0)","v":0},{"$f":"ROUNDUP($V295*FX!$G$3*CF!$B$6,0)","v":0},null,null,null,null,null,null,null,null,null,null,null,null,null,null,null,null,null,null,null,null,null,null,null,null,null,null,null,null,null,null,null,0,null,null,0,0,null,0,null,0,0,0,0,0,0,0,0,0,0,0]
[null,"MOD:Y91",null,"PC:1,2","FC:N",null,null,null,null,null,null,null,null,null,null,null,null,null,null,"YA_9100_0107",null,0,"No Flow Cond","Do Not Use",0,0,0,0,0,0,0,{"$f":"ROUNDUP($V296*FX!$G$2*CF!$B$3,0)","v":0},{"$f":"ROUNDUP($V296*FX!$G$10*CF!$B$4,0)","v":0},{"$f":"ROUNDUP($V296*FX!$G$35*CF!$B$5,0)","v":0},{"$f":"ROUNDUP($V296*FX!$G$3*CF!$B$6,0)","v":0},null,null,null,null,null,null,null,null,null,null,null,null,null,null,null,null,null,null,null,null,null,null,null,null,null,null,null,null,null,null,null,0,null,null,0,0,null,0,null,0,0,0,0,0,0,0,0,0,0,0]
[null,"MOD:Y91",null,"VS:C,D,E,F,G","PC:4","FC:Y",null,null,null,null,null,null,null,null,null,null,null,null,null,"YA_9100_0108",null,0,"Flow Conditioner","Do Not Use",0,0,0,0,0,0,0,{"$f":"ROUNDUP($V297*FX!$G$2*CF!$B$3,0)","v":0},{"$f":"ROUNDUP($V297*FX!$G$10*CF!$B$4,0)","v":0},{"$f":"ROUNDUP($V297*FX!$G$35*CF!$B$5,0)","v":0},{"$f":"ROUNDUP($V297*FX!$G$3*CF!$B$6,0)","v":0},null,null,null,null,null,null,null,null,null,null,null,null,null,null,null,null,null,null,null,null,null,null,null,null,null,null,null,null,null,null,null,0,null,null,0,0,null,0,null,0,0,0,0,0,0,0,0,0,0,0]
[null,"MOD:Y91",null,"OR:H",null,null,null,null,null,null,null,null,null,null,null,null,null,null,null,"YA_9100_0109",null,0,"Horizontal","Do Not Use",0,0,0,0,0,0,0,{"$f":"ROUNDUP($V298*FX!$G$2*CF!$B$3,0)","v":0},{"$f":"ROUNDUP($V298*FX!$G$10*CF!$B$4,0)","v":0},{"$f":"ROUNDUP($V298*FX!$G$35*CF!$B$5,0)","v":0},{"$f":"ROUNDUP($V298*FX!$G$3*CF!$B$6,0)","v":0},null,null,null,null,null,null,null,null,null,null,null,null,null,null,null,null,null,null,null,null,null,null,null,null,null,null,null,null,null,null,null,0,null,null,0,0,null,0,null,0,0,0,0,0,0,0,0,0,0,0]
[null,"MOD:Y91",null,"OR:V",null,null,null,null,null,null,null,null,null,null,null,null,null,null,null,"YA_9100_0110",null,0,"Vertical","Do Not Use",0,0,0,0,0,0,0,{"$f":"ROUNDUP($V299*FX!$G$2*CF!$B$3,0)","v":0},{"$f":"ROUNDUP($V299*FX!$G$10*CF!$B$4,0)","v":0},{"$f":"ROUNDUP($V299*FX!$G$35*CF!$B$5,0)","v":0},{"$f":"ROUNDUP($V299*FX!$G$3*CF!$B$6,0)","v":0},null,null,null,null,null,null,null,null,null,null,null,null,null,null,null,null,null,null,null,null,null,null,null,null,null,null,null,null,null,null,null,0,null,null,0,0,null,0,null,0,0,0,0,0,0,0,0,0,0,0]
[null,"MOD:Y91",null,"IN:N",null,null,null,null,null,null,null,null,null,null,null,null,null,null,null,"YA_9100_0111",null,0,"No Insert","Do Not Use",0,0,0,0,0,0,0,{"$f":"ROUNDUP($V300*FX!$G$2*CF!$B$3,0)","v":0},{"$f":"ROUNDUP($V300*FX!$G$10*CF!$B$4,0)","v":0},{"$f":"ROUNDUP($V300*FX!$G$35*CF!$B$5,0)","v":0},{"$f":"ROUNDUP($V300*FX!$G$3*CF!$B$6,0)","v":0},null,null,null,null,null,null,null,null,null,null,null,null,null,null,null,null,null,null,null,null,null,null,null,null,null,null,null,null,null,null,null,0,null,null,0,0,null,0,null,0,0,0,0,0,0,0,0,0,0,0]
[null,"MOD:Y91",null,"IN:Y",null,null,null,null,null,null,null,null,null,null,null,null,null,null,null,"YA_9100_0112",null,0,"Insert","Do Not Use",0,0,0,0,0,0,0,{"$f":"ROUNDUP($V301*FX!$G$2*CF!$B$3,0)","v":0},{"$f":"ROUNDUP($V301*FX!$G$10*CF!$B$4,0)","v":0},{"$f":"ROUNDUP($V301*FX!$G$35*CF!$B$5,0)","v":0},{"$f":"ROUNDUP($V301*FX!$G$3*CF!$B$6,0)","v":0},null,null,null,null,null,null,null,null,null,null,null,null,null,null,null,null,null,null,null,null,null,null,null,null,null,null,null,null,null,null,null,0,null,null,0,0,null,0,null,0,0,0,0,0,0,0,0,0,0,0]
[null,"MOD:Y91",null,"BM:0,1,5,6","NC:N",null,null,null,null,null,null,null,null,null,null,null,null,null,null,"YA_9100_0113",null,0,"NACE not req(STD)","Do Not Use",0,0,0,0,0,0,0,{"$f":"ROUNDUP($V302*FX!$G$2*CF!$B$3,0)","v":0},{"$f":"ROUNDUP($V302*FX!$G$10*CF!$B$4,0)","v":0},{"$f":"ROUNDUP($V302*FX!$G$35*CF!$B$5,0)","v":0},{"$f":"ROUNDUP($V302*FX!$G$3*CF!$B$6,0)","v":0},null,null,null,null,null,null,null,null,null,null,null,null,null,null,null,null,null,null,null,null,null,null,null,null,null,null,null,null,null,null,null,0,null,null,0,0,null,0,null,0,0,0,0,0,0,0,0,0,0,0]
["YA9100","MOD:Y91",null,"VS:C","BM:2,3,7,8","SM:P,V,K,T","NC:Y",null,null,null,null,null,null,null,null,null,null,null,null,"YA_9100_0114",null,660,"NACE","NACE",501.84000000000003,492,478,478,464,450,660,{"$f":"ROUNDUP($V303*FX!$G$2*CF!$B$3,0)","v":660},{"$f":"ROUNDUP($V303*FX!$G$10*CF!$B$4,0)","v":911},{"$f":"ROUNDUP($V303*FX!$G$35*CF!$B$5,0)","v":444},{"$f":"ROUNDUP($V303*FX!$G$3*CF!$B$6,0)","v":918},null,null,null,null,null,null,null,null,null,null,null,null,null,null,null,null,null,null,null,null,null,null,null,null,null,null,null,null,null,null,null,688,null,null,524.12599999999998,525,null,0,null,502.18680000000006,524,524,544.96,544.96,545,595.68499999999995,595.68499999999995,596,632,660]
["YA9100","MOD:Y91",null,"VS:D","BM:2,3,7,8","SM:P,V,K,T","NC:Y",null,null,null,null,null,null,null,null,null,null,null,null,"YA_9100_0115",null,660,"NACE","NACE",501.84000000000003,492,478,478,464,450,660,{"$f":"ROUNDUP($V304*FX!$G$2*CF!$B$3,0)","v":660},{"$f":"ROUNDUP($V304*FX!$G$10*CF!$B$4,0)","v":911},{"$f":"ROUNDUP($V304*FX!$G$35*CF!$B$5,0)","v":444},{"$f":"ROUNDUP($V304*FX!$G$3*CF!$B$6,0)","v":918},null,null,null,null,null,null,null,null,null,null,null,null,null,null,null,null,null,null,null,null,null,null,null,null,null,null,null,null,null,null,null,688,null,null,524.12599999999998,525,null,0,null,502.18680000000006,524,524,544.96,544.96,545,595.68499999999995,595.68499999999995,596,632,660]
["YA9100","MOD:Y91",null,"VS:E","BM:2,3,7,8","SM:P,V,K,T","NC:Y",null,null,null,null,null,null,null,null,null,null,null,null,"YA_9100_0116",null,1646,"NACE","NACE",1254.5999999999999,1230,1194,1194,1159,1125,1646,{"$f":"ROUNDUP($V305*FX!$G$2*CF!$B$3,0)","v":1646},{"$f":"ROUNDUP($V305*FX!$G$10*CF!$B$4,0)","v":2271},{"$f":"ROUNDUP($V305*FX!$G$35*CF!$B$5,0)","v":1107},{"$f":"ROUNDUP($V305*FX!$G$3*CF!$B$6,0)","v":2289},null,null,null,null,null,null,null,null,null,null,null,null,null,null,null,null,null,null,null,null,null,null,null,null,null,null,null,null,null,null,null,1716,null,null,1307.71,1308,null,0,null,1254.4164000000001,1308,1308,1360.32,1360.32,1361,1487.5730000000001,1487.5730000000001,1488,1578,1646]
["YA9100","MOD:Y91",null,"VS:F","BM:2,3,7,8","SM:P,V,K,T","NC:Y",null,null,null,null,null,null,null,null,null,null,null,null,"YA_9100_0117",null,2630,"NACE","NACE",2006.3400000000001,1967,1910,1910,1854,1800,2630,{"$f":"ROUNDUP($V306*FX!$G$2*CF!$B$3,0)","v":2630},{"$f":"ROUNDUP($V306*FX!$G$10*CF!$B$4,0)","v":3629},{"$f":"ROUNDUP($V306*FX!$G$35*CF!$B$5,0)","v":1768},{"$f":"ROUNDUP($V306*FX!$G$3*CF!$B$6,0)","v":3658},null,null,null,null,null,null,null,null,null,null,null,null,null,null,null,null,null,null,null,null,null,null,null,null,null,null,null,null,null,null,null,2741,null,null,2091.2939999999999,2092,null,0,null,2006.646,2091,2091,2174.64,2174.64,2175,2377.2750000000001,2377.2750000000001,2378,2521,2630]
["YA9100","MOD:Y91",null,"VS:G","BM:2,3,7,8","SM:P,V,K,T","NC:Y",null,null,null,null,null,null,null,null,null,null,null,null,"YA_9100_0118",null,4623,"NACE","NACE",3528.18,3459,3358,3358,3260,3165,4623,{"$f":"ROUNDUP($V307*FX!$G$2*CF!$B$3,0)","v":4623},{"$f":"ROUNDUP($V307*FX!$G$10*CF!$B$4,0)","v":6378},{"$f":"ROUNDUP($V307*FX!$G$35*CF!$B$5,0)","v":3107},{"$f":"ROUNDUP($V307*FX!$G$3*CF!$B$6,0)","v":6429},null,null,null,null,null,null,null,null,null,null,null,null,null,null,null,null,null,null,null,null,null,null,null,null,null,null,null,null,null,null,null,4818,null,null,3676.1759999999999,3677,null,0,null,3527.9148000000005,3677,3677,3824.08,3824.08,3825,4180.7250000000004,4180.7250000000004,4181,4432,4623]
[null,"MOD:Y91",null,"VS:A","MCV:0010",null,null,null,null,null,null,null,null,null,null,null,null,null,null,"YA_9100_0119",null,0,"10 Main Cv","Do Not Use",0,0,0,0,0,0,0,{"$f":"ROUNDUP($V308*FX!$G$2*CF!$B$3,0)","v":0},{"$f":"ROUNDUP($V308*FX!$G$10*CF!$B$4,0)","v":0},{"$f":"ROUNDUP($V308*FX!$G$35*CF!$B$5,0)","v":0},{"$f":"ROUNDUP($V308*FX!$G$3*CF!$B$6,0)","v":0},null,null,null,null,null,null,null,null,null,null,null,null,null,null,null,null,null,null,null,null,null,null,null,null,null,null,null,null,null,null,null,0,null,null,0,0,null,0,null,0,0,0,0,0,0,0,0,0,0,0]
[null,"MOD:Y91",null,"VS:A","MCV:0015",null,null,null,null,null,null,null,null,null,null,null,null,null,null,"YA_9100_0120",null,0,"15 Main Cv","Do Not Use",0,0,0,0,0,0,0,{"$f":"ROUNDUP($V309*FX!$G$2*CF!$B$3,0)","v":0},{"$f":"ROUNDUP($V309*FX!$G$10*CF!$B$4,0)","v":0},{"$f":"ROUNDUP($V309*FX!$G$35*CF!$B$5,0)","v":0},{"$f":"ROUNDUP($V309*FX!$G$3*CF!$B$6,0)","v":0},null,null,null,null,null,null,null,null,null,null,null,null,null,null,null,null,null,null,null,null,null,null,null,null,null,null,null,null,null,null,null,0,null,null,0,0,null,0,null,0,0,0,0,0,0,0,0,0,0,0]
[null,"MOD:Y91",null,"VS:B","MCV:0018",null,null,null,null,null,null,null,null,null,null,null,null,null,null,"YA_9100_0121",null,0,"18 Main Cv","Do Not Use",0,0,0,0,0,0,0,{"$f":"ROUNDUP($V310*FX!$G$2*CF!$B$3,0)","v":0},{"$f":"ROUNDUP($V310*FX!$G$10*CF!$B$4,0)","v":0},{"$f":"ROUNDUP($V310*FX!$G$35*CF!$B$5,0)","v":0},{"$f":"ROUNDUP($V310*FX!$G$3*CF!$B$6,0)","v":0},null,null,null,null,null,null,null,null,null,null,null,null,null,null,null,null,null,null,null,null,null,null,null,null,null,null,null,null,null,null,null,0,null,null,0,0,null,0,null,0,0,0,0,0,0,0,0,0,0,0]
[null,"MOD:Y91",null,"VS:A","MCV:0020",null,null,null,null,null,null,null,null,null,null,null,null,null,null,"YA_9100_0122",null,0,"20 Main Cv","Do Not Use",0,0,0,0,0,0,0,{"$f":"ROUNDUP($V311*FX!$G$2*CF!$B$3,0)","v":0},{"$f":"ROUNDUP($V311*FX!$G$10*CF!$B$4,0)","v":0},{"$f":"ROUNDUP($V311*FX!$G$35*CF!$B$5,0)","v":0},{"$f":"ROUNDUP($V311*FX!$G$3*CF!$B$6,0)","v":0},null,null,null,null,null,null,null,null,null,null,null,null,null,null,null,null,null,null,null,null,null,null,null,null,null,null,null,null,null,null,null,0,null,null,0,0,null,0,null,0,0,0,0,0,0,0,0,0,0,0]
[null,"MOD:Y91",null,"VS:B","MCV:0027",null,null,null,null,null,null,null,null,null,null,null,null,null,null,"YA_9100_0123",null,0,"27 Main Cv","Do Not Use",0,0,0,0,0,0,0,{"$f":"ROUNDUP($V312*FX!$G$2*CF!$B$3,0)","v":0},{"$f":"ROUNDUP($V312*FX!$G$10*CF!$B$4,0)","v":0},{"$f":"ROUNDUP($V312*FX!$G$35*CF!$B$5,0)","v":0},{"$f":"ROUNDUP($V312*FX!$G$3*CF!$B$6,0)","v":0},null,null,null,null,null,null,null,null,null,null,null,null,null,null,null,null,null,null,null,null,null,null,null,null,null,null,null,null,null,null,null,0,null,null,0,0,null,0,null,0,0,0,0,0,0,0,0,0,0,0]
[null,"MOD:Y91",null,"VS:C","MCV:0030",null,null,null,null,null,null,null,null,null,null,null,null,null,null,"YA_9100_0124",null,0,"30 Main Cv","Do Not Use",0,0,0,0,0,0,0,{"$f":"ROUNDUP($V313*FX!$G$2*CF!$B$3,0)","v":0},{"$f":"ROUNDUP($V313*FX!$G$10*CF!$B$4,0)","v":0},{"$f":"ROUNDUP($V313*FX!$G$35*CF!$B$5,0)","v":0},{"$f":"ROUNDUP($V313*FX!$G$3*CF!$B$6,0)","v":0},null,null,null,null,null,null,null,null,null,null,null,null,null,null,null,null,null,null,null,null,null,null,null,null,null,null,null,null,null,null,null,0,null,null,0,0,null,0,null,0,0,0,0,0,0,0,0,0,0,0]
[null,"MOD:Y91",null,"VS:B","MCV:0035",null,null,null,null,null,null,null,null,null,null,null,null,null,null,"YA_9100_0125",null,0,"35 Main Cv","Do Not Use",0,0,0,0,0,0,0,{"$f":"ROUNDUP($V314*FX!$G$2*CF!$B$3,0)","v":0},{"$f":"ROUNDUP($V314*FX!$G$10*CF!$B$4,0)","v":0},{"$f":"ROUNDUP($V314*FX!$G$35*CF!$B$5,0)","v":0},{"$f":"ROUNDUP($V314*FX!$G$3*CF!$B$6,0)","v":0},null,null,null,null,null,null,null,null,null,null,null,null,null,null,null,null,null,null,null,null,null,null,null,null,null,null,null,null,null,null,null,0,null,null,0,0,null,0,null,0,0,0,0,0,0,0,0,0,0,0]
[null,"MOD:Y91",null,"VS:C","MCV:0040",null,null,null,null,null,null,null,null,null,null,null,null,null,null,"YA_9100_0126",null,0,"40 Main Cv","Do Not Use",0,0,0,0,0,0,0,{"$f":"ROUNDUP($V315*FX!$G$2*CF!$B$3,0)","v":0},{"$f":"ROUNDUP($V315*FX!$G$10*CF!$B$4,0)","v":0},{"$f":"ROUNDUP($V315*FX!$G$35*CF!$B$5,0)","v":0},{"$f":"ROUNDUP($V315*FX!$G$3*CF!$B$6,0)","v":0},null,null,null,null,null,null,null,null,null,null,null,null,null,null,null,null,null,null,null,null,null,null,null,null,null,null,null,null,null,null,null,0,null,null,0,0,null,0,null,0,0,0,0,0,0,0,0,0,0,0]
[null,"MOD:Y91",null,"VS:C","MCV:0050",null,null,null,null,null,null,null,null,null,null,null,null,null,null,"YA_9100_0127",null,0,"50 Main Cv","Do Not Use",0,0,0,0,0,0,0,{"$f":"ROUNDUP($V316*FX!$G$2*CF!$B$3,0)","v":0},{"$f":"ROUNDUP($V316*FX!$G$10*CF!$B$4,0)","v":0},{"$f":"ROUNDUP($V316*FX!$G$35*CF!$B$5,0)","v":0},{"$f":"ROUNDUP($V316*FX!$G$3*CF!$B$6,0)","v":0},null,null,null,null,null,null,null,null,null,null,null,null,null,null,null,null,null,null,null,null,null,null,null,null,null,null,null,null,null,null,null,0,null,null,0,0,null,0,null,0,0,0,0,0,0,0,0,0,0,0]
[null,"MOD:Y91",null,"VS:D","MCV:0055",null,null,null,null,null,null,null,null,null,null,null,null,null,null,"YA_9100_0128",null,0,"55 Main Cv","Do Not Use",0,0,0,0,0,0,0,{"$f":"ROUNDUP($V317*FX!$G$2*CF!$B$3,0)","v":0},{"$f":"ROUNDUP($V317*FX!$G$10*CF!$B$4,0)","v":0},{"$f":"ROUNDUP($V317*FX!$G$35*CF!$B$5,0)","v":0},{"$f":"ROUNDUP($V317*FX!$G$3*CF!$B$6,0)","v":0},null,null,null,null,null,null,null,null,null,null,null,null,null,null,null,null,null,null,null,null,null,null,null,null,null,null,null,null,null,null,null,0,null,null,0,0,null,0,null,0,0,0,0,0,0,0,0,0,0,0]
[null,"MOD:Y91",null,"VS:C","MCV:0060",null,null,null,null,null,null,null,null,null,null,null,null,null,null,"YA_9100_0129",null,0,"60 Main Cv","Do Not Use",0,0,0,0,0,0,0,{"$f":"ROUNDUP($V318*FX!$G$2*CF!$B$3,0)","v":0},{"$f":"ROUNDUP($V318*FX!$G$10*CF!$B$4,0)","v":0},{"$f":"ROUNDUP($V318*FX!$G$35*CF!$B$5,0)","v":0},{"$f":"ROUNDUP($V318*FX!$G$3*CF!$B$6,0)","v":0},null,null,null,null,null,null,null,null,null,null,null,null,null,null,null,null,null,null,null,null,null,null,null,null,null,null,null,null,null,null,null,0,null,null,0,0,null,0,null,0,0,0,0,0,0,0,0,0,0,0]
[null,"MOD:Y91",null,"VS:D","MCV:0075",null,null,null,null,null,null,null,null,null,null,null,null,null,null,"YA_9100_0130",null,0,"75 Main Cv ","Do Not Use",0,0,0,0,0,0,0,{"$f":"ROUNDUP($V319*FX!$G$2*CF!$B$3,0)","v":0},{"$f":"ROUNDUP($V319*FX!$G$10*CF!$B$4,0)","v":0},{"$f":"ROUNDUP($V319*FX!$G$35*CF!$B$5,0)","v":0},{"$f":"ROUNDUP($V319*FX!$G$3*CF!$B$6,0)","v":0},null,null,null,null,null,null,null,null,null,null,null,null,null,null,null,null,null,null,null,null,null,null,null,null,null,null,null,null,null,null,null,0,null,null,0,0,null,0,null,0,0,0,0,0,0,0,0,0,0,0]
[null,"MOD:Y91",null,"VS:D","MCV:0092",null,null,null,null,null,null,null,null,null,null,null,null,null,null,"YA_9100_0131",null,0,"92 Main Cv ","Do Not Use",0,0,0,0,0,0,0,{"$f":"ROUNDUP($V320*FX!$G$2*CF!$B$3,0)","v":0},{"$f":"ROUNDUP($V320*FX!$G$10*CF!$B$4,0)","v":0},{"$f":"ROUNDUP($V320*FX!$G$35*CF!$B$5,0)","v":0},{"$f":"ROUNDUP($V320*FX!$G$3*CF!$B$6,0)","v":0},null,null,null,null,null,null,null,null,null,null,null,null,null,null,null,null,null,null,null,null,null,null,null,null,null,null,null,null,null,null,null,0,null,null,0,0,null,0,null,0,0,0,0,0,0,0,0,0,0,0]
[null,"MOD:Y91",null,"VS:D","MCV:0110",null,null,null,null,null,null,null,null,null,null,null,null,null,null,"YA_9100_0132",null,0,"110 Main Cv ","Do Not Use",0,0,0,0,0,0,0,{"$f":"ROUNDUP($V321*FX!$G$2*CF!$B$3,0)","v":0},{"$f":"ROUNDUP($V321*FX!$G$10*CF!$B$4,0)","v":0},{"$f":"ROUNDUP($V321*FX!$G$35*CF!$B$5,0)","v":0},{"$f":"ROUNDUP($V321*FX!$G$3*CF!$B$6,0)","v":0},null,null,null,null,null,null,null,null,null,null,null,null,null,null,null,null,null,null,null,null,null,null,null,null,null,null,null,null,null,null,null,0,null,null,0,0,null,0,null,0,0,0,0,0,0,0,0,0,0,0]
[null,"MOD:Y91",null,"VS:E","MCV:0115",null,null,null,null,null,null,null,null,null,null,null,null,null,null,"YA_9100_0133",null,{"$f":"AE322","v":0},"115 Main Cv ","Do Not Use",0,0,0,0,0,0,0,{"$f":"ROUNDUP($V322*FX!$G$2*CF!$B$3,0)","v":0},{"$f":"ROUNDUP($V322*FX!$G$10*CF!$B$4,0)","v":0},{"$f":"ROUNDUP($V322*FX!$G$35*CF!$B$5,0)","v":0},{"$f":"ROUNDUP($V322*FX!$G$3*CF!$B$6,0)","v":0},null,null,null,null,null,null,null,null,null,null,null,null,null,null,null,null,null,null,null,null,null,null,null,null,null,null,null,null,null,null,null,0,null,null,0,0,null,0,null,0,0,0,0,0,0,0,0,0,{"$f":"IF(CE322=\"POA\",\"POA\", ROUNDUP(CE322*1.06,0))","v":0},0]
[null,"MOD:Y91",null,"VS:D","MCV:0130",null,null,null,null,null,null,null,null,null,null,null,null,null,null,"YA_9100_0134",null,0,"130 Main Cv ","Do Not Use",{"$f":"IFERROR(Z323*1.02,\"POA\")","v":0},0,0,0,0,0,{"$f":"CG323","v":0},{"$f":"ROUNDUP($V323*FX!$G$2*CF!$B$3,0)","v":0},{"$f":"ROUNDUP($V323*FX!$G$10*CF!$B$4,0)","v":0},{"$f":"ROUNDUP($V323*FX!$G$35*CF!$B$5,0)","v":0},{"$f":"ROUNDUP($V323*FX!$G$3*CF!$B$6,0)","v":0},null,null,null,null,null,null,null,null,null,null,null,null,null,null,null,null,null,null,null,null,null,null,null,null,null,null,null,null,null,null,null,{"$f":"ROUNDUP(($AE323+($AE323*$BO$1)),0)","v":0},null,null,0,0,null,{"$f":"ROUNDUP(BT323,0)","v":0},null,0,0,0,0,0,{"$f":"ROUNDUP(CA323,0)","v":0},{"$f":"CB323+(CB323*$CC$1)","v":0},0,0,0,{"$f":"IF(CF323=\"POA\",\"POA\", ROUNDUP(CF323*1.043,0))","v":0}]
[null,"MOD:Y91",null,"VS:E","MCV:0135",null,null,null,null,null,null,null,null,null,null,null,null,null,null,"YA_9100_0135",null,0,"135 Main Cv ","Do Not Use",0,0,0,0,0,0,0,{"$f":"ROUNDUP($V324*FX!$G$2*CF!$B$3,0)","v":0},{"$f":"ROUNDUP($V324*FX!$G$10*CF!$B$4,0)","v":0},{"$f":"ROUNDUP($V324*FX!$G$35*CF!$B$5,0)","v":0},{"$f":"ROUNDUP($V324*FX!$G$3*CF!$B$6,0)","v":0},null,null,null,null,null,null,null,null,null,null,null,null,null,null,null,null,null,null,null,null,null,null,null,null,null,null,null,null,null,null,null,0,null,null,0,0,null,0,null,0,0,0,0,0,0,0,0,0,0,0]
[null,"MOD:Y91",null,"VS:D","MCV:0150",null,null,null,null,null,null,null,null,null,null,null,null,null,null,"YA_9100_0136",null,0,"150 Main Cv ","Do Not Use",0,0,0,0,0,0,0,{"$f":"ROUNDUP($V325*FX!$G$2*CF!$B$3,0)","v":0},{"$f":"ROUNDUP($V325*FX!$G$10*CF!$B$4,0)","v":0},{"$f":"ROUNDUP($V325*FX!$G$35*CF!$B$5,0)","v":0},{"$f":"ROUNDUP($V325*FX!$G$3*CF!$B$6,0)","v":0},null,null,null,null,null,null,null,null,null,null,null,null,null,null,null,null,null,null,null,null,null,null,null,null,null,null,null,null,null,null,null,0,null,null,0,0,null,0,null,0,0,0,0,0,0,0,0,0,0,0]
[null,"MOD:Y91",null,"VS:E","MCV:0157",null,null,null,null,null,null,null,null,null,null,null,null,null,null,"YA_9100_0137",null,0,"157 Main Cv ","Do Not Use",0,0,0,0,0,0,0,{"$f":"ROUNDUP($V326*FX!$G$2*CF!$B$3,0)","v":0},{"$f":"ROUNDUP($V326*FX!$G$10*CF!$B$4,0)","v":0},{"$f":"ROUNDUP($V326*FX!$G$35*CF!$B$5,0)","v":0},{"$f":"ROUNDUP($V326*FX!$G$3*CF!$B$6,0)","v":0},null,null,null,null,null,null,null,null,null,null,null,null,null,null,null,null,null,null,null,null,null,null,null,null,null,null,null,null,null,null,null,0,null,null,0,0,null,0,null,0,0,0,0,0,0,0,0,0,0,0]
[null,"MOD:Y91",null,"VS:E","MCV:0190",null,null,null,null,null,null,null,null,null,null,null,null,null,null,"YA_9100_0138",null,0,"190 Main Cv ","Do Not Use",0,0,0,0,0,0,0,{"$f":"ROUNDUP($V327*FX!$G$2*CF!$B$3,0)","v":0},{"$f":"ROUNDUP($V327*FX!$G$10*CF!$B$4,0)","v":0},{"$f":"ROUNDUP($V327*FX!$G$35*CF!$B$5,0)","v":0},{"$f":"ROUNDUP($V327*FX!$G$3*CF!$B$6,0)","v":0},null,null,null,null,null,null,null,null,null,null,null,null,null,null,null,null,null,null,null,null,null,null,null,null,null,null,null,null,null,null,null,0,null,null,0,0,null,0,null,0,0,0,0,0,0,0,0,0,0,0]
[null,"MOD:Y91",null,"VS:F","MCV:0225",null,null,null,null,null,null,null,null,null,null,null,null,null,null,"YA_9100_0139",null,0,"225 Main Cv ","Do Not Use",0,0,0,0,0,0,0,{"$f":"ROUNDUP($V328*FX!$G$2*CF!$B$3,0)","v":0},{"$f":"ROUNDUP($V328*FX!$G$10*CF!$B$4,0)","v":0},{"$f":"ROUNDUP($V328*FX!$G$35*CF!$B$5,0)","v":0},{"$f":"ROUNDUP($V328*FX!$G$3*CF!$B$6,0)","v":0},null,null,null,null,null,null,null,null,null,null,null,null,null,null,null,null,null,null,null,null,null,null,null,null,null,null,null,null,null,null,null,0,null,null,0,0,null,0,null,0,0,0,0,0,0,0,0,0,0,0]
[null,"MOD:Y91",null,"VS:E","MCV:0230",null,null,null,null,null,null,null,null,null,null,null,null,null,null,"YA_9100_0140",null,0,"230 Main Cv ","Do Not Use",0,0,0,0,0,0,0,{"$f":"ROUNDUP($V329*FX!$G$2*CF!$B$3,0)","v":0},{"$f":"ROUNDUP($V329*FX!$G$10*CF!$B$4,0)","v":0},{"$f":"ROUNDUP($V329*FX!$G$35*CF!$B$5,0)","v":0},{"$f":"ROUNDUP($V329*FX!$G$3*CF!$B$6,0)","v":0},null,null,null,null,null,null,null,null,null,null,null,null,null,null,null,null,null,null,null,null,null,null,null,null,null,null,null,null,null,null,null,0,null,null,0,0,null,0,null,0,0,0,0,0,0,0,0,0,0,0]
[null,"MOD:Y91",null,"VS:E","MCV:0270",null,null,null,null,null,null,null,null,null,null,null,null,null,null,"YA_9100_0141",null,0,"270 Main Cv ","Do Not Use",0,0,0,0,0,0,0,{"$f":"ROUNDUP($V330*FX!$G$2*CF!$B$3,0)","v":0},{"$f":"ROUNDUP($V330*FX!$G$10*CF!$B$4,0)","v":0},{"$f":"ROUNDUP($V330*FX!$G$35*CF!$B$5,0)","v":0},{"$f":"ROUNDUP($V330*FX!$G$3*CF!$B$6,0)","v":0},null,null,null,null,null,null,null,null,null,null,null,null,null,null,null,null,null,null,null,null,null,null,null,null,null,null,null,null,null,null,null,0,null,null,0,0,null,0,null,0,0,0,0,0,0,0,0,0,0,0]
[null,"MOD:Y91",null,"VS:F","MCV:0280",null,null,null,null,null,null,null,null,null,null,null,null,null,null,"YA_9100_0142",null,0,"280 Main Cv ","Do Not Use",0,0,0,0,0,0,0,{"$f":"ROUNDUP($V331*FX!$G$2*CF!$B$3,0)","v":0},{"$f":"ROUNDUP($V331*FX!$G$10*CF!$B$4,0)","v":0},{"$f":"ROUNDUP($V331*FX!$G$35*CF!$B$5,0)","v":0},{"$f":"ROUNDUP($V331*FX!$G$3*CF!$B$6,0)","v":0},null,null,null,null,null,null,null,null,null,null,null,null,null,null,null,null,null,null,null,null,null,null,null,null,null,null,null,null,null,null,null,0,null,null,0,0,null,0,null,0,0,0,0,0,0,0,0,0,0,0]
[null,"MOD:Y91",null,"VS:F","MCV:0340",null,null,null,null,null,null,null,null,null,null,null,null,null,null,"YA_9100_0143",null,0,"340 Main Cv ","Do Not Use",0,0,0,0,0,0,0,{"$f":"ROUNDUP($V332*FX!$G$2*CF!$B$3,0)","v":0},{"$f":"ROUNDUP($V332*FX!$G$10*CF!$B$4,0)","v":0},{"$f":"ROUNDUP($V332*FX!$G$35*CF!$B$5,0)","v":0},{"$f":"ROUNDUP($V332*FX!$G$3*CF!$B$6,0)","v":0},null,null,null,null,null,null,null,null,null,null,null,null,null,null,null,null,null,null,null,null,null,null,null,null,null,null,null,null,null,null,null,0,null,null,0,0,null,0,null,0,0,0,0,0,0,0,0,0,0,0]
[null,"MOD:Y91",null,"VS:F","MCV:0400",null,null,null,null,null,null,null,null,null,null,null,null,null,null,"YA_9100_0144",null,0,"400 Main Cv ","Do Not Use",0,0,0,0,0,0,0,{"$f":"ROUNDUP($V333*FX!$G$2*CF!$B$3,0)","v":0},{"$f":"ROUNDUP($V333*FX!$G$10*CF!$B$4,0)","v":0},{"$f":"ROUNDUP($V333*FX!$G$35*CF!$B$5,0)","v":0},{"$f":"ROUNDUP($V333*FX!$G$3*CF!$B$6,0)","v":0},null,null,null,null,null,null,null,null,null,null,null,null,null,null,null,null,null,null,null,null,null,null,null,null,null,null,null,null,null,null,null,0,null,null,0,0,null,0,null,0,0,0,0,0,0,0,0,0,0,0]
[null,"MOD:Y91",null,"VS:F,G ","MCV:0480",null,null,null,null,null,null,null,null,null,null,null,null,null,null,"YA_9100_0145",null,0,"480 Main Cv ","Do Not Use",0,0,0,0,0,0,0,{"$f":"ROUNDUP($V334*FX!$G$2*CF!$B$3,0)","v":0},{"$f":"ROUNDUP($V334*FX!$G$10*CF!$B$4,0)","v":0},{"$f":"ROUNDUP($V334*FX!$G$35*CF!$B$5,0)","v":0},{"$f":"ROUNDUP($V334*FX!$G$3*CF!$B$6,0)","v":0},null,null,null,null,null,null,null,null,null,null,null,null,null,null,null,null,null,null,null,null,null,null,null,null,null,null,null,null,null,null,null,0,null,null,0,0,null,0,null,0,0,0,0,0,0,0,0,0,0,0]
[null,"MOD:Y91",null,"VS:F","MCV:0560",null,null,null,null,null,null,null,null,null,null,null,null,null,null,"YA_9100_0146",null,0,"560 Main Cv ","Do Not Use",0,0,0,0,0,0,0,{"$f":"ROUNDUP($V335*FX!$G$2*CF!$B$3,0)","v":0},{"$f":"ROUNDUP($V335*FX!$G$10*CF!$B$4,0)","v":0},{"$f":"ROUNDUP($V335*FX!$G$35*CF!$B$5,0)","v":0},{"$f":"ROUNDUP($V335*FX!$G$3*CF!$B$6,0)","v":0},null,null,null,null,null,null,null,null,null,null,null,null,null,null,null,null,null,null,null,null,null,null,null,null,null,null,null,null,null,null,null,0,null,null,0,0,null,0,null,0,0,0,0,0,0,0,0,0,0,0]
[null,"MOD:Y91",null,"VS:G","MCV:0600",null,null,null,null,null,null,null,null,null,null,null,null,null,null,"YA_9100_0147",null,0,"600 Main Cv","Do Not Use",0,0,0,0,0,0,0,{"$f":"ROUNDUP($V336*FX!$G$2*CF!$B$3,0)","v":0},{"$f":"ROUNDUP($V336*FX!$G$10*CF!$B$4,0)","v":0},{"$f":"ROUNDUP($V336*FX!$G$35*CF!$B$5,0)","v":0},{"$f":"ROUNDUP($V336*FX!$G$3*CF!$B$6,0)","v":0},null,null,null,null,null,null,null,null,null,null,null,null,null,null,null,null,null,null,null,null,null,null,null,null,null,null,null,null,null,null,null,0,null,null,0,0,null,0,null,0,0,0,0,0,0,0,0,0,0,0]
[null,"MOD:Y91",null,"VS:G","MCV:0720",null,null,null,null,null,null,null,null,null,null,null,null,null,null,"YA_9100_0148",null,0,"720 Main Cv","Do Not Use",0,0,0,0,0,0,0,{"$f":"ROUNDUP($V337*FX!$G$2*CF!$B$3,0)","v":0},{"$f":"ROUNDUP($V337*FX!$G$10*CF!$B$4,0)","v":0},{"$f":"ROUNDUP($V337*FX!$G$35*CF!$B$5,0)","v":0},{"$f":"ROUNDUP($V337*FX!$G$3*CF!$B$6,0)","v":0},null,null,null,null,null,null,null,null,null,null,null,null,null,null,null,null,null,null,null,null,null,null,null,null,null,null,null,null,null,null,null,0,null,null,0,0,null,0,null,0,0,0,0,0,0,0,0,0,0,0]
[null,"MOD:Y91",null,"VS:G","MCV:0840",null,null,null,null,null,null,null,null,null,null,null,null,null,null,"YA_9100_0149",null,0,"840 Main Cv","Do Not Use",0,0,0,0,0,0,0,{"$f":"ROUNDUP($V338*FX!$G$2*CF!$B$3,0)","v":0},{"$f":"ROUNDUP($V338*FX!$G$10*CF!$B$4,0)","v":0},{"$f":"ROUNDUP($V338*FX!$G$35*CF!$B$5,0)","v":0},{"$f":"ROUNDUP($V338*FX!$G$3*CF!$B$6,0)","v":0},null,null,null,null,null,null,null,null,null,null,null,null,null,null,null,null,null,null,null,null,null,null,null,null,null,null,null,null,null,null,null,0,null,null,0,0,null,0,null,0,0,0,0,0,0,0,0,0,0,0]
[null,"MOD:Y91",null,"VS:G","MCV:0960",null,null,null,null,null,null,null,null,null,null,null,null,null,null,"YA_9100_0150",null,0,"960 Main Cv","Do Not Use",0,0,0,0,0,0,0,{"$f":"ROUNDUP($V339*FX!$G$2*CF!$B$3,0)","v":0},{"$f":"ROUNDUP($V339*FX!$G$10*CF!$B$4,0)","v":0},{"$f":"ROUNDUP($V339*FX!$G$35*CF!$B$5,0)","v":0},{"$f":"ROUNDUP($V339*FX!$G$3*CF!$B$6,0)","v":0},null,null,null,null,null,null,null,null,null,null,null,null,null,null,null,null,null,null,null,null,null,null,null,null,null,null,null,null,null,null,null,0,null,null,0,0,null,0,null,0,0,0,0,0,0,0,0,0,0,0]
[null,"MOD:Y91",null,"VS:G","MCV:1080",null,null,null,null,null,null,null,null,null,null,null,null,null,null,"YA_9100_0151",null,0,"1080 Main Cv","Do Not Use",0,0,0,0,0,0,0,{"$f":"ROUNDUP($V340*FX!$G$2*CF!$B$3,0)","v":0},{"$f":"ROUNDUP($V340*FX!$G$10*CF!$B$4,0)","v":0},{"$f":"ROUNDUP($V340*FX!$G$35*CF!$B$5,0)","v":0},{"$f":"ROUNDUP($V340*FX!$G$3*CF!$B$6,0)","v":0},null,null,null,null,null,null,null,null,null,null,null,null,null,null,null,null,null,null,null,null,null,null,null,null,null,null,null,null,null,null,null,0,null,null,0,0,null,0,null,0,0,0,0,0,0,0,0,0,0,0]
[null,"MOD:Y91",null,"VS:G","MCV:1200",null,null,null,null,null,null,null,null,null,null,null,null,null,null,"YA_9100_0152",null,0,"1200 Main Cv","Do Not Use",0,0,0,0,0,0,0,{"$f":"ROUNDUP($V341*FX!$G$2*CF!$B$3,0)","v":0},{"$f":"ROUNDUP($V341*FX!$G$10*CF!$B$4,0)","v":0},{"$f":"ROUNDUP($V341*FX!$G$35*CF!$B$5,0)","v":0},{"$f":"ROUNDUP($V341*FX!$G$3*CF!$B$6,0)","v":0},null,null,null,null,null,null,null,null,null,null,null,null,null,null,null,null,null,null,null,null,null,null,null,null,null,null,null,null,null,null,null,0,null,null,0,0,null,0,null,0,0,0,0,0,0,0,0,0,0,0]
[null,"MOD:Y91",null,"VS:C","BCV:0002",null,null,null,null,null,null,null,null,null,null,null,null,null,null,"YA_9100_0153",null,0,"0.2 Bypass Cv ","Do Not Use",0,0,0,0,0,0,0,{"$f":"ROUNDUP($V342*FX!$G$2*CF!$B$3,0)","v":0},{"$f":"ROUNDUP($V342*FX!$G$10*CF!$B$4,0)","v":0},{"$f":"ROUNDUP($V342*FX!$G$35*CF!$B$5,0)","v":0},{"$f":"ROUNDUP($V342*FX!$G$3*CF!$B$6,0)","v":0},null,null,null,null,null,null,null,null,null,null,null,null,null,null,null,null,null,null,null,null,null,null,null,null,null,null,null,null,null,null,null,0,null,null,0,0,null,0,null,0,0,0,0,0,0,0,0,0,0,0]
[null,"MOD:Y91",null,"VS:C","BCV:0004",null,null,null,null,null,null,null,null,null,null,null,null,null,null,"YA_9100_0154",null,0,"0.4 Bypass Cv ","Do Not Use",0,0,0,0,0,0,0,{"$f":"ROUNDUP($V343*FX!$G$2*CF!$B$3,0)","v":0},{"$f":"ROUNDUP($V343*FX!$G$10*CF!$B$4,0)","v":0},{"$f":"ROUNDUP($V343*FX!$G$35*CF!$B$5,0)","v":0},{"$f":"ROUNDUP($V343*FX!$G$3*CF!$B$6,0)","v":0},null,null,null,null,null,null,null,null,null,null,null,null,null,null,null,null,null,null,null,null,null,null,null,null,null,null,null,null,null,null,null,0,null,null,0,0,null,0,null,0,0,0,0,0,0,0,0,0,0,0]
[null,"MOD:Y91",null,"VS:A,B,C,D,E","BCV:0006",null,null,null,null,null,null,null,null,null,null,null,null,null,null,"YA_9100_0155",null,0,"0.6 Bypass Cv ","Do Not Use",0,0,0,0,0,0,0,{"$f":"ROUNDUP($V344*FX!$G$2*CF!$B$3,0)","v":0},{"$f":"ROUNDUP($V344*FX!$G$10*CF!$B$4,0)","v":0},{"$f":"ROUNDUP($V344*FX!$G$35*CF!$B$5,0)","v":0},{"$f":"ROUNDUP($V344*FX!$G$3*CF!$B$6,0)","v":0},null,null,null,null,null,null,null,null,null,null,null,null,null,null,null,null,null,null,null,null,null,null,null,null,null,null,null,null,null,null,null,0,null,null,0,0,null,0,null,0,0,0,0,0,0,0,0,0,0,0]
[null,"MOD:Y91",null,"VS:A,B,C ","BCV:0008",null,null,null,null,null,null,null,null,null,null,null,null,null,null,"YA_9100_0156",null,0,"0.8 Bypass Cv","Do Not Use",0,0,0,0,0,0,0,{"$f":"ROUNDUP($V345*FX!$G$2*CF!$B$3,0)","v":0},{"$f":"ROUNDUP($V345*FX!$G$10*CF!$B$4,0)","v":0},{"$f":"ROUNDUP($V345*FX!$G$35*CF!$B$5,0)","v":0},{"$f":"ROUNDUP($V345*FX!$G$3*CF!$B$6,0)","v":0},null,null,null,null,null,null,null,null,null,null,null,null,null,null,null,null,null,null,null,null,null,null,null,null,null,null,null,null,null,null,null,0,null,null,0,0,null,0,null,0,0,0,0,0,0,0,0,0,0,0]
[null,"MOD:Y91",null,"VS:C","BCV:0010",null,null,null,null,null,null,null,null,null,null,null,null,null,null,"YA_9100_0157",null,0,"1.0 Bypass Cv","Do Not Use",0,0,0,0,0,0,0,{"$f":"ROUNDUP($V346*FX!$G$2*CF!$B$3,0)","v":0},{"$f":"ROUNDUP($V346*FX!$G$10*CF!$B$4,0)","v":0},{"$f":"ROUNDUP($V346*FX!$G$35*CF!$B$5,0)","v":0},{"$f":"ROUNDUP($V346*FX!$G$3*CF!$B$6,0)","v":0},null,null,null,null,null,null,null,null,null,null,null,null,null,null,null,null,null,null,null,null,null,null,null,null,null,null,null,null,null,null,null,0,null,null,0,0,null,0,null,0,0,0,0,0,0,0,0,0,0,0]
[null,"MOD:Y91",null,"VS:D,E","BCV:0011",null,null,null,null,null,null,null,null,null,null,null,null,null,null,"YA_9100_0158",null,0,"1.1 Bypass Cv ","Do Not Use",0,0,0,0,0,0,0,{"$f":"ROUNDUP($V347*FX!$G$2*CF!$B$3,0)","v":0},{"$f":"ROUNDUP($V347*FX!$G$10*CF!$B$4,0)","v":0},{"$f":"ROUNDUP($V347*FX!$G$35*CF!$B$5,0)","v":0},{"$f":"ROUNDUP($V347*FX!$G$3*CF!$B$6,0)","v":0},null,null,null,null,null,null,null,null,null,null,null,null,null,null,null,null,null,null,null,null,null,null,null,null,null,null,null,null,null,null,null,0,null,null,0,0,null,0,null,0,0,0,0,0,0,0,0,0,0,0]
[null,"MOD:Y91",null,"VS:A,B","BCV:0012",null,null,null,null,null,null,null,null,null,null,null,null,null,null,"YA_9100_0159",null,0,"1.2 Bypass Cv ","Do Not Use",0,0,0,0,0,0,0,{"$f":"ROUNDUP($V348*FX!$G$2*CF!$B$3,0)","v":0},{"$f":"ROUNDUP($V348*FX!$G$10*CF!$B$4,0)","v":0},{"$f":"ROUNDUP($V348*FX!$G$35*CF!$B$5,0)","v":0},{"$f":"ROUNDUP($V348*FX!$G$3*CF!$B$6,0)","v":0},null,null,null,null,null,null,null,null,null,null,null,null,null,null,null,null,null,null,null,null,null,null,null,null,null,null,null,null,null,null,null,0,null,null,0,0,null,0,null,0,0,0,0,0,0,0,0,0,0,0]
[null,"MOD:Y91",null,"VS:C","BCV:0013",null,null,null,null,null,null,null,null,null,null,null,null,null,null,"YA_9100_0160",null,0,"1.3 Bypass Cv ","Do Not Use",0,{"$f":"ROUND(IFERROR(AA349*1.03,\"POA\"),0)","v":0},0,0,0,0,0,{"$f":"ROUNDUP($V349*FX!$G$2*CF!$B$3,0)","v":0},{"$f":"ROUNDUP($V349*FX!$G$10*CF!$B$4,0)","v":0},{"$f":"ROUNDUP($V349*FX!$G$35*CF!$B$5,0)","v":0},{"$f":"ROUNDUP($V349*FX!$G$3*CF!$B$6,0)","v":0},null,null,null,null,null,null,null,null,null,null,null,null,null,null,null,null,null,null,null,null,null,null,null,null,null,null,null,null,null,null,null,0,null,null,0,{"$f":"ROUNDUP(BR349,0)","v":0},null,0,null,0,{"$f":"ROUNDUP(($BW349+($BX$1*$BW349)),0)","v":0},0,{"$f":"BY349+(BY349*$BZ$1)","v":0},0,0,0,0,{"$f":"ROUNDUP(CD349,0)","v":0},0,0]
[null,"MOD:Y91",null,"VS:A,B,C,D,E","BCV:0016",null,null,null,null,null,null,null,null,null,null,null,null,null,null,"YA_9100_0161",null,0,"1.6 Bypass Cv ","Do Not Use",0,0,0,0,0,0,0,{"$f":"ROUNDUP($V350*FX!$G$2*CF!$B$3,0)","v":0},{"$f":"ROUNDUP($V350*FX!$G$10*CF!$B$4,0)","v":0},{"$f":"ROUNDUP($V350*FX!$G$35*CF!$B$5,0)","v":0},{"$f":"ROUNDUP($V350*FX!$G$3*CF!$B$6,0)","v":0},null,null,null,null,null,null,null,null,null,null,null,null,null,null,null,null,null,null,null,null,null,null,null,null,null,null,null,null,null,null,null,0,null,null,0,0,null,0,null,0,0,0,0,0,0,0,0,0,0,0]
[null,"MOD:Y91",null,"VS:C,D","BCV:0020",null,null,null,null,null,null,null,null,null,null,null,null,null,null,"YA_9100_0162",null,0,"2.0 Bypass Cv","Do Not Use",0,0,0,0,0,0,0,{"$f":"ROUNDUP($V351*FX!$G$2*CF!$B$3,0)","v":0},{"$f":"ROUNDUP($V351*FX!$G$10*CF!$B$4,0)","v":0},{"$f":"ROUNDUP($V351*FX!$G$35*CF!$B$5,0)","v":0},{"$f":"ROUNDUP($V351*FX!$G$3*CF!$B$6,0)","v":0},null,null,null,null,null,null,null,null,null,null,null,null,null,null,null,null,null,null,null,null,null,null,null,null,null,null,null,null,null,null,null,0,null,null,0,0,null,0,null,0,0,0,0,0,0,0,0,0,0,0]
[null,"MOD:Y91",null,"VS:A,B","BCV:0021",null,null,null,null,null,null,null,null,null,null,null,null,null,null,"YA_9100_0163",null,0,"2.1 Bypass Cv ","Do Not Use",0,0,0,0,0,0,0,{"$f":"ROUNDUP($V352*FX!$G$2*CF!$B$3,0)","v":0},{"$f":"ROUNDUP($V352*FX!$G$10*CF!$B$4,0)","v":0},{"$f":"ROUNDUP($V352*FX!$G$35*CF!$B$5,0)","v":0},{"$f":"ROUNDUP($V352*FX!$G$3*CF!$B$6,0)","v":0},null,null,null,null,null,null,null,null,null,null,null,null,null,null,null,null,null,null,null,null,null,null,null,null,null,null,null,null,null,null,null,0,null,null,0,0,null,0,null,0,0,0,0,0,0,0,0,0,0,0]
[null,"MOD:Y91",null,"VS:A,B,C,E","BCV:0023",null,null,null,null,null,null,null,null,null,null,null,null,null,null,"YA_9100_0164",null,0,"2.3 Bypass Cv ","Do Not Use",0,0,0,0,0,0,0,{"$f":"ROUNDUP($V353*FX!$G$2*CF!$B$3,0)","v":0},{"$f":"ROUNDUP($V353*FX!$G$10*CF!$B$4,0)","v":0},{"$f":"ROUNDUP($V353*FX!$G$35*CF!$B$5,0)","v":0},{"$f":"ROUNDUP($V353*FX!$G$3*CF!$B$6,0)","v":0},null,null,null,null,null,null,null,null,null,null,null,null,null,null,null,null,null,null,null,null,null,null,null,null,null,null,null,null,null,null,null,0,null,null,0,0,null,0,null,0,0,0,0,0,0,0,0,0,0,0]
[null,"MOD:Y91",null,"VS:D","BCV:0025",null,null,null,null,null,null,null,null,null,null,null,null,null,null,"YA_9100_0165",null,0,"2.5 Bypass Cv ","Do Not Use",0,0,0,0,0,0,0,{"$f":"ROUNDUP($V354*FX!$G$2*CF!$B$3,0)","v":0},{"$f":"ROUNDUP($V354*FX!$G$10*CF!$B$4,0)","v":0},{"$f":"ROUNDUP($V354*FX!$G$35*CF!$B$5,0)","v":0},{"$f":"ROUNDUP($V354*FX!$G$3*CF!$B$6,0)","v":0},null,null,null,null,null,null,null,null,null,null,null,null,null,null,null,null,null,null,null,null,null,null,null,null,null,null,null,null,null,null,null,0,null,null,0,0,null,0,null,0,0,0,0,0,0,0,0,0,0,0]
[null,"MOD:Y91",null,"VS:D","BCV:0027",null,null,null,null,null,null,null,null,null,null,null,null,null,null,"YA_9100_0166",null,0,"2.7 Bypass Cv ","Do Not Use",0,0,0,0,0,0,0,{"$f":"ROUNDUP($V355*FX!$G$2*CF!$B$3,0)","v":0},{"$f":"ROUNDUP($V355*FX!$G$10*CF!$B$4,0)","v":0},{"$f":"ROUNDUP($V355*FX!$G$35*CF!$B$5,0)","v":0},{"$f":"ROUNDUP($V355*FX!$G$3*CF!$B$6,0)","v":0},null,null,null,null,null,null,null,null,null,null,null,null,null,null,null,null,null,null,null,null,null,null,null,null,null,null,null,null,null,null,null,0,null,null,0,0,null,0,null,0,0,0,0,0,0,0,0,0,0,0]
[null,"MOD:Y91",null,"VS:C","BCV:0028",null,null,null,null,null,null,null,null,null,null,null,null,null,null,"YA_9100_0167",null,0,"2.8 Bypass Cv","Do Not Use",0,0,0,0,0,0,0,{"$f":"ROUNDUP($V356*FX!$G$2*CF!$B$3,0)","v":0},{"$f":"ROUNDUP($V356*FX!$G$10*CF!$B$4,0)","v":0},{"$f":"ROUNDUP($V356*FX!$G$35*CF!$B$5,0)","v":0},{"$f":"ROUNDUP($V356*FX!$G$3*CF!$B$6,0)","v":0},null,null,null,null,null,null,null,null,null,null,null,null,null,null,null,null,null,null,null,null,null,null,null,null,null,null,null,null,null,null,null,0,null,null,0,0,null,0,null,0,0,0,0,0,0,0,0,0,0,0]
[null,"MOD:Y91",null,"VS:E","BCV:0030",null,null,null,null,null,null,null,null,null,null,null,null,null,null,"YA_9100_0168",null,0,"3.0 Bypass Cv","Do Not Use",0,0,0,0,0,0,0,{"$f":"ROUNDUP($V357*FX!$G$2*CF!$B$3,0)","v":0},{"$f":"ROUNDUP($V357*FX!$G$10*CF!$B$4,0)","v":0},{"$f":"ROUNDUP($V357*FX!$G$35*CF!$B$5,0)","v":0},{"$f":"ROUNDUP($V357*FX!$G$3*CF!$B$6,0)","v":0},null,null,null,null,null,null,null,null,null,null,null,null,null,null,null,null,null,null,null,null,null,null,null,null,null,null,null,null,null,null,null,0,null,null,0,0,null,0,null,0,0,0,0,0,0,0,0,0,0,0]
[null,"MOD:Y91",null,"VS:C","BCV:0031",null,null,null,null,null,null,null,null,null,null,null,null,null,null,"YA_9100_0169",null,0,"3.1 Bypass Cv","Do Not Use",0,0,0,0,0,0,0,{"$f":"ROUNDUP($V358*FX!$G$2*CF!$B$3,0)","v":0},{"$f":"ROUNDUP($V358*FX!$G$10*CF!$B$4,0)","v":0},{"$f":"ROUNDUP($V358*FX!$G$35*CF!$B$5,0)","v":0},{"$f":"ROUNDUP($V358*FX!$G$3*CF!$B$6,0)","v":0},null,null,null,null,null,null,null,null,null,null,null,null,null,null,null,null,null,null,null,null,null,null,null,null,null,null,null,null,null,null,null,0,null,null,0,0,null,0,null,0,0,{"$f":"ROUNDUP(BX358,0)","v":0},0,0,0,0,0,0,0,0]
[null,"MOD:Y91",null,"VS:D","BCV:0032",null,null,null,null,null,null,null,null,null,null,null,null,null,null,"YA_9100_0170",null,0,"3.2 Bypass Cv ","Do Not Use",0,0,0,0,0,0,0,{"$f":"ROUNDUP($V359*FX!$G$2*CF!$B$3,0)","v":0},{"$f":"ROUNDUP($V359*FX!$G$10*CF!$B$4,0)","v":0},{"$f":"ROUNDUP($V359*FX!$G$35*CF!$B$5,0)","v":0},{"$f":"ROUNDUP($V359*FX!$G$3*CF!$B$6,0)","v":0},null,null,null,null,null,null,null,null,null,null,null,null,null,null,null,null,null,null,null,null,null,null,null,null,null,null,null,null,null,null,null,0,null,null,0,0,null,0,null,0,0,0,0,0,0,0,0,0,0,0]
[null,"MOD:Y91",null,"VS:C,D","BCV:0035",null,null,null,null,null,null,null,null,null,null,null,null,null,null,"YA_9100_0171",null,0,"3.5 Bypass Cv ","Do Not Use",0,0,0,0,0,0,0,{"$f":"ROUNDUP($V360*FX!$G$2*CF!$B$3,0)","v":0},{"$f":"ROUNDUP($V360*FX!$G$10*CF!$B$4,0)","v":0},{"$f":"ROUNDUP($V360*FX!$G$35*CF!$B$5,0)","v":0},{"$f":"ROUNDUP($V360*FX!$G$3*CF!$B$6,0)","v":0},null,null,null,null,null,null,null,null,null,null,null,null,null,null,null,null,null,null,null,null,null,null,null,null,null,null,null,null,null,null,null,0,null,null,0,0,null,0,null,0,0,0,0,0,0,0,0,0,0,0]
[null,"MOD:Y91",null,"VS:E","BCV:0037",null,null,null,null,null,null,null,null,null,null,null,null,null,null,"YA_9100_0172",null,0,"3.7 Bypass Cv ","Do Not Use",0,0,0,0,0,0,0,{"$f":"ROUNDUP($V361*FX!$G$2*CF!$B$3,0)","v":0},{"$f":"ROUNDUP($V361*FX!$G$10*CF!$B$4,0)","v":0},{"$f":"ROUNDUP($V361*FX!$G$35*CF!$B$5,0)","v":0},{"$f":"ROUNDUP($V361*FX!$G$3*CF!$B$6,0)","v":0},null,null,null,null,null,null,null,null,null,null,null,null,null,null,null,null,null,null,null,null,null,null,null,null,null,null,null,null,null,null,null,0,null,null,0,0,null,0,null,0,0,0,0,0,0,0,0,0,0,0]
[null,"MOD:Y91",null,"VS:D","BCV:0038",null,null,null,null,null,null,null,null,null,null,null,null,null,null,"YA_9100_0173",null,0,"3.8 Bypass Cv","Do Not Use",0,0,0,0,0,0,0,{"$f":"ROUNDUP($V362*FX!$G$2*CF!$B$3,0)","v":0},{"$f":"ROUNDUP($V362*FX!$G$10*CF!$B$4,0)","v":0},{"$f":"ROUNDUP($V362*FX!$G$35*CF!$B$5,0)","v":0},{"$f":"ROUNDUP($V362*FX!$G$3*CF!$B$6,0)","v":0},null,null,null,null,null,null,null,null,null,null,null,null,null,null,null,null,null,null,null,null,null,null,null,null,null,null,null,null,null,null,null,0,null,null,0,0,null,0,null,0,0,0,0,0,0,0,0,0,0,0]
[null,"MOD:Y91",null,"VS:A,B,C","BCV:0039",null,null,null,null,null,null,null,null,null,null,null,null,null,null,"YA_9100_0174",null,0,"3.9 Bypass Cv ","Do Not Use",0,0,0,0,0,0,0,{"$f":"ROUNDUP($V363*FX!$G$2*CF!$B$3,0)","v":0},{"$f":"ROUNDUP($V363*FX!$G$10*CF!$B$4,0)","v":0},{"$f":"ROUNDUP($V363*FX!$G$35*CF!$B$5,0)","v":0},{"$f":"ROUNDUP($V363*FX!$G$3*CF!$B$6,0)","v":0},null,null,null,null,null,null,null,null,null,null,null,null,null,null,null,null,null,null,null,null,null,null,null,null,null,null,null,null,null,null,null,0,null,null,0,0,null,0,null,0,0,0,0,0,0,0,0,0,0,0]
[null,"MOD:Y91",null,"VS:D","BCV:0041",null,null,null,null,null,null,null,null,null,null,null,null,null,null,"YA_9100_0175",null,0,"4.1 Bypass Cv","Do Not Use",0,0,0,0,0,0,0,{"$f":"ROUNDUP($V364*FX!$G$2*CF!$B$3,0)","v":0},{"$f":"ROUNDUP($V364*FX!$G$10*CF!$B$4,0)","v":0},{"$f":"ROUNDUP($V364*FX!$G$35*CF!$B$5,0)","v":0},{"$f":"ROUNDUP($V364*FX!$G$3*CF!$B$6,0)","v":0},null,null,null,null,null,null,null,null,null,null,null,null,null,null,null,null,null,null,null,null,null,null,null,null,null,null,null,null,null,null,null,0,null,null,0,0,null,0,null,0,0,0,0,0,0,0,0,0,0,0]
[null,"MOD:Y91",null,"VS:C","BCV:0042",null,null,null,null,null,null,null,null,null,null,null,null,null,null,"YA_9100_0176",null,0,"4.2 Bypass Cv","Do Not Use",0,0,0,0,0,0,0,{"$f":"ROUNDUP($V365*FX!$G$2*CF!$B$3,0)","v":0},{"$f":"ROUNDUP($V365*FX!$G$10*CF!$B$4,0)","v":0},{"$f":"ROUNDUP($V365*FX!$G$35*CF!$B$5,0)","v":0},{"$f":"ROUNDUP($V365*FX!$G$3*CF!$B$6,0)","v":0},null,null,null,null,null,null,null,null,null,null,null,null,null,null,null,null,null,null,null,null,null,null,null,null,null,null,null,null,null,null,null,0,null,null,0,0,null,0,null,0,0,0,0,0,0,0,0,0,0,0]
[null,"MOD:Y91",null,"VS:C,D,E","BCV:0046",null,null,null,null,null,null,null,null,null,null,null,null,null,null,"YA_9100_0177",null,0,"4.6 Bypass Cv ","Do Not Use",0,0,0,0,0,0,0,{"$f":"ROUNDUP($V366*FX!$G$2*CF!$B$3,0)","v":0},{"$f":"ROUNDUP($V366*FX!$G$10*CF!$B$4,0)","v":0},{"$f":"ROUNDUP($V366*FX!$G$35*CF!$B$5,0)","v":0},{"$f":"ROUNDUP($V366*FX!$G$3*CF!$B$6,0)","v":0},null,null,null,null,null,null,null,null,null,null,null,null,null,null,null,null,null,null,null,null,null,null,null,null,null,null,null,null,null,null,null,0,null,null,0,0,null,0,null,0,0,0,0,0,0,0,0,0,0,0]
[null,"MOD:Y91",null,"VS:C,D","BCV:0051",null,null,null,null,null,null,null,null,null,null,null,null,null,null,"YA_9100_0178",null,0,"5.1 Bypass Cv","Do Not Use",0,0,0,0,0,0,0,{"$f":"ROUNDUP($V367*FX!$G$2*CF!$B$3,0)","v":0},{"$f":"ROUNDUP($V367*FX!$G$10*CF!$B$4,0)","v":0},{"$f":"ROUNDUP($V367*FX!$G$35*CF!$B$5,0)","v":0},{"$f":"ROUNDUP($V367*FX!$G$3*CF!$B$6,0)","v":0},null,null,null,null,null,null,null,null,null,null,null,null,null,null,null,null,null,null,null,null,null,null,null,null,null,null,null,null,null,null,null,0,null,null,0,0,null,0,null,0,0,0,0,0,0,0,0,0,0,0]
[null,"MOD:Y91",null,"VS:E","BCV:0053",null,null,null,null,null,null,null,null,null,null,null,null,null,null,"YA_9100_0179",null,0,"5.3 Bypass Cv ","Do Not Use",0,0,0,0,0,0,0,{"$f":"ROUNDUP($V368*FX!$G$2*CF!$B$3,0)","v":0},{"$f":"ROUNDUP($V368*FX!$G$10*CF!$B$4,0)","v":0},{"$f":"ROUNDUP($V368*FX!$G$35*CF!$B$5,0)","v":0},{"$f":"ROUNDUP($V368*FX!$G$3*CF!$B$6,0)","v":0},null,null,null,null,null,null,null,null,null,null,null,null,null,null,null,null,null,null,null,null,null,null,null,null,null,null,null,null,null,null,null,0,null,null,0,0,null,0,null,0,0,0,0,0,0,0,0,0,0,0]
[null,"MOD:Y91",null,"VS:D","BCV:0054",null,null,null,null,null,null,null,null,null,null,null,null,null,null,"YA_9100_0180",null,0,"5.4 Bypass Cv","Do Not Use",0,0,0,0,0,0,0,{"$f":"ROUNDUP($V369*FX!$G$2*CF!$B$3,0)","v":0},{"$f":"ROUNDUP($V369*FX!$G$10*CF!$B$4,0)","v":0},{"$f":"ROUNDUP($V369*FX!$G$35*CF!$B$5,0)","v":0},{"$f":"ROUNDUP($V369*FX!$G$3*CF!$B$6,0)","v":0},null,null,null,null,null,null,null,null,null,null,null,null,null,null,null,null,null,null,null,null,null,null,null,null,null,null,null,null,null,null,null,0,null,null,0,0,null,0,null,0,0,0,0,0,0,0,0,0,0,0]
[null,"MOD:Y91",null,"VS:C","BCV:0055",null,null,null,null,null,null,null,null,null,null,null,null,null,null,"YA_9100_0181",null,0,"5.5 Bypass Cv","Do Not Use",0,0,0,0,0,0,0,{"$f":"ROUNDUP($V370*FX!$G$2*CF!$B$3,0)","v":0},{"$f":"ROUNDUP($V370*FX!$G$10*CF!$B$4,0)","v":0},{"$f":"ROUNDUP($V370*FX!$G$35*CF!$B$5,0)","v":0},{"$f":"ROUNDUP($V370*FX!$G$3*CF!$B$6,0)","v":0},null,null,null,null,null,null,null,null,null,null,null,null,null,null,null,null,null,null,null,null,null,null,null,null,null,null,null,null,null,null,null,0,null,null,0,0,null,0,null,0,0,0,0,0,0,0,0,0,0,0]
[null,"MOD:Y91",null,"VS:D,F","BCV:0058",null,null,null,null,null,null,null,null,null,null,null,null,null,null,"YA_9100_0182",null,0,"5.8 Bypass Cv ","Do Not Use",0,0,0,0,0,0,0,{"$f":"ROUNDUP($V371*FX!$G$2*CF!$B$3,0)","v":0},{"$f":"ROUNDUP($V371*FX!$G$10*CF!$B$4,0)","v":0},{"$f":"ROUNDUP($V371*FX!$G$35*CF!$B$5,0)","v":0},{"$f":"ROUNDUP($V371*FX!$G$3*CF!$B$6,0)","v":0},null,null,null,null,null,null,null,null,null,null,null,null,null,null,null,null,null,null,null,null,null,null,null,null,null,null,null,null,null,null,null,0,null,null,0,0,null,0,null,0,0,0,0,0,0,0,0,0,0,0]
[null,"MOD:Y91",null,"VS:C,E","BCV:0059",null,null,null,null,null,null,null,null,null,null,null,null,null,null,"YA_9100_0183",null,0,"5.9 Bypass Cv","Do Not Use",0,0,0,0,0,0,0,{"$f":"ROUNDUP($V372*FX!$G$2*CF!$B$3,0)","v":0},{"$f":"ROUNDUP($V372*FX!$G$10*CF!$B$4,0)","v":0},{"$f":"ROUNDUP($V372*FX!$G$35*CF!$B$5,0)","v":0},{"$f":"ROUNDUP($V372*FX!$G$3*CF!$B$6,0)","v":0},null,null,null,null,null,null,null,null,null,null,null,null,null,null,null,null,null,null,null,null,null,null,null,null,null,null,null,null,null,null,null,0,null,null,0,0,null,0,null,0,0,0,0,0,0,0,0,0,0,0]
[null,"MOD:Y91",null,"VS:D","BCV:0062",null,null,null,null,null,null,null,null,null,null,null,null,null,null,"YA_9100_0184",null,0,"6.2 Bypass Cv","Do Not Use",0,0,0,0,0,0,0,{"$f":"ROUNDUP($V373*FX!$G$2*CF!$B$3,0)","v":0},{"$f":"ROUNDUP($V373*FX!$G$10*CF!$B$4,0)","v":0},{"$f":"ROUNDUP($V373*FX!$G$35*CF!$B$5,0)","v":0},{"$f":"ROUNDUP($V373*FX!$G$3*CF!$B$6,0)","v":0},null,null,null,null,null,null,null,null,null,null,null,null,null,null,null,null,null,null,null,null,null,null,null,null,null,null,null,null,null,null,null,0,null,null,0,0,null,0,null,0,0,0,0,0,0,0,0,0,0,0]
[null,"MOD:Y91",null,"VS:C","BCV:0063",null,null,null,null,null,null,null,null,null,null,null,null,null,null,"YA_9100_0185",null,0,"6.3 Bypass Cv","Do Not Use",0,0,0,0,0,0,0,{"$f":"ROUNDUP($V374*FX!$G$2*CF!$B$3,0)","v":0},{"$f":"ROUNDUP($V374*FX!$G$10*CF!$B$4,0)","v":0},{"$f":"ROUNDUP($V374*FX!$G$35*CF!$B$5,0)","v":0},{"$f":"ROUNDUP($V374*FX!$G$3*CF!$B$6,0)","v":0},null,null,null,null,null,null,null,null,null,null,null,null,null,null,null,null,null,null,null,null,null,null,null,null,null,null,null,null,null,null,null,0,null,null,0,0,null,0,null,0,0,0,0,0,0,0,0,0,0,0]
[null,"MOD:Y91",null,"VS:E","BCV:0066",null,null,null,null,null,null,null,null,null,null,null,null,null,null,"YA_9100_0186",null,0,"6.6 Bypass Cv","Do Not Use",0,0,0,0,0,0,0,{"$f":"ROUNDUP($V375*FX!$G$2*CF!$B$3,0)","v":0},{"$f":"ROUNDUP($V375*FX!$G$10*CF!$B$4,0)","v":0},{"$f":"ROUNDUP($V375*FX!$G$35*CF!$B$5,0)","v":0},{"$f":"ROUNDUP($V375*FX!$G$3*CF!$B$6,0)","v":0},null,null,null,null,null,null,null,null,null,null,null,null,null,null,null,null,null,null,null,null,null,null,null,null,null,null,null,null,null,null,null,0,null,null,0,0,null,0,null,0,0,0,0,0,0,0,0,0,0,0]
[null,"MOD:Y91",null,"VS:D","BCV:0067",null,null,null,null,null,null,null,null,null,null,null,null,null,null,"YA_9100_0187",null,0,"6.7 Bypass Cv","Do Not Use",0,0,0,0,0,0,0,{"$f":"ROUNDUP($V376*FX!$G$2*CF!$B$3,0)","v":0},{"$f":"ROUNDUP($V376*FX!$G$10*CF!$B$4,0)","v":0},{"$f":"ROUNDUP($V376*FX!$G$35*CF!$B$5,0)","v":0},{"$f":"ROUNDUP($V376*FX!$G$3*CF!$B$6,0)","v":0},null,null,null,null,null,null,null,null,null,null,null,null,null,null,null,null,null,null,null,null,null,null,null,null,null,null,null,null,null,null,null,0,null,null,0,0,null,0,null,0,0,0,0,0,0,0,0,0,0,0]
[null,"MOD:Y91",null,"VS:D","BCV:0071",null,null,null,null,null,null,null,null,null,null,null,null,null,null,"YA_9100_0188",null,0,"7.1 Bypass Cv","Do Not Use",0,0,0,0,0,0,0,{"$f":"ROUNDUP($V377*FX!$G$2*CF!$B$3,0)","v":0},{"$f":"ROUNDUP($V377*FX!$G$10*CF!$B$4,0)","v":0},{"$f":"ROUNDUP($V377*FX!$G$35*CF!$B$5,0)","v":0},{"$f":"ROUNDUP($V377*FX!$G$3*CF!$B$6,0)","v":0},null,null,null,null,null,null,null,null,null,null,null,null,null,null,null,null,null,null,null,null,null,null,null,null,null,null,null,null,null,null,null,0,null,null,0,0,null,0,null,0,0,0,0,0,0,0,0,0,0,0]
[null,"MOD:Y91",null,"VS:D","BCV:0075",null,null,null,null,null,null,null,null,null,null,null,null,null,null,"YA_9100_0189",null,0,"7.5 Bypass Cv","Do Not Use",0,0,0,0,0,0,0,{"$f":"ROUNDUP($V378*FX!$G$2*CF!$B$3,0)","v":0},{"$f":"ROUNDUP($V378*FX!$G$10*CF!$B$4,0)","v":0},{"$f":"ROUNDUP($V378*FX!$G$35*CF!$B$5,0)","v":0},{"$f":"ROUNDUP($V378*FX!$G$3*CF!$B$6,0)","v":0},null,null,null,null,null,null,null,null,null,null,null,null,null,null,null,null,null,null,null,null,null,null,null,null,null,null,null,null,null,null,null,0,null,null,0,0,null,0,null,0,0,0,0,0,0,0,0,0,0,0]
[null,"MOD:Y91",null,"VS:E","BCV:0076",null,null,null,null,null,null,null,null,null,null,null,null,null,null,"YA_9100_0190",null,0,"7.6 Bypass Cv","Do Not Use",0,0,0,0,0,0,0,{"$f":"ROUNDUP($V379*FX!$G$2*CF!$B$3,0)","v":0},{"$f":"ROUNDUP($V379*FX!$G$10*CF!$B$4,0)","v":0},{"$f":"ROUNDUP($V379*FX!$G$35*CF!$B$5,0)","v":0},{"$f":"ROUNDUP($V379*FX!$G$3*CF!$B$6,0)","v":0},null,null,null,null,null,null,null,null,null,null,null,null,null,null,null,null,null,null,null,null,null,null,null,null,null,null,null,null,null,null,null,0,null,null,0,0,null,0,null,0,0,0,0,0,0,0,0,0,0,0]
[null,"MOD:Y91",null,"VS:F","BCV:0078",null,null,null,null,null,null,null,null,null,null,null,null,null,null,"YA_9100_0191",null,0,"7.8 Bypass Cv ","Do Not Use",0,0,0,0,0,0,0,{"$f":"ROUNDUP($V380*FX!$G$2*CF!$B$3,0)","v":0},{"$f":"ROUNDUP($V380*FX!$G$10*CF!$B$4,0)","v":0},{"$f":"ROUNDUP($V380*FX!$G$35*CF!$B$5,0)","v":0},{"$f":"ROUNDUP($V380*FX!$G$3*CF!$B$6,0)","v":0},null,null,null,null,null,null,null,null,null,null,null,null,null,null,null,null,null,null,null,null,null,null,null,null,null,null,null,null,null,null,null,0,null,null,0,0,null,0,null,0,0,0,0,0,0,0,0,0,0,0]
[null,"MOD:Y91",null,"VS:D","BCV:0080",null,null,null,null,null,null,null,null,null,null,null,null,null,null,"YA_9100_0192",null,0,"8.0 Bypass Cv","Do Not Use",0,0,0,0,0,0,0,{"$f":"ROUNDUP($V381*FX!$G$2*CF!$B$3,0)","v":0},{"$f":"ROUNDUP($V381*FX!$G$10*CF!$B$4,0)","v":0},{"$f":"ROUNDUP($V381*FX!$G$35*CF!$B$5,0)","v":0},{"$f":"ROUNDUP($V381*FX!$G$3*CF!$B$6,0)","v":0},null,null,null,null,null,null,null,null,null,null,null,null,null,null,null,null,null,null,null,null,null,null,null,null,null,null,null,null,null,null,null,0,null,null,0,0,null,0,null,0,0,0,0,0,0,0,0,0,0,0]
[null,"MOD:Y91",null,"VS:D,E","BCV:0085",null,null,null,null,null,null,null,null,null,null,null,null,null,null,"YA_9100_0193",null,0,"8.5 Bypass Cv","Do Not Use",0,0,0,0,0,0,0,{"$f":"ROUNDUP($V382*FX!$G$2*CF!$B$3,0)","v":0},{"$f":"ROUNDUP($V382*FX!$G$10*CF!$B$4,0)","v":0},{"$f":"ROUNDUP($V382*FX!$G$35*CF!$B$5,0)","v":0},{"$f":"ROUNDUP($V382*FX!$G$3*CF!$B$6,0)","v":0},null,null,null,null,null,null,null,null,null,null,null,null,null,null,null,null,null,null,null,null,null,null,null,null,null,null,null,null,null,null,null,0,null,null,0,0,null,0,null,0,0,0,0,0,0,0,0,0,0,0]
[null,"MOD:Y91",null,"VS:D","BCV:0090",null,null,null,null,null,null,null,null,null,null,null,null,null,null,"YA_9100_0194",null,0,"9.0 Bypass Cv","Do Not Use",0,0,0,0,0,0,0,{"$f":"ROUNDUP($V383*FX!$G$2*CF!$B$3,0)","v":0},{"$f":"ROUNDUP($V383*FX!$G$10*CF!$B$4,0)","v":0},{"$f":"ROUNDUP($V383*FX!$G$35*CF!$B$5,0)","v":0},{"$f":"ROUNDUP($V383*FX!$G$3*CF!$B$6,0)","v":0},null,null,null,null,null,null,null,null,null,null,null,null,null,null,null,null,null,null,null,null,null,null,null,null,null,null,null,null,null,null,null,0,null,null,0,0,null,0,null,0,0,0,0,0,0,0,0,0,0,0]
[null,"MOD:Y91",null,"VS:E","BCV:0093",null,null,null,null,null,null,null,null,null,null,null,null,null,null,"YA_9100_0195",null,0,"9.3 Bypass Cv","Do Not Use",0,0,0,0,0,0,0,{"$f":"ROUNDUP($V384*FX!$G$2*CF!$B$3,0)","v":0},{"$f":"ROUNDUP($V384*FX!$G$10*CF!$B$4,0)","v":0},{"$f":"ROUNDUP($V384*FX!$G$35*CF!$B$5,0)","v":0},{"$f":"ROUNDUP($V384*FX!$G$3*CF!$B$6,0)","v":0},null,null,null,null,null,null,null,null,null,null,null,null,null,null,null,null,null,null,null,null,null,null,null,null,null,null,null,null,null,null,null,0,null,null,0,0,null,0,null,0,0,0,0,0,0,0,0,0,0,0]
[null,"MOD:Y91",null,"VS:D","BCV:0095",null,null,null,null,null,null,null,null,null,null,null,null,null,null,"YA_9100_0196",null,0,"9.5 Bypass Cv","Do Not Use",0,0,0,0,0,0,0,{"$f":"ROUNDUP($V385*FX!$G$2*CF!$B$3,0)","v":0},{"$f":"ROUNDUP($V385*FX!$G$10*CF!$B$4,0)","v":0},{"$f":"ROUNDUP($V385*FX!$G$35*CF!$B$5,0)","v":0},{"$f":"ROUNDUP($V385*FX!$G$3*CF!$B$6,0)","v":0},null,null,null,null,null,null,null,null,null,null,null,null,null,null,null,null,null,null,null,null,null,null,null,null,null,null,null,null,null,null,null,0,null,null,0,0,null,0,null,0,0,0,0,0,0,0,0,0,0,0]
[null,"MOD:Y91",null,"VS:F","BCV:0098",null,null,null,null,null,null,null,null,null,null,null,null,null,null,"YA_9100_0197",null,{"$f":"AE386","v":0},"9.8 Bypass Cv","Do Not Use",0,0,0,0,0,0,0,{"$f":"ROUNDUP($V386*FX!$G$2*CF!$B$3,0)","v":0},{"$f":"ROUNDUP($V386*FX!$G$10*CF!$B$4,0)","v":0},{"$f":"ROUNDUP($V386*FX!$G$35*CF!$B$5,0)","v":0},{"$f":"ROUNDUP($V386*FX!$G$3*CF!$B$6,0)","v":0},null,null,null,null,null,null,null,null,null,null,null,null,null,null,null,null,null,null,null,null,null,null,null,null,null,null,null,null,null,null,null,0,null,null,0,0,null,0,null,0,0,0,0,0,0,0,0,0,{"$f":"IF(CE386=\"POA\",\"POA\", ROUNDUP(CE386*1.06,0))","v":0},0]
[null,"MOD:Y91",null,"VS:E","BCV:0099",null,null,null,null,null,null,null,null,null,null,null,null,null,null,"YA_9100_0198",null,0,"9.9 Bypass Cv","Do Not Use",{"$f":"IFERROR(Z387*1.02,\"POA\")","v":0},0,0,0,0,0,{"$f":"CG387","v":0},{"$f":"ROUNDUP($V387*FX!$G$2*CF!$B$3,0)","v":0},{"$f":"ROUNDUP($V387*FX!$G$10*CF!$B$4,0)","v":0},{"$f":"ROUNDUP($V387*FX!$G$35*CF!$B$5,0)","v":0},{"$f":"ROUNDUP($V387*FX!$G$3*CF!$B$6,0)","v":0},null,null,null,null,null,null,null,null,null,null,null,null,null,null,null,null,null,null,null,null,null,null,null,null,null,null,null,null,null,null,null,{"$f":"ROUNDUP(($AE387+($AE387*$BO$1)),0)","v":0},null,null,0,0,null,{"$f":"ROUNDUP(BT387,0)","v":0},null,0,0,0,0,0,{"$f":"ROUNDUP(CA387,0)","v":0},{"$f":"CB387+(CB387*$CC$1)","v":0},0,0,0,{"$f":"IF(CF387=\"POA\",\"POA\", ROUNDUP(CF387*1.043,0))","v":0}]
[null,"MOD:Y91",null,"VS:D","BCV:0100",null,null,null,null,null,null,null,null,null,null,null,null,null,null,"YA_9100_0199",null,0,"10.0 Bypass Cv","Do Not Use",0,0,0,0,0,0,0,{"$f":"ROUNDUP($V388*FX!$G$2*CF!$B$3,0)","v":0},{"$f":"ROUNDUP($V388*FX!$G$10*CF!$B$4,0)","v":0},{"$f":"ROUNDUP($V388*FX!$G$35*CF!$B$5,0)","v":0},{"$f":"ROUNDUP($V388*FX!$G$3*CF!$B$6,0)","v":0},null,null,null,null,null,null,null,null,null,null,null,null,null,null,null,null,null,null,null,null,null,null,null,null,null,null,null,null,null,null,null,0,null,null,0,0,null,0,null,0,0,0,0,0,0,0,0,0,0,0]
[null,"MOD:Y91",null,"VS:F","BCV:0101",null,null,null,null,null,null,null,null,null,null,null,null,null,null,"YA_9100_0200",null,0,"10.1 Bypass Cv","Do Not Use",0,0,0,0,0,0,0,{"$f":"ROUNDUP($V389*FX!$G$2*CF!$B$3,0)","v":0},{"$f":"ROUNDUP($V389*FX!$G$10*CF!$B$4,0)","v":0},{"$f":"ROUNDUP($V389*FX!$G$35*CF!$B$5,0)","v":0},{"$f":"ROUNDUP($V389*FX!$G$3*CF!$B$6,0)","v":0},null,null,null,null,null,null,null,null,null,null,null,null,null,null,null,null,null,null,null,null,null,null,null,null,null,null,null,null,null,null,null,0,null,null,0,0,null,0,null,0,0,0,0,0,0,0,0,0,0,0]
[null,"MOD:Y91",null,"VS:E","BCV:0107",null,null,null,null,null,null,null,null,null,null,null,null,null,null,"YA_9100_0201",null,0,"10.7 Bypass Cv","Do Not Use",0,0,0,0,0,0,0,{"$f":"ROUNDUP($V390*FX!$G$2*CF!$B$3,0)","v":0},{"$f":"ROUNDUP($V390*FX!$G$10*CF!$B$4,0)","v":0},{"$f":"ROUNDUP($V390*FX!$G$35*CF!$B$5,0)","v":0},{"$f":"ROUNDUP($V390*FX!$G$3*CF!$B$6,0)","v":0},null,null,null,null,null,null,null,null,null,null,null,null,null,null,null,null,null,null,null,null,null,null,null,null,null,null,null,null,null,null,null,0,null,null,0,0,null,0,null,0,0,0,0,0,0,0,0,0,0,0]
[null,"MOD:Y91",null,"VS:D","BCV:0110",null,null,null,null,null,null,null,null,null,null,null,null,null,null,"YA_9100_0202",null,0,"11.0 Bypass Cv","Do Not Use",0,0,0,0,0,0,0,{"$f":"ROUNDUP($V391*FX!$G$2*CF!$B$3,0)","v":0},{"$f":"ROUNDUP($V391*FX!$G$10*CF!$B$4,0)","v":0},{"$f":"ROUNDUP($V391*FX!$G$35*CF!$B$5,0)","v":0},{"$f":"ROUNDUP($V391*FX!$G$3*CF!$B$6,0)","v":0},null,null,null,null,null,null,null,null,null,null,null,null,null,null,null,null,null,null,null,null,null,null,null,null,null,null,null,null,null,null,null,0,null,null,0,0,null,0,null,0,0,0,0,0,0,0,0,0,0,0]
[null,"MOD:Y91",null,"VS:D","BCV:0120",null,null,null,null,null,null,null,null,null,null,null,null,null,null,"YA_9100_0203",null,0,"12.0 Bypass Cv","Do Not Use",0,0,0,0,0,0,0,{"$f":"ROUNDUP($V392*FX!$G$2*CF!$B$3,0)","v":0},{"$f":"ROUNDUP($V392*FX!$G$10*CF!$B$4,0)","v":0},{"$f":"ROUNDUP($V392*FX!$G$35*CF!$B$5,0)","v":0},{"$f":"ROUNDUP($V392*FX!$G$3*CF!$B$6,0)","v":0},null,null,null,null,null,null,null,null,null,null,null,null,null,null,null,null,null,null,null,null,null,null,null,null,null,null,null,null,null,null,null,0,null,null,0,0,null,0,null,0,0,0,0,0,0,0,0,0,0,0]
[null,"MOD:Y91",null,"VS:F","BCV:0125",null,null,null,null,null,null,null,null,null,null,null,null,null,null,"YA_9100_0204",null,0,"12.5 Bypass Cv","Do Not Use",0,0,0,0,0,0,0,{"$f":"ROUNDUP($V393*FX!$G$2*CF!$B$3,0)","v":0},{"$f":"ROUNDUP($V393*FX!$G$10*CF!$B$4,0)","v":0},{"$f":"ROUNDUP($V393*FX!$G$35*CF!$B$5,0)","v":0},{"$f":"ROUNDUP($V393*FX!$G$3*CF!$B$6,0)","v":0},null,null,null,null,null,null,null,null,null,null,null,null,null,null,null,null,null,null,null,null,null,null,null,null,null,null,null,null,null,null,null,0,null,null,0,0,null,0,null,0,0,0,0,0,0,0,0,0,0,0]
[null,"MOD:Y91",null,"VS:E","BCV:0127",null,null,null,null,null,null,null,null,null,null,null,null,null,null,"YA_9100_0205",null,0,"12.7 Bypass Cv","Do Not Use",0,0,0,0,0,0,0,{"$f":"ROUNDUP($V394*FX!$G$2*CF!$B$3,0)","v":0},{"$f":"ROUNDUP($V394*FX!$G$10*CF!$B$4,0)","v":0},{"$f":"ROUNDUP($V394*FX!$G$35*CF!$B$5,0)","v":0},{"$f":"ROUNDUP($V394*FX!$G$3*CF!$B$6,0)","v":0},null,null,null,null,null,null,null,null,null,null,null,null,null,null,null,null,null,null,null,null,null,null,null,null,null,null,null,null,null,null,null,0,null,null,0,0,null,0,null,0,0,0,0,0,0,0,0,0,0,0]
[null,"MOD:Y91",null,"VS:D","BCV:0130",null,null,null,null,null,null,null,null,null,null,null,null,null,null,"YA_9100_0206",null,0,"13.0 Bypass Cv","Do Not Use",0,0,0,0,0,0,0,{"$f":"ROUNDUP($V395*FX!$G$2*CF!$B$3,0)","v":0},{"$f":"ROUNDUP($V395*FX!$G$10*CF!$B$4,0)","v":0},{"$f":"ROUNDUP($V395*FX!$G$35*CF!$B$5,0)","v":0},{"$f":"ROUNDUP($V395*FX!$G$3*CF!$B$6,0)","v":0},null,null,null,null,null,null,null,null,null,null,null,null,null,null,null,null,null,null,null,null,null,null,null,null,null,null,null,null,null,null,null,0,null,null,0,0,null,0,null,0,0,0,0,0,0,0,0,0,0,0]
[null,"MOD:Y91",null,"VS:D","BCV:0140",null,null,null,null,null,null,null,null,null,null,null,null,null,null,"YA_9100_0207",null,0,"14.0 Bypass Cv","Do Not Use",0,0,0,0,0,0,0,{"$f":"ROUNDUP($V396*FX!$G$2*CF!$B$3,0)","v":0},{"$f":"ROUNDUP($V396*FX!$G$10*CF!$B$4,0)","v":0},{"$f":"ROUNDUP($V396*FX!$G$35*CF!$B$5,0)","v":0},{"$f":"ROUNDUP($V396*FX!$G$3*CF!$B$6,0)","v":0},null,null,null,null,null,null,null,null,null,null,null,null,null,null,null,null,null,null,null,null,null,null,null,null,null,null,null,null,null,null,null,0,null,null,0,0,null,0,null,0,0,0,0,0,0,0,0,0,0,0]
[null,"MOD:Y91",null,"VS:F","BCV:0145",null,null,null,null,null,null,null,null,null,null,null,null,null,null,"YA_9100_0208",null,0,"14.5 Bypass Cv","Do Not Use",0,0,0,0,0,0,0,{"$f":"ROUNDUP($V397*FX!$G$2*CF!$B$3,0)","v":0},{"$f":"ROUNDUP($V397*FX!$G$10*CF!$B$4,0)","v":0},{"$f":"ROUNDUP($V397*FX!$G$35*CF!$B$5,0)","v":0},{"$f":"ROUNDUP($V397*FX!$G$3*CF!$B$6,0)","v":0},null,null,null,null,null,null,null,null,null,null,null,null,null,null,null,null,null,null,null,null,null,null,null,null,null,null,null,null,null,null,null,0,null,null,0,0,null,0,null,0,0,0,0,0,0,0,0,0,0,0]
[null,"MOD:Y91",null,"VS:E","BCV:0147",null,null,null,null,null,null,null,null,null,null,null,null,null,null,"YA_9100_0209",null,0,"14.7 Bypass Cv","Do Not Use",0,0,0,0,0,0,0,{"$f":"ROUNDUP($V398*FX!$G$2*CF!$B$3,0)","v":0},{"$f":"ROUNDUP($V398*FX!$G$10*CF!$B$4,0)","v":0},{"$f":"ROUNDUP($V398*FX!$G$35*CF!$B$5,0)","v":0},{"$f":"ROUNDUP($V398*FX!$G$3*CF!$B$6,0)","v":0},null,null,null,null,null,null,null,null,null,null,null,null,null,null,null,null,null,null,null,null,null,null,null,null,null,null,null,null,null,null,null,0,null,null,0,0,null,0,null,0,0,0,0,0,0,0,0,0,0,0]
[null,"MOD:Y91",null,"VS:D","BCV:0151",null,null,null,null,null,null,null,null,null,null,null,null,null,null,"YA_9100_0210",null,0,"15.1 Bypass Cv","Do Not Use",0,0,0,0,0,0,0,{"$f":"ROUNDUP($V399*FX!$G$2*CF!$B$3,0)","v":0},{"$f":"ROUNDUP($V399*FX!$G$10*CF!$B$4,0)","v":0},{"$f":"ROUNDUP($V399*FX!$G$35*CF!$B$5,0)","v":0},{"$f":"ROUNDUP($V399*FX!$G$3*CF!$B$6,0)","v":0},null,null,null,null,null,null,null,null,null,null,null,null,null,null,null,null,null,null,null,null,null,null,null,null,null,null,null,null,null,null,null,0,null,null,0,0,null,0,null,0,0,0,0,0,0,0,0,0,0,0]
[null,"MOD:Y91",null,"VS:F","BCV:0165",null,null,null,null,null,null,null,null,null,null,null,null,null,null,"YA_9100_0211",null,0,"16.5 Bypass Cv","Do Not Use",0,0,0,0,0,0,0,{"$f":"ROUNDUP($V400*FX!$G$2*CF!$B$3,0)","v":0},{"$f":"ROUNDUP($V400*FX!$G$10*CF!$B$4,0)","v":0},{"$f":"ROUNDUP($V400*FX!$G$35*CF!$B$5,0)","v":0},{"$f":"ROUNDUP($V400*FX!$G$3*CF!$B$6,0)","v":0},null,null,null,null,null,null,null,null,null,null,null,null,null,null,null,null,null,null,null,null,null,null,null,null,null,null,null,null,null,null,null,0,null,null,0,0,null,0,null,0,0,0,0,0,0,0,0,0,0,0]
[null,"MOD:Y91",null,"VS:E","BCV:0167",null,null,null,null,null,null,null,null,null,null,null,null,null,null,"YA_9100_0212",null,0,"16.7 Bypass Cv","Do Not Use",0,0,0,0,0,0,0,{"$f":"ROUNDUP($V401*FX!$G$2*CF!$B$3,0)","v":0},{"$f":"ROUNDUP($V401*FX!$G$10*CF!$B$4,0)","v":0},{"$f":"ROUNDUP($V401*FX!$G$35*CF!$B$5,0)","v":0},{"$f":"ROUNDUP($V401*FX!$G$3*CF!$B$6,0)","v":0},null,null,null,null,null,null,null,null,null,null,null,null,null,null,null,null,null,null,null,null,null,null,null,null,null,null,null,null,null,null,null,0,null,null,0,0,null,0,null,0,0,0,0,0,0,0,0,0,0,0]
[null,"MOD:Y91",null,"VS:G","BCV:0180",null,null,null,null,null,null,null,null,null,null,null,null,null,null,"YA_9100_0213",null,0,"18.0 Bypass Cv","Do Not Use",0,0,0,0,0,0,0,{"$f":"ROUNDUP($V402*FX!$G$2*CF!$B$3,0)","v":0},{"$f":"ROUNDUP($V402*FX!$G$10*CF!$B$4,0)","v":0},{"$f":"ROUNDUP($V402*FX!$G$35*CF!$B$5,0)","v":0},{"$f":"ROUNDUP($V402*FX!$G$3*CF!$B$6,0)","v":0},null,null,null,null,null,null,null,null,null,null,null,null,null,null,null,null,null,null,null,null,null,null,null,null,null,null,null,null,null,null,null,0,null,null,0,0,null,0,null,0,0,0,0,0,0,0,0,0,0,0]
[null,"MOD:Y91",null,"VS:F","BCV:0185",null,null,null,null,null,null,null,null,null,null,null,null,null,null,"YA_9100_0214",null,0,"18.5 Bypass Cv","Do Not Use",0,0,0,0,0,0,0,{"$f":"ROUNDUP($V403*FX!$G$2*CF!$B$3,0)","v":0},{"$f":"ROUNDUP($V403*FX!$G$10*CF!$B$4,0)","v":0},{"$f":"ROUNDUP($V403*FX!$G$35*CF!$B$5,0)","v":0},{"$f":"ROUNDUP($V403*FX!$G$3*CF!$B$6,0)","v":0},null,null,null,null,null,null,null,null,null,null,null,null,null,null,null,null,null,null,null,null,null,null,null,null,null,null,null,null,null,null,null,0,null,null,0,0,null,0,null,0,0,0,0,0,0,0,0,0,0,0]
[null,"MOD:Y91",null,"VS:E","BCV:0187",null,null,null,null,null,null,null,null,null,null,null,null,null,null,"YA_9100_0215",null,0,"18.7 Bypass Cv","Do Not Use",0,0,0,0,0,0,0,{"$f":"ROUNDUP($V404*FX!$G$2*CF!$B$3,0)","v":0},{"$f":"ROUNDUP($V404*FX!$G$10*CF!$B$4,0)","v":0},{"$f":"ROUNDUP($V404*FX!$G$35*CF!$B$5,0)","v":0},{"$f":"ROUNDUP($V404*FX!$G$3*CF!$B$6,0)","v":0},null,null,null,null,null,null,null,null,null,null,null,null,null,null,null,null,null,null,null,null,null,null,null,null,null,null,null,null,null,null,null,0,null,null,0,0,null,0,null,0,0,0,0,0,0,0,0,0,0,0]
[null,"MOD:Y91",null,"VS:G","BCV:0200",null,null,null,null,null,null,null,null,null,null,null,null,null,null,"YA_9100_0216",null,0,"20.0 Bypass Cv","Do Not Use",0,0,0,0,0,0,0,{"$f":"ROUNDUP($V405*FX!$G$2*CF!$B$3,0)","v":0},{"$f":"ROUNDUP($V405*FX!$G$10*CF!$B$4,0)","v":0},{"$f":"ROUNDUP($V405*FX!$G$35*CF!$B$5,0)","v":0},{"$f":"ROUNDUP($V405*FX!$G$3*CF!$B$6,0)","v":0},null,null,null,null,null,null,null,null,null,null,null,null,null,null,null,null,null,null,null,null,null,null,null,null,null,null,null,null,null,null,null,0,null,null,0,0,null,0,null,0,0,0,0,0,0,0,0,0,0,0]
[null,"MOD:Y91",null,"VS:F","BCV:0205",null,null,null,null,null,null,null,null,null,null,null,null,null,null,"YA_9100_0217",null,0,"20.5 Bypass Cv","Do Not Use",0,0,0,0,0,0,0,{"$f":"ROUNDUP($V406*FX!$G$2*CF!$B$3,0)","v":0},{"$f":"ROUNDUP($V406*FX!$G$10*CF!$B$4,0)","v":0},{"$f":"ROUNDUP($V406*FX!$G$35*CF!$B$5,0)","v":0},{"$f":"ROUNDUP($V406*FX!$G$3*CF!$B$6,0)","v":0},null,null,null,null,null,null,null,null,null,null,null,null,null,null,null,null,null,null,null,null,null,null,null,null,null,null,null,null,null,null,null,0,null,null,0,0,null,0,null,0,0,0,0,0,0,0,0,0,0,0]
[null,"MOD:Y91",null,"VS:E","BCV:0207",null,null,null,null,null,null,null,null,null,null,null,null,null,null,"YA_9100_0218",null,0,"20.7 Bypass Cv","Do Not Use",0,0,0,0,0,0,0,{"$f":"ROUNDUP($V407*FX!$G$2*CF!$B$3,0)","v":0},{"$f":"ROUNDUP($V407*FX!$G$10*CF!$B$4,0)","v":0},{"$f":"ROUNDUP($V407*FX!$G$35*CF!$B$5,0)","v":0},{"$f":"ROUNDUP($V407*FX!$G$3*CF!$B$6,0)","v":0},null,null,null,null,null,null,null,null,null,null,null,null,null,null,null,null,null,null,null,null,null,null,null,null,null,null,null,null,null,null,null,0,null,null,0,0,null,0,null,0,0,0,0,0,0,0,0,0,0,0]
[null,"MOD:Y91",null,"VS:E","BCV:0217",null,null,null,null,null,null,null,null,null,null,null,null,null,null,"YA_9100_0219",null,0,"21.7 Bypass Cv","Do Not Use",0,0,0,0,0,0,0,{"$f":"ROUNDUP($V408*FX!$G$2*CF!$B$3,0)","v":0},{"$f":"ROUNDUP($V408*FX!$G$10*CF!$B$4,0)","v":0},{"$f":"ROUNDUP($V408*FX!$G$35*CF!$B$5,0)","v":0},{"$f":"ROUNDUP($V408*FX!$G$3*CF!$B$6,0)","v":0},null,null,null,null,null,null,null,null,null,null,null,null,null,null,null,null,null,null,null,null,null,null,null,null,null,null,null,null,null,null,null,0,null,null,0,0,null,0,null,0,0,0,0,0,0,0,0,0,0,0]
[null,"MOD:Y91",null,"VS:G","BCV:0220",null,null,null,null,null,null,null,null,null,null,null,null,null,null,"YA_9100_0220",null,0,"22.0 Bypass Cv","Do Not Use",0,0,0,0,0,0,0,{"$f":"ROUNDUP($V409*FX!$G$2*CF!$B$3,0)","v":0},{"$f":"ROUNDUP($V409*FX!$G$10*CF!$B$4,0)","v":0},{"$f":"ROUNDUP($V409*FX!$G$35*CF!$B$5,0)","v":0},{"$f":"ROUNDUP($V409*FX!$G$3*CF!$B$6,0)","v":0},null,null,null,null,null,null,null,null,null,null,null,null,null,null,null,null,null,null,null,null,null,null,null,null,null,null,null,null,null,null,null,0,null,null,0,0,null,0,null,0,0,0,0,0,0,0,0,0,0,0]
[null,"MOD:Y91",null,"VS:F","BCV:0230",null,null,null,null,null,null,null,null,null,null,null,null,null,null,"YA_9100_0221",null,0,"23.0 Bypass Cv","Do Not Use",0,0,0,0,0,0,0,{"$f":"ROUNDUP($V410*FX!$G$2*CF!$B$3,0)","v":0},{"$f":"ROUNDUP($V410*FX!$G$10*CF!$B$4,0)","v":0},{"$f":"ROUNDUP($V410*FX!$G$35*CF!$B$5,0)","v":0},{"$f":"ROUNDUP($V410*FX!$G$3*CF!$B$6,0)","v":0},null,null,null,null,null,null,null,null,null,null,null,null,null,null,null,null,null,null,null,null,null,null,null,null,null,null,null,null,null,null,null,0,null,null,0,0,null,0,null,0,0,0,0,0,0,0,0,0,0,0]
[null,"MOD:Y91",null,"VS:F","BCV:0250",null,null,null,null,null,null,null,null,null,null,null,null,null,null,"YA_9100_0222",null,0,"25.0 Bypass Cv","Do Not Use",0,0,0,0,0,0,0,{"$f":"ROUNDUP($V411*FX!$G$2*CF!$B$3,0)","v":0},{"$f":"ROUNDUP($V411*FX!$G$10*CF!$B$4,0)","v":0},{"$f":"ROUNDUP($V411*FX!$G$35*CF!$B$5,0)","v":0},{"$f":"ROUNDUP($V411*FX!$G$3*CF!$B$6,0)","v":0},null,null,null,null,null,null,null,null,null,null,null,null,null,null,null,null,null,null,null,null,null,null,null,null,null,null,null,null,null,null,null,0,null,null,0,0,null,0,null,0,0,0,0,0,0,0,0,0,0,0]
[null,"MOD:Y91",null,"VS:G","BCV:0260",null,null,null,null,null,null,null,null,null,null,null,null,null,null,"YA_9100_0223",null,0,"26.0 Bypass Cv","Do Not Use",0,0,0,0,0,0,0,{"$f":"ROUNDUP($V412*FX!$G$2*CF!$B$3,0)","v":0},{"$f":"ROUNDUP($V412*FX!$G$10*CF!$B$4,0)","v":0},{"$f":"ROUNDUP($V412*FX!$G$35*CF!$B$5,0)","v":0},{"$f":"ROUNDUP($V412*FX!$G$3*CF!$B$6,0)","v":0},null,null,null,null,null,null,null,null,null,null,null,null,null,null,null,null,null,null,null,null,null,null,null,null,null,null,null,null,null,null,null,0,null,null,0,0,null,0,null,0,0,0,0,0,0,0,0,0,0,0]
[null,"MOD:Y91",null,"VS:F","BCV:0265",null,null,null,null,null,null,null,null,null,null,null,null,null,null,"YA_9100_0224",null,0,"26.5 Bypass Cv","Do Not Use",0,{"$f":"ROUND(IFERROR(AA413*1.03,\"POA\"),0)","v":0},0,0,0,0,0,{"$f":"ROUNDUP($V413*FX!$G$2*CF!$B$3,0)","v":0},{"$f":"ROUNDUP($V413*FX!$G$10*CF!$B$4,0)","v":0},{"$f":"ROUNDUP($V413*FX!$G$35*CF!$B$5,0)","v":0},{"$f":"ROUNDUP($V413*FX!$G$3*CF!$B$6,0)","v":0},null,null,null,null,null,null,null,null,null,null,null,null,null,null,null,null,null,null,null,null,null,null,null,null,null,null,null,null,null,null,null,0,null,null,0,{"$f":"ROUNDUP(BR413,0)","v":0},null,0,null,0,{"$f":"ROUNDUP(($BW413+($BX$1*$BW413)),0)","v":0},0,{"$f":"BY413+(BY413*$BZ$1)","v":0},0,0,0,0,{"$f":"ROUNDUP(CD413,0)","v":0},0,0]
[null,"MOD:Y91",null,"VS:G","BCV:0280",null,null,null,null,null,null,null,null,null,null,null,null,null,null,"YA_9100_0225",null,0,"28.0 Bypass Cv","Do Not Use",0,0,0,0,0,0,0,{"$f":"ROUNDUP($V414*FX!$G$2*CF!$B$3,0)","v":0},{"$f":"ROUNDUP($V414*FX!$G$10*CF!$B$4,0)","v":0},{"$f":"ROUNDUP($V414*FX!$G$35*CF!$B$5,0)","v":0},{"$f":"ROUNDUP($V414*FX!$G$3*CF!$B$6,0)","v":0},null,null,null,null,null,null,null,null,null,null,null,null,null,null,null,null,null,null,null,null,null,null,null,null,null,null,null,null,null,null,null,0,null,null,0,0,null,0,null,0,0,0,0,0,0,0,0,0,0,0]
[null,"MOD:Y91",null,"VS:F","BCV:0290",null,null,null,null,null,null,null,null,null,null,null,null,null,null,"YA_9100_0226",null,0,"29.0 Bypass Cv","Do Not Use",0,0,0,0,0,0,0,{"$f":"ROUNDUP($V415*FX!$G$2*CF!$B$3,0)","v":0},{"$f":"ROUNDUP($V415*FX!$G$10*CF!$B$4,0)","v":0},{"$f":"ROUNDUP($V415*FX!$G$35*CF!$B$5,0)","v":0},{"$f":"ROUNDUP($V415*FX!$G$3*CF!$B$6,0)","v":0},null,null,null,null,null,null,null,null,null,null,null,null,null,null,null,null,null,null,null,null,null,null,null,null,null,null,null,null,null,null,null,0,null,null,0,0,null,0,null,0,0,0,0,0,0,0,0,0,0,0]
[null,"MOD:Y91",null,"VS:G","BCV:0310",null,null,null,null,null,null,null,null,null,null,null,null,null,null,"YA_9100_0227",null,0,"31.0 Bypass Cv","Do Not Use",0,0,0,0,0,0,0,{"$f":"ROUNDUP($V416*FX!$G$2*CF!$B$3,0)","v":0},{"$f":"ROUNDUP($V416*FX!$G$10*CF!$B$4,0)","v":0},{"$f":"ROUNDUP($V416*FX!$G$35*CF!$B$5,0)","v":0},{"$f":"ROUNDUP($V416*FX!$G$3*CF!$B$6,0)","v":0},null,null,null,null,null,null,null,null,null,null,null,null,null,null,null,null,null,null,null,null,null,null,null,null,null,null,null,null,null,null,null,0,null,null,0,0,null,0,null,0,0,0,0,0,0,0,0,0,0,0]
[null,"MOD:Y91",null,"VS:F","BCV:0315",null,null,null,null,null,null,null,null,null,null,null,null,null,null,"YA_9100_0228",null,0,"31.5 Bypass Cv","Do Not Use",0,0,0,0,0,0,0,{"$f":"ROUNDUP($V417*FX!$G$2*CF!$B$3,0)","v":0},{"$f":"ROUNDUP($V417*FX!$G$10*CF!$B$4,0)","v":0},{"$f":"ROUNDUP($V417*FX!$G$35*CF!$B$5,0)","v":0},{"$f":"ROUNDUP($V417*FX!$G$3*CF!$B$6,0)","v":0},null,null,null,null,null,null,null,null,null,null,null,null,null,null,null,null,null,null,null,null,null,null,null,null,null,null,null,null,null,null,null,0,null,null,0,0,null,0,null,0,0,0,0,0,0,0,0,0,0,0]
[null,"MOD:Y91",null,"VS:F","BCV:0350",null,null,null,null,null,null,null,null,null,null,null,null,null,null,"YA_9100_0229",null,0,"35.0 Bypass Cv","Do Not Use",0,0,0,0,0,0,0,{"$f":"ROUNDUP($V418*FX!$G$2*CF!$B$3,0)","v":0},{"$f":"ROUNDUP($V418*FX!$G$10*CF!$B$4,0)","v":0},{"$f":"ROUNDUP($V418*FX!$G$35*CF!$B$5,0)","v":0},{"$f":"ROUNDUP($V418*FX!$G$3*CF!$B$6,0)","v":0},null,null,null,null,null,null,null,null,null,null,null,null,null,null,null,null,null,null,null,null,null,null,null,null,null,null,null,null,null,null,null,0,null,null,0,0,null,0,null,0,0,0,0,0,0,0,0,0,0,0]
[null,"MOD:Y91",null,"VS:G","BCV:0370",null,null,null,null,null,null,null,null,null,null,null,null,null,null,"YA_9100_0230",null,0,"37.0 Bypass Cv","Do Not Use",0,0,0,0,0,0,0,{"$f":"ROUNDUP($V419*FX!$G$2*CF!$B$3,0)","v":0},{"$f":"ROUNDUP($V419*FX!$G$10*CF!$B$4,0)","v":0},{"$f":"ROUNDUP($V419*FX!$G$35*CF!$B$5,0)","v":0},{"$f":"ROUNDUP($V419*FX!$G$3*CF!$B$6,0)","v":0},null,null,null,null,null,null,null,null,null,null,null,null,null,null,null,null,null,null,null,null,null,null,null,null,null,null,null,null,null,null,null,0,null,null,0,0,null,0,null,0,0,0,0,0,0,0,0,0,0,0]
[null,"MOD:Y91",null,"VS:F","BCV:0390",null,null,null,null,null,null,null,null,null,null,null,null,null,null,"YA_9100_0231",null,0,"39.0 Bypass Cv","Do Not Use",0,0,0,0,0,0,0,{"$f":"ROUNDUP($V420*FX!$G$2*CF!$B$3,0)","v":0},{"$f":"ROUNDUP($V420*FX!$G$10*CF!$B$4,0)","v":0},{"$f":"ROUNDUP($V420*FX!$G$35*CF!$B$5,0)","v":0},{"$f":"ROUNDUP($V420*FX!$G$3*CF!$B$6,0)","v":0},null,null,null,null,null,null,null,null,null,null,null,null,null,null,null,null,null,null,null,null,null,null,null,null,null,null,null,null,null,null,null,0,null,null,0,0,null,0,null,0,0,0,0,0,0,0,0,0,0,0]
[null,"MOD:Y91",null,"VS:G","BCV:0510",null,null,null,null,null,null,null,null,null,null,null,null,null,null,"YA_9100_0232",null,0,"51.0 Bypass Cv","Do Not Use",0,0,0,0,0,0,0,{"$f":"ROUNDUP($V421*FX!$G$2*CF!$B$3,0)","v":0},{"$f":"ROUNDUP($V421*FX!$G$10*CF!$B$4,0)","v":0},{"$f":"ROUNDUP($V421*FX!$G$35*CF!$B$5,0)","v":0},{"$f":"ROUNDUP($V421*FX!$G$3*CF!$B$6,0)","v":0},null,null,null,null,null,null,null,null,null,null,null,null,null,null,null,null,null,null,null,null,null,null,null,null,null,null,null,null,null,null,null,0,null,null,0,0,null,0,null,0,0,0,0,0,0,0,0,0,0,0]
[null,"MOD:Y91",null,"VS:G","BCV:0550",null,null,null,null,null,null,null,null,null,null,null,null,null,null,"YA_9100_0233",null,0,"55.0 Bypass Cv","Do Not Use",0,0,0,0,0,0,0,{"$f":"ROUNDUP($V422*FX!$G$2*CF!$B$3,0)","v":0},{"$f":"ROUNDUP($V422*FX!$G$10*CF!$B$4,0)","v":0},{"$f":"ROUNDUP($V422*FX!$G$35*CF!$B$5,0)","v":0},{"$f":"ROUNDUP($V422*FX!$G$3*CF!$B$6,0)","v":0},null,null,null,null,null,null,null,null,null,null,null,null,null,null,null,null,null,null,null,null,null,null,null,null,null,null,null,null,null,null,null,0,null,null,0,0,null,0,null,0,0,{"$f":"ROUNDUP(BX422,0)","v":0},0,0,0,0,0,0,0,0]
[null,"MOD:Y91",null,"VS:G","BCV:0600",null,null,null,null,null,null,null,null,null,null,null,null,null,null,"YA_9100_0234",null,0,"60.0 Bypass Cv","Do Not Use",0,0,0,0,0,0,0,{"$f":"ROUNDUP($V423*FX!$G$2*CF!$B$3,0)","v":0},{"$f":"ROUNDUP($V423*FX!$G$10*CF!$B$4,0)","v":0},{"$f":"ROUNDUP($V423*FX!$G$35*CF!$B$5,0)","v":0},{"$f":"ROUNDUP($V423*FX!$G$3*CF!$B$6,0)","v":0},null,null,null,null,null,null,null,null,null,null,null,null,null,null,null,null,null,null,null,null,null,null,null,null,null,null,null,null,null,null,null,0,null,null,0,0,null,0,null,0,0,0,0,0,0,0,0,0,0,0]
[null,"MOD:Y91",null,"VS:G","BCV:0650",null,null,null,null,null,null,null,null,null,null,null,null,null,null,"YA_9100_0235",null,0,"65.0 Bypass Cv","Do Not Use",0,0,0,0,0,0,0,{"$f":"ROUNDUP($V424*FX!$G$2*CF!$B$3,0)","v":0},{"$f":"ROUNDUP($V424*FX!$G$10*CF!$B$4,0)","v":0},{"$f":"ROUNDUP($V424*FX!$G$35*CF!$B$5,0)","v":0},{"$f":"ROUNDUP($V424*FX!$G$3*CF!$B$6,0)","v":0},null,null,null,null,null,null,null,null,null,null,null,null,null,null,null,null,null,null,null,null,null,null,null,null,null,null,null,null,null,null,null,0,null,null,0,0,null,0,null,0,0,0,0,0,0,0,0,0,0,0]
[null,"MOD:Y91",null,"VS:G","BCV:0700",null,null,null,null,null,null,null,null,null,null,null,null,null,null,"YA_9100_0236",null,0,"70.0 Bypass Cv","Do Not Use",0,0,0,0,0,0,0,{"$f":"ROUNDUP($V425*FX!$G$2*CF!$B$3,0)","v":0},{"$f":"ROUNDUP($V425*FX!$G$10*CF!$B$4,0)","v":0},{"$f":"ROUNDUP($V425*FX!$G$35*CF!$B$5,0)","v":0},{"$f":"ROUNDUP($V425*FX!$G$3*CF!$B$6,0)","v":0},null,null,null,null,null,null,null,null,null,null,null,null,null,null,null,null,null,null,null,null,null,null,null,null,null,null,null,null,null,null,null,0,null,null,0,0,null,0,null,0,0,0,0,0,0,0,0,0,0,0]
[null,"MOD:Y91",null,"VS:G","BCV:0750",null,null,null,null,null,null,null,null,null,null,null,null,null,null,"YA_9100_0237",null,0,"75.0 Bypass Cv","Do Not Use",0,0,0,0,0,0,0,{"$f":"ROUNDUP($V426*FX!$G$2*CF!$B$3,0)","v":0},{"$f":"ROUNDUP($V426*FX!$G$10*CF!$B$4,0)","v":0},{"$f":"ROUNDUP($V426*FX!$G$35*CF!$B$5,0)","v":0},{"$f":"ROUNDUP($V426*FX!$G$3*CF!$B$6,0)","v":0},null,null,null,null,null,null,null,null,null,null,null,null,null,null,null,null,null,null,null,null,null,null,null,null,null,null,null,null,null,null,null,0,null,null,0,0,null,0,null,0,0,0,0,0,0,0,0,0,0,0]
[null,"MOD:Y91",null,"VS:G","BCV:0800",null,null,null,null,null,null,null,null,null,null,null,null,null,null,"YA_9100_0238",null,0,"80.0 Bypass Cv","Do Not Use",0,0,0,0,0,0,0,{"$f":"ROUNDUP($V427*FX!$G$2*CF!$B$3,0)","v":0},{"$f":"ROUNDUP($V427*FX!$G$10*CF!$B$4,0)","v":0},{"$f":"ROUNDUP($V427*FX!$G$35*CF!$B$5,0)","v":0},{"$f":"ROUNDUP($V427*FX!$G$3*CF!$B$6,0)","v":0},null,null,null,null,null,null,null,null,null,null,null,null,null,null,null,null,null,null,null,null,null,null,null,null,null,null,null,null,null,null,null,0,null,null,0,0,null,0,null,0,0,0,0,0,0,0,0,0,0,0]
[null,"MOD:Y91",null,"VS:G","BCV:0850",null,null,null,null,null,null,null,null,null,null,null,null,null,null,"YA_9100_0239",null,0,"85.0 Bypass Cv","Do Not Use",0,0,0,0,0,0,0,{"$f":"ROUNDUP($V428*FX!$G$2*CF!$B$3,0)","v":0},{"$f":"ROUNDUP($V428*FX!$G$10*CF!$B$4,0)","v":0},{"$f":"ROUNDUP($V428*FX!$G$35*CF!$B$5,0)","v":0},{"$f":"ROUNDUP($V428*FX!$G$3*CF!$B$6,0)","v":0},null,null,null,null,null,null,null,null,null,null,null,null,null,null,null,null,null,null,null,null,null,null,null,null,null,null,null,null,null,null,null,0,null,null,0,0,null,0,null,0,0,0,0,0,0,0,0,0,0,0]
[null,"MOD:Y91",null,"VS:G","BCV:0910",null,null,null,null,null,null,null,null,null,null,null,null,null,null,"YA_9100_0240",null,0,"91.0 Bypass Cv","Do Not Use",0,0,0,0,0,0,0,{"$f":"ROUNDUP($V429*FX!$G$2*CF!$B$3,0)","v":0},{"$f":"ROUNDUP($V429*FX!$G$10*CF!$B$4,0)","v":0},{"$f":"ROUNDUP($V429*FX!$G$35*CF!$B$5,0)","v":0},{"$f":"ROUNDUP($V429*FX!$G$3*CF!$B$6,0)","v":0},null,null,null,null,null,null,null,null,null,null,null,null,null,null,null,null,null,null,null,null,null,null,null,null,null,null,null,null,null,null,null,0,null,null,0,0,null,0,null,0,0,0,0,0,0,0,0,0,0,0]
[null,"MOD:Y91",null,"VS:G","BCV:0950",null,null,null,null,null,null,null,null,null,null,null,null,null,null,"YA_9100_0241",null,0,"95.0 Bypass Cv","Do Not Use",0,0,0,0,0,0,0,{"$f":"ROUNDUP($V430*FX!$G$2*CF!$B$3,0)","v":0},{"$f":"ROUNDUP($V430*FX!$G$10*CF!$B$4,0)","v":0},{"$f":"ROUNDUP($V430*FX!$G$35*CF!$B$5,0)","v":0},{"$f":"ROUNDUP($V430*FX!$G$3*CF!$B$6,0)","v":0},null,null,null,null,null,null,null,null,null,null,null,null,null,null,null,null,null,null,null,null,null,null,null,null,null,null,null,null,null,null,null,0,null,null,0,0,null,0,null,0,0,0,0,0,0,0,0,0,0,0]
[null,"MOD:Y91",null,"VS:G","BCV:1000",null,null,null,null,null,null,null,null,null,null,null,null,null,null,"YA_9100_0242",null,0,"100.0 Bypass Cv","Do Not Use",0,0,0,0,0,0,0,{"$f":"ROUNDUP($V431*FX!$G$2*CF!$B$3,0)","v":0},{"$f":"ROUNDUP($V431*FX!$G$10*CF!$B$4,0)","v":0},{"$f":"ROUNDUP($V431*FX!$G$35*CF!$B$5,0)","v":0},{"$f":"ROUNDUP($V431*FX!$G$3*CF!$B$6,0)","v":0},null,null,null,null,null,null,null,null,null,null,null,null,null,null,null,null,null,null,null,null,null,null,null,null,null,null,null,null,null,null,null,0,null,null,0,0,null,0,null,0,0,0,0,0,0,0,0,0,0,0]
[null,"MOD:Y91",null,"VS:G","BCV:1050",null,null,null,null,null,null,null,null,null,null,null,null,null,null,"YA_9100_0243",null,0,"105.0 Bypass Cv","Do Not Use",0,0,0,0,0,0,0,{"$f":"ROUNDUP($V432*FX!$G$2*CF!$B$3,0)","v":0},{"$f":"ROUNDUP($V432*FX!$G$10*CF!$B$4,0)","v":0},{"$f":"ROUNDUP($V432*FX!$G$35*CF!$B$5,0)","v":0},{"$f":"ROUNDUP($V432*FX!$G$3*CF!$B$6,0)","v":0},null,null,null,null,null,null,null,null,null,null,null,null,null,null,null,null,null,null,null,null,null,null,null,null,null,null,null,null,null,null,null,0,null,null,0,0,null,0,null,0,0,0,0,0,0,0,0,0,0,0]
[null,"MOD:Y91",null,"VS:G","BCV:1100",null,null,null,null,null,null,null,null,null,null,null,null,null,null,"YA_9100_0244",null,0,"110.0 Bypass Cv","Do Not Use",0,0,0,0,0,0,0,{"$f":"ROUNDUP($V433*FX!$G$2*CF!$B$3,0)","v":0},{"$f":"ROUNDUP($V433*FX!$G$10*CF!$B$4,0)","v":0},{"$f":"ROUNDUP($V433*FX!$G$35*CF!$B$5,0)","v":0},{"$f":"ROUNDUP($V433*FX!$G$3*CF!$B$6,0)","v":0},null,null,null,null,null,null,null,null,null,null,null,null,null,null,null,null,null,null,null,null,null,null,null,null,null,null,null,null,null,null,null,0,null,null,0,0,null,0,null,0,0,0,0,0,0,0,0,0,0,0]
["YA9100","MOD:Y91",null,"SM:V","LT:N","NC:Y,N","VS:B",null,null,null,null,null,null,null,null,null,null,null,null,"YA_9100_0245",null,491,"Viton","Soft Goods",373.32,366,355,355,345,335,491,{"$f":"ROUNDUP($V434*FX!$G$2*CF!$B$3,0)","v":491},{"$f":"ROUNDUP($V434*FX!$G$10*CF!$B$4,0)","v":678},{"$f":"ROUNDUP($V434*FX!$G$35*CF!$B$5,0)","v":330},{"$f":"ROUNDUP($V434*FX!$G$3*CF!$B$6,0)","v":683},null,null,null,null,null,null,null,null,null,null,null,null,null,null,null,null,null,null,null,null,null,null,null,null,null,null,null,null,null,null,null,512,null,null,388.666,389,null,0,null,372.96300000000002,389,389,404.56,404.56,405,442.66500000000002,442.66500000000002,443,470,491]
["YA9100","MOD:Y91",null,"SM:V","LT:N","NC:Y,N","VS:C",null,null,null,null,null,null,null,null,null,null,null,null,"YA_9100_0246",null,515,"Viton","Soft Goods",390.66,383,372,372,361,350,515,{"$f":"ROUNDUP($V435*FX!$G$2*CF!$B$3,0)","v":515},{"$f":"ROUNDUP($V435*FX!$G$10*CF!$B$4,0)","v":711},{"$f":"ROUNDUP($V435*FX!$G$35*CF!$B$5,0)","v":347},{"$f":"ROUNDUP($V435*FX!$G$3*CF!$B$6,0)","v":717},null,null,null,null,null,null,null,null,null,null,null,null,null,null,null,null,null,null,null,null,null,null,null,null,null,null,null,null,null,null,null,537,null,null,407.42200000000003,408,null,0,null,390.82320000000004,408,408,424.32,424.32,425,464.52499999999998,464.52499999999998,465,493,515]
["YA9100","MOD:Y91",null,"SM:V","LT:N","NC:Y,N","VS:D",null,null,null,null,null,null,null,null,null,null,null,null,"YA_9100_0247",null,515,"Viton","Soft Goods",390.66,383,372,372,361,350,515,{"$f":"ROUNDUP($V436*FX!$G$2*CF!$B$3,0)","v":515},{"$f":"ROUNDUP($V436*FX!$G$10*CF!$B$4,0)","v":711},{"$f":"ROUNDUP($V436*FX!$G$35*CF!$B$5,0)","v":347},{"$f":"ROUNDUP($V436*FX!$G$3*CF!$B$6,0)","v":717},null,null,null,null,null,null,null,null,null,null,null,null,null,null,null,null,null,null,null,null,null,null,null,null,null,null,null,null,null,null,null,537,null,null,407.42200000000003,408,null,0,null,390.82320000000004,408,408,424.32,424.32,425,464.52499999999998,464.52499999999998,465,493,515]
["YA9100","MOD:Y91",null,"SM:V","LT:N","NC:Y,N","VS:E",null,null,null,null,null,null,null,null,null,null,null,null,"YA_9100_0248",null,550,"Viton","Soft Goods",418.2,410,398,398,386,375,550,{"$f":"ROUNDUP($V437*FX!$G$2*CF!$B$3,0)","v":550},{"$f":"ROUNDUP($V437*FX!$G$10*CF!$B$4,0)","v":759},{"$f":"ROUNDUP($V437*FX!$G$35*CF!$B$5,0)","v":370},{"$f":"ROUNDUP($V437*FX!$G$3*CF!$B$6,0)","v":765},null,null,null,null,null,null,null,null,null,null,null,null,null,null,null,null,null,null,null,null,null,null,null,null,null,null,null,null,null,null,null,574,null,null,436.59800000000001,437,null,0,null,418.1388,436,436,453.44,453.44,454,496.22199999999998,496.22199999999998,497,527,550]
["YA9100","MOD:Y91",null,"SM:V","LT:N","NC:Y,N","VS:F",null,null,null,null,null,null,null,null,null,null,null,null,"YA_9100_0249",null,587,"Viton","Soft Goods",445.74,437,424,424,412,400,587,{"$f":"ROUNDUP($V438*FX!$G$2*CF!$B$3,0)","v":587},{"$f":"ROUNDUP($V438*FX!$G$10*CF!$B$4,0)","v":810},{"$f":"ROUNDUP($V438*FX!$G$35*CF!$B$5,0)","v":395},{"$f":"ROUNDUP($V438*FX!$G$3*CF!$B$6,0)","v":817},null,null,null,null,null,null,null,null,null,null,null,null,null,null,null,null,null,null,null,null,null,null,null,null,null,null,null,null,null,null,null,612,null,null,464.73200000000003,465,null,0,null,445.45440000000002,465,465,483.6,483.6,484,529.01199999999994,529.01199999999994,530,562,587]
["YA9100","MOD:Y91",null,"SM:V","LT:N","NC:Y,N","VS:G",null,null,null,null,null,null,null,null,null,null,null,null,"YA_9100_0250",null,587,"Viton","Soft Goods",445.74,437,424,424,412,400,587,{"$f":"ROUNDUP($V439*FX!$G$2*CF!$B$3,0)","v":587},{"$f":"ROUNDUP($V439*FX!$G$10*CF!$B$4,0)","v":810},{"$f":"ROUNDUP($V439*FX!$G$35*CF!$B$5,0)","v":395},{"$f":"ROUNDUP($V439*FX!$G$3*CF!$B$6,0)","v":817},null,null,null,null,null,null,null,null,null,null,null,null,null,null,null,null,null,null,null,null,null,null,null,null,null,null,null,null,null,null,null,612,null,null,464.73200000000003,465,null,0,null,445.45440000000002,465,465,483.6,483.6,484,529.01199999999994,529.01199999999994,530,562,587]
["YA9100","MOD:Y91",null,"SM:E","LT:N","NC:N","VS:B",null,null,null,null,null,null,null,null,null,null,null,null,"YA_9100_0251",null,266,"EPDM","Soft Goods",200.94,197,191,191,185,180,266,{"$f":"ROUNDUP($V440*FX!$G$2*CF!$B$3,0)","v":266},{"$f":"ROUNDUP($V440*FX!$G$10*CF!$B$4,0)","v":367},{"$f":"ROUNDUP($V440*FX!$G$35*CF!$B$5,0)","v":179},{"$f":"ROUNDUP($V440*FX!$G$3*CF!$B$6,0)","v":370},null,null,null,null,null,null,null,null,null,null,null,null,null,null,null,null,null,null,null,null,null,null,null,null,null,null,null,null,null,null,null,278,null,null,209.44200000000001,210,null,0,null,200.66460000000004,210,210,218.4,218.4,219,239.36699999999999,239.36699999999999,240,255,266]
["YA9100","MOD:Y91",null,"SM:E","LT:N","NC:N","VS:C",null,null,null,null,null,null,null,null,null,null,null,null,"YA_9100_0252",null,295,"EPDM","Soft Goods",222.36,218,212,212,206,200,295,{"$f":"ROUNDUP($V441*FX!$G$2*CF!$B$3,0)","v":295},{"$f":"ROUNDUP($V441*FX!$G$10*CF!$B$4,0)","v":407},{"$f":"ROUNDUP($V441*FX!$G$35*CF!$B$5,0)","v":199},{"$f":"ROUNDUP($V441*FX!$G$3*CF!$B$6,0)","v":411},null,null,null,null,null,null,null,null,null,null,null,null,null,null,null,null,null,null,null,null,null,null,null,null,null,null,null,null,null,null,null,308,null,null,232.36600000000001,233,null,0,null,222.72720000000001,233,233,242.32,242.32,243,265.59899999999999,265.59899999999999,266,282,295]
["YA9100","MOD:Y91",null,"SM:E","LT:N","NC:N","VS:D",null,null,null,null,null,null,null,null,null,null,null,null,"YA_9100_0253",null,295,"EPDM","Soft Goods",222.36,218,212,212,206,200,295,{"$f":"ROUNDUP($V442*FX!$G$2*CF!$B$3,0)","v":295},{"$f":"ROUNDUP($V442*FX!$G$10*CF!$B$4,0)","v":407},{"$f":"ROUNDUP($V442*FX!$G$35*CF!$B$5,0)","v":199},{"$f":"ROUNDUP($V442*FX!$G$3*CF!$B$6,0)","v":411},null,null,null,null,null,null,null,null,null,null,null,null,null,null,null,null,null,null,null,null,null,null,null,null,null,null,null,null,null,null,null,308,null,null,232.36600000000001,233,null,0,null,222.72720000000001,233,233,242.32,242.32,243,265.59899999999999,265.59899999999999,266,282,295]
["YA9100","MOD:Y91",null,"SM:E","LT:N","NC:N","VS:E",null,null,null,null,null,null,null,null,null,null,null,null,"YA_9100_0254",null,331,"EPDM","Soft Goods",250.92000000000002,246,239,239,232,225,331,{"$f":"ROUNDUP($V443*FX!$G$2*CF!$B$3,0)","v":331},{"$f":"ROUNDUP($V443*FX!$G$10*CF!$B$4,0)","v":457},{"$f":"ROUNDUP($V443*FX!$G$35*CF!$B$5,0)","v":223},{"$f":"ROUNDUP($V443*FX!$G$3*CF!$B$6,0)","v":461},null,null,null,null,null,null,null,null,null,null,null,null,null,null,null,null,null,null,null,null,null,null,null,null,null,null,null,null,null,null,null,345,null,null,262.584,263,null,0,null,251.09340000000003,262,262,272.48,272.48,273,298.38900000000001,298.38900000000001,299,317,331]
["YA9100","MOD:Y91",null,"SM:E","LT:N","NC:N","VS:F",null,null,null,null,null,null,null,null,null,null,null,null,"YA_9100_0255",null,369,"EPDM","Soft Goods",279.48,274,266,266,258,250,369,{"$f":"ROUNDUP($V444*FX!$G$2*CF!$B$3,0)","v":369},{"$f":"ROUNDUP($V444*FX!$G$10*CF!$B$4,0)","v":510},{"$f":"ROUNDUP($V444*FX!$G$35*CF!$B$5,0)","v":248},{"$f":"ROUNDUP($V444*FX!$G$3*CF!$B$6,0)","v":514},null,null,null,null,null,null,null,null,null,null,null,null,null,null,null,null,null,null,null,null,null,null,null,null,null,null,null,null,null,null,null,385,null,null,291.76,292,null,0,null,279.45960000000002,292,292,303.68,303.68,304,332.27199999999999,332.27199999999999,333,353,369]
["YA9100","MOD:Y91",null,"SM:E","LT:N","NC:N","VS:G",null,null,null,null,null,null,null,null,null,null,null,null,"YA_9100_0256",null,369,"EPDM","Soft Goods",279.48,274,266,266,258,250,369,{"$f":"ROUNDUP($V445*FX!$G$2*CF!$B$3,0)","v":369},{"$f":"ROUNDUP($V445*FX!$G$10*CF!$B$4,0)","v":510},{"$f":"ROUNDUP($V445*FX!$G$35*CF!$B$5,0)","v":248},{"$f":"ROUNDUP($V445*FX!$G$3*CF!$B$6,0)","v":514},null,null,null,null,null,null,null,null,null,null,null,null,null,null,null,null,null,null,null,null,null,null,null,null,null,null,null,null,null,null,null,385,null,null,291.76,292,null,0,null,279.45960000000002,292,292,303.68,303.68,304,332.27199999999999,332.27199999999999,333,353,369]
["YA9100","MOD:Y91",null,"SM:K","LT:N","NC:Y,N","VS:B",null,null,null,null,null,null,null,null,null,null,null,null,"YA_9100_0257",null,550,"Kalrez 4079","Soft Goods",418.2,410,398,398,386,375,550,{"$f":"ROUNDUP($V446*FX!$G$2*CF!$B$3,0)","v":550},{"$f":"ROUNDUP($V446*FX!$G$10*CF!$B$4,0)","v":759},{"$f":"ROUNDUP($V446*FX!$G$35*CF!$B$5,0)","v":370},{"$f":"ROUNDUP($V446*FX!$G$3*CF!$B$6,0)","v":765},null,null,null,null,null,null,null,null,null,null,null,null,null,null,null,null,null,null,null,null,null,null,null,null,null,null,null,null,null,null,null,574,null,null,436.59800000000001,437,null,0,null,418.1388,436,436,453.44,453.44,454,496.22199999999998,496.22199999999998,497,527,550]
["YA9100","MOD:Y91",null,"SM:K","LT:N","NC:Y,N","VS:C",null,null,null,null,null,null,null,null,null,null,null,null,"YA_9100_0258",null,587,"Kalrez 4079","Soft Goods",445.74,437,424,424,412,400,587,{"$f":"ROUNDUP($V447*FX!$G$2*CF!$B$3,0)","v":587},{"$f":"ROUNDUP($V447*FX!$G$10*CF!$B$4,0)","v":810},{"$f":"ROUNDUP($V447*FX!$G$35*CF!$B$5,0)","v":395},{"$f":"ROUNDUP($V447*FX!$G$3*CF!$B$6,0)","v":817},null,null,null,null,null,null,null,null,null,null,null,null,null,null,null,null,null,null,null,null,null,null,null,null,null,null,null,null,null,null,null,612,null,null,464.73200000000003,465,null,0,null,445.45440000000002,465,465,483.6,483.6,484,529.01199999999994,529.01199999999994,530,562,587]
["YA9100","MOD:Y91",null,"SM:K","LT:N","NC:Y,N","VS:D",null,null,null,null,null,null,null,null,null,null,null,null,"YA_9100_0259",null,587,"Kalrez 4079","Soft Goods",445.74,437,424,424,412,400,587,{"$f":"ROUNDUP($V448*FX!$G$2*CF!$B$3,0)","v":587},{"$f":"ROUNDUP($V448*FX!$G$10*CF!$B$4,0)","v":810},{"$f":"ROUNDUP($V448*FX!$G$35*CF!$B$5,0)","v":395},{"$f":"ROUNDUP($V448*FX!$G$3*CF!$B$6,0)","v":817},null,null,null,null,null,null,null,null,null,null,null,null,null,null,null,null,null,null,null,null,null,null,null,null,null,null,null,null,null,null,null,612,null,null,464.73200000000003,465,null,0,null,445.45440000000002,465,465,483.6,483.6,484,529.01199999999994,529.01199999999994,530,562,587]
["YA9100","MOD:Y91",null,"SM:K","LT:N","NC:Y,N","VS:E",null,null,null,null,null,null,null,null,null,null,null,null,"YA_9100_0260",null,622,"Kalrez 4079","Soft Goods",474.3,465,451,451,438,425,622,{"$f":"ROUNDUP($V449*FX!$G$2*CF!$B$3,0)","v":622},{"$f":"ROUNDUP($V449*FX!$G$10*CF!$B$4,0)","v":859},{"$f":"ROUNDUP($V449*FX!$G$35*CF!$B$5,0)","v":419},{"$f":"ROUNDUP($V449*FX!$G$3*CF!$B$6,0)","v":865},null,null,null,null,null,null,null,null,null,null,null,null,null,null,null,null,null,null,null,null,null,null,null,null,null,null,null,null,null,null,null,649,null,null,493.90800000000002,494,null,0,null,473.82060000000001,494,494,513.76,513.76,514,561.80200000000002,561.80200000000002,562,596,622]
["YA9100","MOD:Y91",null,"SM:K","LT:N","NC:Y,N","VS:F",null,null,null,null,null,null,null,null,null,null,null,null,"YA_9100_0261",null,{"$f":"AE450","v":660},"Kalrez 4079","Soft Goods",501.84000000000003,492,478,478,464,450,660,{"$f":"ROUNDUP($V450*FX!$G$2*CF!$B$3,0)","v":660},{"$f":"ROUNDUP($V450*FX!$G$10*CF!$B$4,0)","v":911},{"$f":"ROUNDUP($V450*FX!$G$35*CF!$B$5,0)","v":444},{"$f":"ROUNDUP($V450*FX!$G$3*CF!$B$6,0)","v":918},null,null,null,null,null,null,null,null,null,null,null,null,null,null,null,null,null,null,null,null,null,null,null,null,null,null,null,null,null,null,null,688,null,null,524.12599999999998,525,null,0,null,502.18680000000006,524,524,544.96,544.96,545,595.68499999999995,595.68499999999995,596,{"$f":"IF(CE450=\"POA\",\"POA\", ROUNDUP(CE450*1.06,0))","v":632},660]
["YA9100","MOD:Y91",null,"SM:K","LT:N","NC:Y,N","VS:G",null,null,null,null,null,null,null,null,null,null,null,null,"YA_9100_0262",null,660,"Kalrez 4079","Soft Goods",{"$f":"IFERROR(Z451*1.02,\"POA\")","v":501.84000000000003},492,478,478,464,450,{"$f":"CG451","v":660},{"$f":"ROUNDUP($V451*FX!$G$2*CF!$B$3,0)","v":660},{"$f":"ROUNDUP($V451*FX!$G$10*CF!$B$4,0)","v":911},{"$f":"ROUNDUP($V451*FX!$G$35*CF!$B$5,0)","v":444},{"$f":"ROUNDUP($V451*FX!$G$3*CF!$B$6,0)","v":918},null,null,null,null,null,null,null,null,null,null,null,null,null,null,null,null,null,null,null,null,null,null,null,null,null,null,null,null,null,null,null,{"$f":"ROUNDUP(($AE451+($AE451*$BO$1)),0)","v":688},null,null,524.12599999999998,525,null,{"$f":"ROUNDUP(BT451,0)","v":0},null,502.18680000000006,524,524,544.96,544.96,{"$f":"ROUNDUP(CA451,0)","v":545},{"$f":"CB451+(CB451*$CC$1)","v":595.68499999999995},595.68499999999995,596,632,{"$f":"IF(CF451=\"POA\",\"POA\", ROUNDUP(CF451*1.043,0))","v":660}]
["YA9100","MOD:Y91",null,"SM:T","LT:Y,N","NC:Y,N","VS:B",null,null,null,null,null,null,null,null,null,null,null,null,"YA_9100_0263",null,491,"Variseal (TURC52)","Soft Goods",373.32,366,355,355,345,335,491,{"$f":"ROUNDUP($V452*FX!$G$2*CF!$B$3,0)","v":491},{"$f":"ROUNDUP($V452*FX!$G$10*CF!$B$4,0)","v":678},{"$f":"ROUNDUP($V452*FX!$G$35*CF!$B$5,0)","v":330},{"$f":"ROUNDUP($V452*FX!$G$3*CF!$B$6,0)","v":683},null,null,null,null,null,null,null,null,null,null,null,null,null,null,null,null,null,null,null,null,null,null,null,null,null,null,null,null,null,null,null,512,null,null,388.666,389,null,0,null,372.96300000000002,389,389,404.56,404.56,405,442.66500000000002,442.66500000000002,443,470,491]
["YA9100","MOD:Y91",null,"SM:T","LT:Y,N","NC:Y,N","VS:C",null,null,null,null,null,null,null,null,null,null,null,null,"YA_9100_0264",null,515,"Variseal (TURC52)","Soft Goods",390.66,383,372,372,361,350,515,{"$f":"ROUNDUP($V453*FX!$G$2*CF!$B$3,0)","v":515},{"$f":"ROUNDUP($V453*FX!$G$10*CF!$B$4,0)","v":711},{"$f":"ROUNDUP($V453*FX!$G$35*CF!$B$5,0)","v":347},{"$f":"ROUNDUP($V453*FX!$G$3*CF!$B$6,0)","v":717},null,null,null,null,null,null,null,null,null,null,null,null,null,null,null,null,null,null,null,null,null,null,null,null,null,null,null,null,null,null,null,537,null,null,407.42200000000003,408,null,0,null,390.82320000000004,408,408,424.32,424.32,425,464.52499999999998,464.52499999999998,465,493,515]
["YA9100","MOD:Y91",null,"SM:T","LT:Y,N","NC:Y,N","VS:D",null,null,null,null,null,null,null,null,null,null,null,null,"YA_9100_0265",null,515,"Variseal (TURC52)","Soft Goods",390.66,383,372,372,361,350,515,{"$f":"ROUNDUP($V454*FX!$G$2*CF!$B$3,0)","v":515},{"$f":"ROUNDUP($V454*FX!$G$10*CF!$B$4,0)","v":711},{"$f":"ROUNDUP($V454*FX!$G$35*CF!$B$5,0)","v":347},{"$f":"ROUNDUP($V454*FX!$G$3*CF!$B$6,0)","v":717},null,null,null,null,null,null,null,null,null,null,null,null,null,null,null,null,null,null,null,null,null,null,null,null,null,null,null,null,null,null,null,537,null,null,407.42200000000003,408,null,0,null,390.82320000000004,408,408,424.32,424.32,425,464.52499999999998,464.52499999999998,465,493,515]
["YA9100","MOD:Y91",null,"SM:T","LT:Y,N","NC:Y,N","VS:E",null,null,null,null,null,null,null,null,null,null,null,null,"YA_9100_0266",null,550,"Variseal (TURC52)","Soft Goods",418.2,410,398,398,386,375,550,{"$f":"ROUNDUP($V455*FX!$G$2*CF!$B$3,0)","v":550},{"$f":"ROUNDUP($V455*FX!$G$10*CF!$B$4,0)","v":759},{"$f":"ROUNDUP($V455*FX!$G$35*CF!$B$5,0)","v":370},{"$f":"ROUNDUP($V455*FX!$G$3*CF!$B$6,0)","v":765},null,null,null,null,null,null,null,null,null,null,null,null,null,null,null,null,null,null,null,null,null,null,null,null,null,null,null,null,null,null,null,574,null,null,436.59800000000001,437,null,0,null,418.1388,436,436,453.44,453.44,454,496.22199999999998,496.22199999999998,497,527,550]
["YA9100","MOD:Y91",null,"SM:T","LT:Y,N","NC:Y,N","VS:F",null,null,null,null,null,null,null,null,null,null,null,null,"YA_9100_0267",null,587,"Variseal (TURC52)","Soft Goods",445.74,437,424,424,412,400,587,{"$f":"ROUNDUP($V456*FX!$G$2*CF!$B$3,0)","v":587},{"$f":"ROUNDUP($V456*FX!$G$10*CF!$B$4,0)","v":810},{"$f":"ROUNDUP($V456*FX!$G$35*CF!$B$5,0)","v":395},{"$f":"ROUNDUP($V456*FX!$G$3*CF!$B$6,0)","v":817},null,null,null,null,null,null,null,null,null,null,null,null,null,null,null,null,null,null,null,null,null,null,null,null,null,null,null,null,null,null,null,612,null,null,464.73200000000003,465,null,0,null,445.45440000000002,465,465,483.6,483.6,484,529.01199999999994,529.01199999999994,530,562,587]
["YA9100","MOD:Y91",null,"SM:T","LT:Y,N","NC:Y,N","VS:G",null,null,null,null,null,null,null,null,null,null,null,null,"YA_9100_0268",null,587,"Variseal (TURC52)","Soft Goods",445.74,437,424,424,412,400,587,{"$f":"ROUNDUP($V457*FX!$G$2*CF!$B$3,0)","v":587},{"$f":"ROUNDUP($V457*FX!$G$10*CF!$B$4,0)","v":810},{"$f":"ROUNDUP($V457*FX!$G$35*CF!$B$5,0)","v":395},{"$f":"ROUNDUP($V457*FX!$G$3*CF!$B$6,0)","v":817},null,null,null,null,null,null,null,null,null,null,null,null,null,null,null,null,null,null,null,null,null,null,null,null,null,null,null,null,null,null,null,612,null,null,464.73200000000003,465,null,0,null,445.45440000000002,465,465,483.6,483.6,484,529.01199999999994,529.01199999999994,530,562,587]
[null,"MOD:Y91",null,"FF:X",null,null,null,null,null,null,null,null,null,null,null,null,null,null,null,"YA_9100_0269",null,"POA","Cust Flange Face","Do Not Use","POA",{"$f":"IFERROR(AA458*1.03,\"POA\")","v":"POA"},"POA","POA","POA","POA","POA",{"$f":"ROUNDUP($V458*FX!$G$2*CF!$B$3,0)","v":{"$error":"#VALUE!"}},{"$f":"ROUNDUP($V458*FX!$G$10*CF!$B$4,0)","v":{"$error":"#VALUE!"}},{"$f":"ROUNDUP($V458*FX!$G$35*CF!$B$5,0)","v":{"$error":"#VALUE!"}},{"$f":"ROUNDUP($V458*FX!$G$3*CF!$B$6,0)","v":{"$error":"#VALUE!"}},null,null,null,null,null,null,null,null,null,null,null,null,null,null,null,null,null,null,null,null,null,null,null,null,null,null,null,null,null,null,null,{"$error":"#VALUE!"},null,null,{"$error":"#VALUE!"},{"$f":"AE458","v":"POA"},null,0,null,"POA","POA","POA","POA","POA","POA","POA","POA","POA","POA","POA"]
[null,"MOD:Y91",null,"BM:X",null,null,null,null,null,null,null,null,null,null,null,null,null,null,null,"YA_9100_0270",null,"POA","Cust Body Matl","Custom Base Valve Price","POA","POA","POA","POA","POA","POA","POA",{"$f":"ROUNDUP($V459*FX!$G$2*CF!$B$3,0)","v":{"$error":"#VALUE!"}},{"$f":"ROUNDUP($V459*FX!$G$10*CF!$B$4,0)","v":{"$error":"#VALUE!"}},{"$f":"ROUNDUP($V459*FX!$G$35*CF!$B$5,0)","v":{"$error":"#VALUE!"}},{"$f":"ROUNDUP($V459*FX!$G$3*CF!$B$6,0)","v":{"$error":"#VALUE!"}},null,null,null,null,null,null,null,null,null,null,null,null,null,null,null,null,null,null,null,null,null,null,null,null,null,null,null,null,null,null,null,{"$error":"#VALUE!"},null,null,{"$error":"#VALUE!"},"POA",null,0,null,"POA","POA","POA","POA","POA","POA","POA","POA","POA","POA","POA"]
[null,"MOD:Y91",null,"MCV:X",null,null,null,null,null,null,null,null,null,null,null,null,null,null,null,"YA_9100_0271",null,"POA","Cust Main Cv","Do Not Use","POA","POA","POA","POA","POA","POA","POA",{"$f":"ROUNDUP($V460*FX!$G$2*CF!$B$3,0)","v":{"$error":"#VALUE!"}},{"$f":"ROUNDUP($V460*FX!$G$10*CF!$B$4,0)","v":{"$error":"#VALUE!"}},{"$f":"ROUNDUP($V460*FX!$G$35*CF!$B$5,0)","v":{"$error":"#VALUE!"}},{"$f":"ROUNDUP($V460*FX!$G$3*CF!$B$6,0)","v":{"$error":"#VALUE!"}},null,null,null,null,null,null,null,null,null,null,null,null,null,null,null,null,null,null,null,null,null,null,null,null,null,null,null,null,null,null,null,{"$error":"#VALUE!"},null,null,{"$error":"#VALUE!"},"POA",null,0,null,"POA","POA","POA","POA","POA","POA","POA","POA","POA","POA","POA"]
[null,"MOD:Y91",null,"BCV:X",null,null,null,null,null,null,null,null,null,null,null,null,null,null,null,"YA_9100_0272",null,"POA","Cust Bypass Cv","Do Not Use","POA","POA","POA","POA","POA","POA","POA",{"$f":"ROUNDUP($V461*FX!$G$2*CF!$B$3,0)","v":{"$error":"#VALUE!"}},{"$f":"ROUNDUP($V461*FX!$G$10*CF!$B$4,0)","v":{"$error":"#VALUE!"}},{"$f":"ROUNDUP($V461*FX!$G$35*CF!$B$5,0)","v":{"$error":"#VALUE!"}},{"$f":"ROUNDUP($V461*FX!$G$3*CF!$B$6,0)","v":{"$error":"#VALUE!"}},null,null,null,null,null,null,null,null,null,null,null,null,null,null,null,null,null,null,null,null,null,null,null,null,null,null,null,null,null,null,null,{"$error":"#VALUE!"},null,null,{"$error":"#VALUE!"},"POA",null,0,null,"POA","POA","POA","POA","POA","POA","POA","POA","POA","POA","POA"]
[null,"MOD:Y91",null,"SM:X","LT:Y,N","NC:Y,N",null,null,null,null,null,null,null,null,null,null,null,null,null,"YA_9100_0273",null,"POA","Cust Seal Matl","Custom Soft Goods","POA","POA","POA","POA","POA","POA","POA",{"$f":"ROUNDUP($V462*FX!$G$2*CF!$B$3,0)","v":{"$error":"#VALUE!"}},{"$f":"ROUNDUP($V462*FX!$G$10*CF!$B$4,0)","v":{"$error":"#VALUE!"}},{"$f":"ROUNDUP($V462*FX!$G$35*CF!$B$5,0)","v":{"$error":"#VALUE!"}},{"$f":"ROUNDUP($V462*FX!$G$3*CF!$B$6,0)","v":{"$error":"#VALUE!"}},null,null,null,null,null,null,null,null,null,null,null,null,null,null,null,null,null,null,null,null,null,null,null,null,null,null,null,null,null,null,null,{"$error":"#VALUE!"},null,null,{"$error":"#VALUE!"},"POA",null,0,null,"POA","POA","POA","POA","POA","POA","POA","POA","POA","POA","POA"]
[null,"MOD:Y91",null,"DT:X",null,null,null,null,null,null,null,null,null,null,null,null,null,null,null,"YA_9100_0274",null,"POA","Cust Disc Trim St","Do Not Use","POA","POA","POA","POA","POA","POA","POA",{"$f":"ROUNDUP($V463*FX!$G$2*CF!$B$3,0)","v":{"$error":"#VALUE!"}},{"$f":"ROUNDUP($V463*FX!$G$10*CF!$B$4,0)","v":{"$error":"#VALUE!"}},{"$f":"ROUNDUP($V463*FX!$G$35*CF!$B$5,0)","v":{"$error":"#VALUE!"}},{"$f":"ROUNDUP($V463*FX!$G$3*CF!$B$6,0)","v":{"$error":"#VALUE!"}},null,null,null,null,null,null,null,null,null,null,null,null,null,null,null,null,null,null,null,null,null,null,null,null,null,null,null,null,null,null,null,{"$error":"#VALUE!"},null,null,{"$error":"#VALUE!"},"POA",null,0,null,"POA","POA","POA","POA","POA","POA","POA","POA","POA","POA","POA"]
[null,"MOD:Y91",null,"VS: X",null,null,null,null,null,null,null,null,null,null,null,null,null,null,null,"YA_9100_0277",null,"POA","Cust Valve Size","Custom Base Valve Price","POA","POA","POA","POA","POA","POA","POA",{"$f":"ROUNDUP($V464*FX!$G$2*CF!$B$3,0)","v":{"$error":"#VALUE!"}},{"$f":"ROUNDUP($V464*FX!$G$10*CF!$B$4,0)","v":{"$error":"#VALUE!"}},{"$f":"ROUNDUP($V464*FX!$G$35*CF!$B$5,0)","v":{"$error":"#VALUE!"}},{"$f":"ROUNDUP($V464*FX!$G$3*CF!$B$6,0)","v":{"$error":"#VALUE!"}},null,null,null,null,null,null,null,null,null,null,null,null,null,null,null,null,null,null,null,null,null,null,null,null,null,null,null,null,null,null,null,{"$error":"#VALUE!"},null,null,{"$error":"#VALUE!"},"POA",null,0,null,"POA","POA","POA","POA","POA","POA","POA","POA","POA","POA","POA"]
["YA9200","MOD:Y92",null,"VS:A","PC:1","BM:0","NC:N",null,null,null,null,null,null,null,null,null,null,null,null,"YA_9200_0001",null,36005,"CS (WCB)","Base Valve Price",28638.54,{"$f":"ROUND(IFERROR(AA465*1.03,\"POA\"),0)","v":28077},27259,27259,26465,25694,36005,{"$f":"ROUNDUP($V465*FX!$G$2*CF!$B$3,0)","v":36005},{"$f":"ROUNDUP($V465*FX!$G$10*CF!$B$4,0)","v":49669},{"$f":"ROUNDUP($V465*FX!$G$35*CF!$B$5,0)","v":24197},{"$f":"ROUNDUP($V465*FX!$G$3*CF!$B$6,0)","v":50065},null,null,null,null,null,null,null,null,null,null,null,null,null,null,null,null,null,null,null,null,null,null,null,null,null,null,null,null,null,null,null,37518,null,null,29841.838,{"$f":"ROUNDUP(BR465,0)","v":29842},null,0,null,28638.305400000001,{"$f":"ROUNDUP(($BW465+($BX$1*$BW465)),0)","v":29842},29842,{"$f":"BY465+(BY465*$BZ$1)","v":31035.68},31035.68,31036,33922.347999999998,32565.454079999996,{"$f":"ROUNDUP(CD465,0)","v":32566},34520,36005]
["YA9200","MOD:Y92",null,"VS:B","PC:1","BM:0","NC:N",null,null,null,null,null,null,null,null,null,null,null,null,"YA_9200_0002",null,38580,"CS (WCB)","Base Valve Price",30686.7,30085,29209,29209,28358,27532,38580,{"$f":"ROUNDUP($V466*FX!$G$2*CF!$B$3,0)","v":38580},{"$f":"ROUNDUP($V466*FX!$G$10*CF!$B$4,0)","v":53222},{"$f":"ROUNDUP($V466*FX!$G$35*CF!$B$5,0)","v":25928},{"$f":"ROUNDUP($V466*FX!$G$3*CF!$B$6,0)","v":53646},null,null,null,null,null,null,null,null,null,null,null,null,null,null,null,null,null,null,null,null,null,null,null,null,null,null,null,null,null,null,null,40201,null,null,31975.853999999999,31976,null,0,null,30686.975399999999,31976,31976,33255.040000000001,33255.040000000001,33256,36348.807999999997,34894.855679999993,34895,36989,38580]
["YA9200","MOD:Y92",null,"VS:C","PC:1","BM:0","NC:N",null,null,null,null,null,null,null,null,null,null,null,null,"YA_9200_0003",null,42883,"CS (WCB)","Base Valve Price",32745.06,32103,31168,31168,30260,29379,42883,{"$f":"ROUNDUP($V467*FX!$G$2*CF!$B$3,0)","v":42883},{"$f":"ROUNDUP($V467*FX!$G$10*CF!$B$4,0)","v":59158},{"$f":"ROUNDUP($V467*FX!$G$35*CF!$B$5,0)","v":28820},{"$f":"ROUNDUP($V467*FX!$G$3*CF!$B$6,0)","v":59629},null,null,null,null,null,null,null,null,null,null,null,null,null,null,null,null,null,null,null,null,null,null,null,null,null,null,null,null,null,null,null,44685,null,null,34121.332000000002,34122,null,0,null,32745.1008,34121,34121,35485.839999999997,35485.839999999997,35486,38786.197999999997,38786.197999999997,38787,41115,42883]
["YA9200","MOD:Y92",null,"VS:D","PC:1","BM:0","NC:N",null,null,null,null,null,null,null,null,null,null,null,null,"YA_9200_0004",null,52913,"CS (WCB)","Base Valve Price",40404.239999999998,39612,38458,38458,37338,36250,52913,{"$f":"ROUNDUP($V468*FX!$G$2*CF!$B$3,0)","v":52913},{"$f":"ROUNDUP($V468*FX!$G$10*CF!$B$4,0)","v":72994},{"$f":"ROUNDUP($V468*FX!$G$35*CF!$B$5,0)","v":35560},{"$f":"ROUNDUP($V468*FX!$G$3*CF!$B$6,0)","v":73576},null,null,null,null,null,null,null,null,null,null,null,null,null,null,null,null,null,null,null,null,null,null,null,null,null,null,null,null,null,null,null,55136,null,null,42100.968000000001,42101,null,0,null,40403.974799999996,42101,42101,43785.04,43785.04,43786,47858.097999999998,47858.097999999998,47859,50731,52913]
["YA9200","MOD:Y92",null,"VS:E","PC:1","BM:0","NC:N",null,null,null,null,null,null,null,null,null,null,null,null,"YA_9200_0005",null,75331,"CS (WCB)","Base Valve Price",57523.92,56396,54753,54753,53158,51610,75331,{"$f":"ROUNDUP($V469*FX!$G$2*CF!$B$3,0)","v":75331},{"$f":"ROUNDUP($V469*FX!$G$10*CF!$B$4,0)","v":103920},{"$f":"ROUNDUP($V469*FX!$G$35*CF!$B$5,0)","v":50626},{"$f":"ROUNDUP($V469*FX!$G$3*CF!$B$6,0)","v":104748},null,null,null,null,null,null,null,null,null,null,null,null,null,null,null,null,null,null,null,null,null,null,null,null,null,null,null,null,null,null,null,78495,null,null,59940.008000000002,59941,null,0,null,57523.501800000005,59940,59940,62337.599999999999,62337.599999999999,62338,68135.433999999994,68135.433999999994,68136,72225,75331]
["YA9200","MOD:Y92",null,"VS:F","PC:1","BM:0","NC:N",null,null,null,null,null,null,null,null,null,null,null,null,"YA_9200_0006",null,"POA","CS (WCB)","Base Valve Price","POA","POA","POA","POA","POA","POA","POA",{"$f":"ROUNDUP($V470*FX!$G$2*CF!$B$3,0)","v":{"$error":"#VALUE!"}},{"$f":"ROUNDUP($V470*FX!$G$10*CF!$B$4,0)","v":{"$error":"#VALUE!"}},{"$f":"ROUNDUP($V470*FX!$G$35*CF!$B$5,0)","v":{"$error":"#VALUE!"}},{"$f":"ROUNDUP($V470*FX!$G$3*CF!$B$6,0)","v":{"$error":"#VALUE!"}},null,null,null,null,null,null,null,null,null,null,null,null,null,null,null,null,null,null,null,null,null,null,null,null,null,null,null,null,null,null,null,{"$error":"#VALUE!"},null,null,{"$error":"#VALUE!"},{"$f":"AE470","v":"POA"},null,0,null,"POA","POA","POA","POA","POA","POA","POA","POA","POA","POA","POA"]
["YA9200","MOD:Y92",null,"VS:G","PC:1","BM:0","NC:N",null,null,null,null,null,null,null,null,null,null,null,null,"YA_9200_0007",null,"POA","CS (WCB)","Base Valve Price","POA","POA","POA","POA","POA","POA","POA",{"$f":"ROUNDUP($V471*FX!$G$2*CF!$B$3,0)","v":{"$error":"#VALUE!"}},{"$f":"ROUNDUP($V471*FX!$G$10*CF!$B$4,0)","v":{"$error":"#VALUE!"}},{"$f":"ROUNDUP($V471*FX!$G$35*CF!$B$5,0)","v":{"$error":"#VALUE!"}},{"$f":"ROUNDUP($V471*FX!$G$3*CF!$B$6,0)","v":{"$error":"#VALUE!"}},null,null,null,null,null,null,null,null,null,null,null,null,null,null,null,null,null,null,null,null,null,null,null,null,null,null,null,null,null,null,null,{"$error":"#VALUE!"},null,null,{"$error":"#VALUE!"},{"$f":"AE471","v":"POA"},null,0,null,"POA","POA","POA","POA","POA","POA","POA","POA","POA","POA","POA"]
["YA9200","MOD:Y92",null,"VS:H","PC:1","BM:0","NC:N",null,null,null,null,null,null,null,null,null,null,null,null,"YA_9200_0008",null,"POA","CS (WCB)","Base Valve Price","POA","POA","POA","POA","POA","POA","POA",{"$f":"ROUNDUP($V472*FX!$G$2*CF!$B$3,0)","v":{"$error":"#VALUE!"}},{"$f":"ROUNDUP($V472*FX!$G$10*CF!$B$4,0)","v":{"$error":"#VALUE!"}},{"$f":"ROUNDUP($V472*FX!$G$35*CF!$B$5,0)","v":{"$error":"#VALUE!"}},{"$f":"ROUNDUP($V472*FX!$G$3*CF!$B$6,0)","v":{"$error":"#VALUE!"}},null,null,null,null,null,null,null,null,null,null,null,null,null,null,null,null,null,null,null,null,null,null,null,null,null,null,null,null,null,null,null,{"$error":"#VALUE!"},null,null,{"$error":"#VALUE!"},{"$f":"AE472","v":"POA"},null,0,null,"POA","POA","POA","POA","POA","POA","POA","POA","POA","POA","POA"]
["YA9200","MOD:Y92",null,"VS:A","PC:2","BM:0","NC:N",null,null,null,null,null,null,null,null,null,null,null,null,"YA_9200_0009",null,37123,"CS (WCB)","Base Valve Price",29527.98,{"$f":"ROUND(IFERROR(AA473*1.03,\"POA\"),0)","v":28949},28106,28106,27287,26492,37123,{"$f":"ROUNDUP($V473*FX!$G$2*CF!$B$3,0)","v":37123},{"$f":"ROUNDUP($V473*FX!$G$10*CF!$B$4,0)","v":51212},{"$f":"ROUNDUP($V473*FX!$G$35*CF!$B$5,0)","v":24949},{"$f":"ROUNDUP($V473*FX!$G$3*CF!$B$6,0)","v":51620},null,null,null,null,null,null,null,null,null,null,null,null,null,null,null,null,null,null,null,null,null,null,null,null,null,null,null,null,null,null,null,38683,null,null,30769.218000000001,{"$f":"ROUNDUP(BR473,0)","v":30770},null,0,null,29528.1636,{"$f":"ROUNDUP(($BW473+($BX$1*$BW473)),0)","v":30769},30769,{"$f":"BY473+(BY473*$BZ$1)","v":31999.759999999998},31999.759999999998,32000,34976,33576.959999999999,{"$f":"ROUNDUP(CD473,0)","v":33577},35592,37123]
["YA9200","MOD:Y92",null,"VS:B","PC:2","BM:0","NC:N",null,null,null,null,null,null,null,null,null,null,null,null,"YA_9200_0010",null,40031,"CS (WCB)","Base Valve Price",31840.32,31216,30307,30307,29424,28567,40031,{"$f":"ROUNDUP($V474*FX!$G$2*CF!$B$3,0)","v":40031},{"$f":"ROUNDUP($V474*FX!$G$10*CF!$B$4,0)","v":55223},{"$f":"ROUNDUP($V474*FX!$G$35*CF!$B$5,0)","v":26903},{"$f":"ROUNDUP($V474*FX!$G$3*CF!$B$6,0)","v":55664},null,null,null,null,null,null,null,null,null,null,null,null,null,null,null,null,null,null,null,null,null,null,null,null,null,null,null,null,null,null,null,41713,null,null,33178.322,33179,null,0,null,31840.534199999998,33178,33178,34505.120000000003,34505.120000000003,34506,37715.057999999997,36206.455679999999,36207,38380,40031]
["YA9200","MOD:Y92",null,"VS:C","PC:2","BM:0","NC:N",null,null,null,null,null,null,null,null,null,null,null,null,"YA_9200_0011",null,44604,"CS (WCB)","Base Valve Price",34060.86,33393,32420,32420,31476,30559,44604,{"$f":"ROUNDUP($V475*FX!$G$2*CF!$B$3,0)","v":44604},{"$f":"ROUNDUP($V475*FX!$G$10*CF!$B$4,0)","v":61532},{"$f":"ROUNDUP($V475*FX!$G$35*CF!$B$5,0)","v":29976},{"$f":"ROUNDUP($V475*FX!$G$3*CF!$B$6,0)","v":62022},null,null,null,null,null,null,null,null,null,null,null,null,null,null,null,null,null,null,null,null,null,null,null,null,null,null,null,null,null,null,null,46478,null,null,35491.561999999998,35492,null,0,null,34060.451999999997,35491,35491,36910.639999999999,36910.639999999999,36911,40343.722999999998,40343.722999999998,40344,42765,44604]
["YA9200","MOD:Y92",null,"VS:D","PC:2","BM:0","NC:N",null,null,null,null,null,null,null,null,null,null,null,null,"YA_9200_0012",null,54081,"CS (WCB)","Base Valve Price",41295.72,40486,39307,39307,38162,37050,54081,{"$f":"ROUNDUP($V476*FX!$G$2*CF!$B$3,0)","v":54081},{"$f":"ROUNDUP($V476*FX!$G$10*CF!$B$4,0)","v":74605},{"$f":"ROUNDUP($V476*FX!$G$35*CF!$B$5,0)","v":36345},{"$f":"ROUNDUP($V476*FX!$G$3*CF!$B$6,0)","v":75200},null,null,null,null,null,null,null,null,null,null,null,null,null,null,null,null,null,null,null,null,null,null,null,null,null,null,null,null,null,null,null,56353,null,null,43030.432000000001,43031,null,0,null,41295.934200000003,43031,43031,44752.24,44752.24,44753,48915.029000000002,48915.029000000002,48916,51851,54081]
["YA9200","MOD:Y92",null,"VS:E","PC:2","BM:0","NC:N",null,null,null,null,null,null,null,null,null,null,null,null,"YA_9200_0013",null,79722,"CS (WCB)","Base Valve Price",60876.66,59683,57945,57945,56257,54618,79722,{"$f":"ROUNDUP($V477*FX!$G$2*CF!$B$3,0)","v":79722},{"$f":"ROUNDUP($V477*FX!$G$10*CF!$B$4,0)","v":109977},{"$f":"ROUNDUP($V477*FX!$G$35*CF!$B$5,0)","v":53577},{"$f":"ROUNDUP($V477*FX!$G$3*CF!$B$6,0)","v":110854},null,null,null,null,null,null,null,null,null,null,null,null,null,null,null,null,null,null,null,null,null,null,null,null,null,null,null,null,null,null,null,83071,null,null,63434.876000000004,63435,null,0,null,60877.017,63434,63434,65971.360000000001,65971.360000000001,65972,72107.395999999993,72107.395999999993,72108,76435,79722]
["YA9200","MOD:Y92",null,"VS:F","PC:2","BM:0","NC:N",null,null,null,null,null,null,null,null,null,null,null,null,"YA_9200_0014",null,"POA","CS (WCB)","Base Valve Price","POA","POA","POA","POA","POA","POA","POA",{"$f":"ROUNDUP($V478*FX!$G$2*CF!$B$3,0)","v":{"$error":"#VALUE!"}},{"$f":"ROUNDUP($V478*FX!$G$10*CF!$B$4,0)","v":{"$error":"#VALUE!"}},{"$f":"ROUNDUP($V478*FX!$G$35*CF!$B$5,0)","v":{"$error":"#VALUE!"}},{"$f":"ROUNDUP($V478*FX!$G$3*CF!$B$6,0)","v":{"$error":"#VALUE!"}},null,null,null,null,null,null,null,null,null,null,null,null,null,null,null,null,null,null,null,null,null,null,null,null,null,null,null,null,null,null,null,{"$error":"#VALUE!"},null,null,{"$error":"#VALUE!"},{"$f":"AE478","v":"POA"},null,0,null,"POA","POA","POA","POA","POA","POA","POA","POA","POA","POA","POA"]
["YA9200","MOD:Y92",null,"VS:G","PC:2","BM:0","NC:N",null,null,null,null,null,null,null,null,null,null,null,null,"YA_9200_0015",null,"POA","CS (WCB)","Base Valve Price","POA","POA","POA","POA","POA","POA","POA",{"$f":"ROUNDUP($V479*FX!$G$2*CF!$B$3,0)","v":{"$error":"#VALUE!"}},{"$f":"ROUNDUP($V479*FX!$G$10*CF!$B$4,0)","v":{"$error":"#VALUE!"}},{"$f":"ROUNDUP($V479*FX!$G$35*CF!$B$5,0)","v":{"$error":"#VALUE!"}},{"$f":"ROUNDUP($V479*FX!$G$3*CF!$B$6,0)","v":{"$error":"#VALUE!"}},null,null,null,null,null,null,null,null,null,null,null,null,null,null,null,null,null,null,null,null,null,null,null,null,null,null,null,null,null,null,null,{"$error":"#VALUE!"},null,null,{"$error":"#VALUE!"},{"$f":"AE479","v":"POA"},null,0,null,"POA","POA","POA","POA","POA","POA","POA","POA","POA","POA","POA"]
["YA9200","MOD:Y92",null,"VS:H","PC:2","BM:0","NC:N",null,null,null,null,null,null,null,null,null,null,null,null,"YA_9200_0016",null,"POA","CS (WCB)","Base Valve Price","POA","POA","POA","POA","POA","POA","POA",{"$f":"ROUNDUP($V480*FX!$G$2*CF!$B$3,0)","v":{"$error":"#VALUE!"}},{"$f":"ROUNDUP($V480*FX!$G$10*CF!$B$4,0)","v":{"$error":"#VALUE!"}},{"$f":"ROUNDUP($V480*FX!$G$35*CF!$B$5,0)","v":{"$error":"#VALUE!"}},{"$f":"ROUNDUP($V480*FX!$G$3*CF!$B$6,0)","v":{"$error":"#VALUE!"}},null,null,null,null,null,null,null,null,null,null,null,null,null,null,null,null,null,null,null,null,null,null,null,null,null,null,null,null,null,null,null,{"$error":"#VALUE!"},null,null,{"$error":"#VALUE!"},{"$f":"AE480","v":"POA"},null,0,null,"POA","POA","POA","POA","POA","POA","POA","POA","POA","POA","POA"]
["YA9200","MOD:Y92",null,"VS:A","PC:1","BM:1","NC:N",null,null,null,null,null,null,null,null,null,null,null,null,"YA_9200_0017",null,41856,"SS (CF8M)","Base Valve Price",31960.68,{"$f":"ROUND(IFERROR(AA481*1.03,\"POA\"),0)","v":31334},30421,30421,29535,28675,41856,{"$f":"ROUNDUP($V481*FX!$G$2*CF!$B$3,0)","v":41856},{"$f":"ROUNDUP($V481*FX!$G$10*CF!$B$4,0)","v":57741},{"$f":"ROUNDUP($V481*FX!$G$35*CF!$B$5,0)","v":28130},{"$f":"ROUNDUP($V481*FX!$G$3*CF!$B$6,0)","v":58201},null,null,null,null,null,null,null,null,null,null,null,null,null,null,null,null,null,null,null,null,null,null,null,null,null,null,null,null,null,null,null,43614,null,null,33303.362000000001,{"$f":"ROUNDUP(BR481,0)","v":33304},null,0,null,31960.302600000003,{"$f":"ROUNDUP(($BW481+($BX$1*$BW481)),0)","v":33303},33303,{"$f":"BY481+(BY481*$BZ$1)","v":34635.120000000003},34635.120000000003,34636,37857.148000000001,37857.148000000001,{"$f":"ROUNDUP(CD481,0)","v":37858},40130,41856]
["YA9200","MOD:Y92",null,"VS:B","PC:1","BM:1","NC:N",null,null,null,null,null,null,null,null,null,null,null,null,"YA_9200_0018",null,51016,"SS (CF8M)","Base Valve Price",38954.82,38191,37079,37079,35999,34950,51016,{"$f":"ROUNDUP($V482*FX!$G$2*CF!$B$3,0)","v":51016},{"$f":"ROUNDUP($V482*FX!$G$10*CF!$B$4,0)","v":70377},{"$f":"ROUNDUP($V482*FX!$G$35*CF!$B$5,0)","v":34285},{"$f":"ROUNDUP($V482*FX!$G$3*CF!$B$6,0)","v":70938},null,null,null,null,null,null,null,null,null,null,null,null,null,null,null,null,null,null,null,null,null,null,null,null,null,null,null,null,null,null,null,53159,null,null,40592.152000000002,40593,null,0,null,38955.197400000005,40592,40592,42215.68,42215.68,42216,46142.088000000003,46142.088000000003,46143,48912,51016]
["YA9200","MOD:Y92",null,"VS:C","PC:1","BM:1","NC:N",null,null,null,null,null,null,null,null,null,null,null,null,"YA_9200_0019",null,59802,"SS (CF8M)","Base Valve Price",45664.38,44769,43465,43465,42199,40970,59802,{"$f":"ROUNDUP($V483*FX!$G$2*CF!$B$3,0)","v":59802},{"$f":"ROUNDUP($V483*FX!$G$10*CF!$B$4,0)","v":82497},{"$f":"ROUNDUP($V483*FX!$G$35*CF!$B$5,0)","v":40190},{"$f":"ROUNDUP($V483*FX!$G$3*CF!$B$6,0)","v":83155},null,null,null,null,null,null,null,null,null,null,null,null,null,null,null,null,null,null,null,null,null,null,null,null,null,null,null,null,null,null,null,62314,null,null,47582.93,47583,null,0,null,45664.329000000005,47583,47583,49486.32,49486.32,49487,54089.290999999997,54089.290999999997,54090,57336,59802]
["YA9200","MOD:Y92",null,"VS:D","PC:1","BM:1","NC:N",null,null,null,null,null,null,null,null,null,null,null,null,"YA_9200_0020",null,70208,"SS (CF8M)","Base Valve Price",53611.200000000004,52560,51029,51029,49543,48100,70208,{"$f":"ROUNDUP($V484*FX!$G$2*CF!$B$3,0)","v":70208},{"$f":"ROUNDUP($V484*FX!$G$10*CF!$B$4,0)","v":96852},{"$f":"ROUNDUP($V484*FX!$G$35*CF!$B$5,0)","v":47183},{"$f":"ROUNDUP($V484*FX!$G$3*CF!$B$6,0)","v":97625},null,null,null,null,null,null,null,null,null,null,null,null,null,null,null,null,null,null,null,null,null,null,null,null,null,null,null,null,null,null,null,73157,null,null,55863.703999999998,55864,null,0,null,53611.067400000007,55863,55863,58097.52,58097.52,58098,63501.114000000001,63501.114000000001,63502,67313,70208]
["YA9200","MOD:Y92",null,"VS:E","PC:1","BM:1","NC:N",null,null,null,null,null,null,null,null,null,null,null,null,"YA_9200_0021",null,104060,"SS (CF8M)","Base Valve Price",79462.080000000002,77904,75635,75635,73432,71293,104060,{"$f":"ROUNDUP($V485*FX!$G$2*CF!$B$3,0)","v":104060},{"$f":"ROUNDUP($V485*FX!$G$10*CF!$B$4,0)","v":143551},{"$f":"ROUNDUP($V485*FX!$G$35*CF!$B$5,0)","v":69933},{"$f":"ROUNDUP($V485*FX!$G$3*CF!$B$6,0)","v":144696},null,null,null,null,null,null,null,null,null,null,null,null,null,null,null,null,null,null,null,null,null,null,null,null,null,null,null,null,null,null,null,108431,null,null,82800.445999999996,82801,null,0,null,79462.131000000008,82800,82800,86112,86112,86112,94120.415999999997,94120.415999999997,94121,99769,104060]
["YA9200","MOD:Y92",null,"VS:F","PC:1","BM:1","NC:N",null,null,null,null,null,null,null,null,null,null,null,null,"YA_9200_0022",null,"POA","SS (CF8M)","Base Valve Price","POA","POA","POA","POA","POA","POA","POA",{"$f":"ROUNDUP($V486*FX!$G$2*CF!$B$3,0)","v":{"$error":"#VALUE!"}},{"$f":"ROUNDUP($V486*FX!$G$10*CF!$B$4,0)","v":{"$error":"#VALUE!"}},{"$f":"ROUNDUP($V486*FX!$G$35*CF!$B$5,0)","v":{"$error":"#VALUE!"}},{"$f":"ROUNDUP($V486*FX!$G$3*CF!$B$6,0)","v":{"$error":"#VALUE!"}},null,null,null,null,null,null,null,null,null,null,null,null,null,null,null,null,null,null,null,null,null,null,null,null,null,null,null,null,null,null,null,{"$error":"#VALUE!"},null,null,{"$error":"#VALUE!"},{"$f":"AE486","v":"POA"},null,0,null,"POA","POA","POA","POA","POA","POA","POA","POA","POA","POA","POA"]
["YA9200","MOD:Y92",null,"VS:G","PC:1","BM:1","NC:N",null,null,null,null,null,null,null,null,null,null,null,null,"YA_9200_0023",null,"POA","SS (CF8M)","Base Valve Price","POA","POA","POA","POA","POA","POA","POA",{"$f":"ROUNDUP($V487*FX!$G$2*CF!$B$3,0)","v":{"$error":"#VALUE!"}},{"$f":"ROUNDUP($V487*FX!$G$10*CF!$B$4,0)","v":{"$error":"#VALUE!"}},{"$f":"ROUNDUP($V487*FX!$G$35*CF!$B$5,0)","v":{"$error":"#VALUE!"}},{"$f":"ROUNDUP($V487*FX!$G$3*CF!$B$6,0)","v":{"$error":"#VALUE!"}},null,null,null,null,null,null,null,null,null,null,null,null,null,null,null,null,null,null,null,null,null,null,null,null,null,null,null,null,null,null,null,{"$error":"#VALUE!"},null,null,{"$error":"#VALUE!"},{"$f":"AE487","v":"POA"},null,0,null,"POA","POA","POA","POA","POA","POA","POA","POA","POA","POA","POA"]
["YA9200","MOD:Y92",null,"VS:H","PC:1","BM:1","NC:N",null,null,null,null,null,null,null,null,null,null,null,null,"YA_9200_0024",null,"POA","SS (CF8M)","Base Valve Price","POA","POA","POA","POA","POA","POA","POA",{"$f":"ROUNDUP($V488*FX!$G$2*CF!$B$3,0)","v":{"$error":"#VALUE!"}},{"$f":"ROUNDUP($V488*FX!$G$10*CF!$B$4,0)","v":{"$error":"#VALUE!"}},{"$f":"ROUNDUP($V488*FX!$G$35*CF!$B$5,0)","v":{"$error":"#VALUE!"}},{"$f":"ROUNDUP($V488*FX!$G$3*CF!$B$6,0)","v":{"$error":"#VALUE!"}},null,null,null,null,null,null,null,null,null,null,null,null,null,null,null,null,null,null,null,null,null,null,null,null,null,null,null,null,null,null,null,{"$error":"#VALUE!"},null,null,{"$error":"#VALUE!"},{"$f":"AE488","v":"POA"},null,0,null,"POA","POA","POA","POA","POA","POA","POA","POA","POA","POA","POA"]
["YA9200","MOD:Y92",null,"VS:A","PC:2","BM:1","NC:N",null,null,null,null,null,null,null,null,null,null,null,null,"YA_9200_0025",null,42883,"SS (CF8M)","Base Valve Price",32745.06,{"$f":"ROUND(IFERROR(AA489*1.03,\"POA\"),0)","v":32103},31168,31168,30260,29379,42883,{"$f":"ROUNDUP($V489*FX!$G$2*CF!$B$3,0)","v":42883},{"$f":"ROUNDUP($V489*FX!$G$10*CF!$B$4,0)","v":59158},{"$f":"ROUNDUP($V489*FX!$G$35*CF!$B$5,0)","v":28820},{"$f":"ROUNDUP($V489*FX!$G$3*CF!$B$6,0)","v":59629},null,null,null,null,null,null,null,null,null,null,null,null,null,null,null,null,null,null,null,null,null,null,null,null,null,null,null,null,null,null,null,44685,null,null,34121.332000000002,{"$f":"ROUNDUP(BR489,0)","v":34122},null,0,null,32745.1008,{"$f":"ROUNDUP(($BW489+($BX$1*$BW489)),0)","v":34121},{"$f":"ROUNDUP(BX489,0)","v":34121},{"$f":"BY489+(BY489*$BZ$1)","v":35485.839999999997},35485.839999999997,35486,38786.197999999997,38786.197999999997,{"$f":"ROUNDUP(CD489,0)","v":38787},41115,42883]
["YA9200","MOD:Y92",null,"VS:B","PC:2","BM:1","NC:N",null,null,null,null,null,null,null,null,null,null,null,null,"YA_9200_0026",null,51225,"SS (CF8M)","Base Valve Price",39115.980000000003,38349,37232,37232,36148,35095,51225,{"$f":"ROUNDUP($V490*FX!$G$2*CF!$B$3,0)","v":51225},{"$f":"ROUNDUP($V490*FX!$G$10*CF!$B$4,0)","v":70665},{"$f":"ROUNDUP($V490*FX!$G$35*CF!$B$5,0)","v":34426},{"$f":"ROUNDUP($V490*FX!$G$3*CF!$B$6,0)","v":71229},null,null,null,null,null,null,null,null,null,null,null,null,null,null,null,null,null,null,null,null,null,null,null,null,null,null,null,null,null,null,null,53377,null,null,40758.872000000003,40759,null,0,null,39115.939200000001,40759,40759,42389.36,42389.36,42390,46332.27,46332.27,46333,49113,51225]
["YA9200","MOD:Y92",null,"VS:C","PC:2","BM:1","NC:N",null,null,null,null,null,null,null,null,null,null,null,null,"YA_9200_0027",null,60906,"SS (CF8M)","Base Valve Price",46507.92,45596,44268,44268,42979,41727,60906,{"$f":"ROUNDUP($V491*FX!$G$2*CF!$B$3,0)","v":60906},{"$f":"ROUNDUP($V491*FX!$G$10*CF!$B$4,0)","v":84020},{"$f":"ROUNDUP($V491*FX!$G$35*CF!$B$5,0)","v":40932},{"$f":"ROUNDUP($V491*FX!$G$3*CF!$B$6,0)","v":84690},null,null,null,null,null,null,null,null,null,null,null,null,null,null,null,null,null,null,null,null,null,null,null,null,null,null,null,null,null,null,null,63465,null,null,48461.336000000003,48462,null,0,null,46507.960800000001,48462,48462,50400.480000000003,50400.480000000003,50401,55088.292999999998,55088.292999999998,55089,58395,60906]
["YA9200","MOD:Y92",null,"VS:D","PC:2","BM:1","NC:N",null,null,null,null,null,null,null,null,null,null,null,null,"YA_9200_0028",null,72135,"SS (CF8M)","Base Valve Price",55084.08,54004,52431,52431,50904,49421,72135,{"$f":"ROUNDUP($V492*FX!$G$2*CF!$B$3,0)","v":72135},{"$f":"ROUNDUP($V492*FX!$G$10*CF!$B$4,0)","v":99511},{"$f":"ROUNDUP($V492*FX!$G$35*CF!$B$5,0)","v":48478},{"$f":"ROUNDUP($V492*FX!$G$3*CF!$B$6,0)","v":100304},null,null,null,null,null,null,null,null,null,null,null,null,null,null,null,null,null,null,null,null,null,null,null,null,null,null,null,null,null,null,null,75165,null,null,57398.57,57399,null,0,null,55084.008600000001,57398,57398,59693.919999999998,59693.919999999998,59694,65245.542000000001,65245.542000000001,65246,69161,72135]
["YA9200","MOD:Y92",null,"VS:E","PC:2","BM:1","NC:N",null,null,null,null,null,null,null,null,null,null,null,null,"YA_9200_0029",null,106098,"SS (CF8M)","Base Valve Price",81019.62,79431,77117,77117,74871,72690,106098,{"$f":"ROUNDUP($V493*FX!$G$2*CF!$B$3,0)","v":106098},{"$f":"ROUNDUP($V493*FX!$G$10*CF!$B$4,0)","v":146363},{"$f":"ROUNDUP($V493*FX!$G$35*CF!$B$5,0)","v":71303},{"$f":"ROUNDUP($V493*FX!$G$3*CF!$B$6,0)","v":147530},null,null,null,null,null,null,null,null,null,null,null,null,null,null,null,null,null,null,null,null,null,null,null,null,null,null,null,null,null,null,null,110555,null,null,84422.84,84423,null,0,null,81019.120200000005,84422,84422,87798.88,87798.88,87799,95964.307000000001,95964.307000000001,95965,101723,106098]
["YA9200","MOD:Y92",null,"VS:F","PC:2","BM:1","NC:N",null,null,null,null,null,null,null,null,null,null,null,null,"YA_9200_0030",null,"POA","SS (CF8M)","Base Valve Price","POA","POA","POA","POA","POA","POA","POA",{"$f":"ROUNDUP($V494*FX!$G$2*CF!$B$3,0)","v":{"$error":"#VALUE!"}},{"$f":"ROUNDUP($V494*FX!$G$10*CF!$B$4,0)","v":{"$error":"#VALUE!"}},{"$f":"ROUNDUP($V494*FX!$G$35*CF!$B$5,0)","v":{"$error":"#VALUE!"}},{"$f":"ROUNDUP($V494*FX!$G$3*CF!$B$6,0)","v":{"$error":"#VALUE!"}},null,null,null,null,null,null,null,null,null,null,null,null,null,null,null,null,null,null,null,null,null,null,null,null,null,null,null,null,null,null,null,{"$error":"#VALUE!"},null,null,{"$error":"#VALUE!"},{"$f":"AE494","v":"POA"},null,0,null,"POA","POA","POA","POA","POA","POA","POA","POA","POA","POA","POA"]
["YA9200","MOD:Y92",null,"VS:G","PC:2","BM:1","NC:N",null,null,null,null,null,null,null,null,null,null,null,null,"YA_9200_0031",null,"POA","SS (CF8M)","Base Valve Price","POA","POA","POA","POA","POA","POA","POA",{"$f":"ROUNDUP($V495*FX!$G$2*CF!$B$3,0)","v":{"$error":"#VALUE!"}},{"$f":"ROUNDUP($V495*FX!$G$10*CF!$B$4,0)","v":{"$error":"#VALUE!"}},{"$f":"ROUNDUP($V495*FX!$G$35*CF!$B$5,0)","v":{"$error":"#VALUE!"}},{"$f":"ROUNDUP($V495*FX!$G$3*CF!$B$6,0)","v":{"$error":"#VALUE!"}},null,null,null,null,null,null,null,null,null,null,null,null,null,null,null,null,null,null,null,null,null,null,null,null,null,null,null,null,null,null,null,{"$error":"#VALUE!"},null,null,{"$error":"#VALUE!"},"POA",null,0,null,"POA","POA","POA","POA","POA","POA","POA","POA","POA","POA","POA"]
["YA9200","MOD:Y92",null,"VS:H","PC:2","BM:1","NC:N",null,null,null,null,null,null,null,null,null,null,null,null,"YA_9200_0032",null,"POA","SS (CF8M)","Base Valve Price","POA","POA","POA","POA","POA","POA","POA",{"$f":"ROUNDUP($V496*FX!$G$2*CF!$B$3,0)","v":{"$error":"#VALUE!"}},{"$f":"ROUNDUP($V496*FX!$G$10*CF!$B$4,0)","v":{"$error":"#VALUE!"}},{"$f":"ROUNDUP($V496*FX!$G$35*CF!$B$5,0)","v":{"$error":"#VALUE!"}},{"$f":"ROUNDUP($V496*FX!$G$3*CF!$B$6,0)","v":{"$error":"#VALUE!"}},null,null,null,null,null,null,null,null,null,null,null,null,null,null,null,null,null,null,null,null,null,null,null,null,null,null,null,null,null,null,null,{"$error":"#VALUE!"},null,null,{"$error":"#VALUE!"},"POA",null,0,null,"POA","POA","POA","POA","POA","POA","POA","POA","POA","POA","POA"]
["YA9200","MOD:Y92",null,"VS:A","PC:1","BM:5","NC:N",null,null,null,null,null,null,null,null,null,null,null,null,"YA_9200_0033",null,"POA","S Dupx (CD3MWCuN)","Base Valve Price","POA","POA","POA","POA","POA","POA","POA",{"$f":"ROUNDUP($V497*FX!$G$2*CF!$B$3,0)","v":{"$error":"#VALUE!"}},{"$f":"ROUNDUP($V497*FX!$G$10*CF!$B$4,0)","v":{"$error":"#VALUE!"}},{"$f":"ROUNDUP($V497*FX!$G$35*CF!$B$5,0)","v":{"$error":"#VALUE!"}},{"$f":"ROUNDUP($V497*FX!$G$3*CF!$B$6,0)","v":{"$error":"#VALUE!"}},null,null,null,null,null,null,null,null,null,null,null,null,null,null,null,null,null,null,null,null,null,null,null,null,null,null,null,null,null,null,null,{"$error":"#VALUE!"},null,null,{"$error":"#VALUE!"},"POA",null,0,null,"POA","POA","POA","POA","POA","POA","POA","POA","POA","POA","POA"]
["YA9200","MOD:Y92",null,"VS:B","PC:1","BM:5","NC:N",null,null,null,null,null,null,null,null,null,null,null,null,"YA_9200_0034",null,"POA","S Dupx (CD3MWCuN)","Base Valve Price","POA","POA","POA","POA","POA","POA","POA",{"$f":"ROUNDUP($V498*FX!$G$2*CF!$B$3,0)","v":{"$error":"#VALUE!"}},{"$f":"ROUNDUP($V498*FX!$G$10*CF!$B$4,0)","v":{"$error":"#VALUE!"}},{"$f":"ROUNDUP($V498*FX!$G$35*CF!$B$5,0)","v":{"$error":"#VALUE!"}},{"$f":"ROUNDUP($V498*FX!$G$3*CF!$B$6,0)","v":{"$error":"#VALUE!"}},null,null,null,null,null,null,null,null,null,null,null,null,null,null,null,null,null,null,null,null,null,null,null,null,null,null,null,null,null,null,null,{"$error":"#VALUE!"},null,null,{"$error":"#VALUE!"},"POA",null,0,null,"POA","POA","POA","POA","POA","POA","POA","POA","POA","POA","POA"]
["YA9200","MOD:Y92",null,"VS:C","PC:1","BM:5","NC:N",null,null,null,null,null,null,null,null,null,null,null,null,"YA_9200_0035",null,"POA","S Dupx (CD3MWCuN)","Base Valve Price","POA","POA","POA","POA","POA","POA","POA",{"$f":"ROUNDUP($V499*FX!$G$2*CF!$B$3,0)","v":{"$error":"#VALUE!"}},{"$f":"ROUNDUP($V499*FX!$G$10*CF!$B$4,0)","v":{"$error":"#VALUE!"}},{"$f":"ROUNDUP($V499*FX!$G$35*CF!$B$5,0)","v":{"$error":"#VALUE!"}},{"$f":"ROUNDUP($V499*FX!$G$3*CF!$B$6,0)","v":{"$error":"#VALUE!"}},null,null,null,null,null,null,null,null,null,null,null,null,null,null,null,null,null,null,null,null,null,null,null,null,null,null,null,null,null,null,null,{"$error":"#VALUE!"},null,null,{"$error":"#VALUE!"},"POA",null,0,null,"POA","POA","POA","POA","POA","POA","POA","POA","POA","POA","POA"]
["YA9200","MOD:Y92",null,"VS:D","PC:1","BM:5","NC:N",null,null,null,null,null,null,null,null,null,null,null,null,"YA_9200_0036",null,"POA","S Dupx (CD3MWCuN)","Base Valve Price","POA","POA","POA","POA","POA","POA","POA",{"$f":"ROUNDUP($V500*FX!$G$2*CF!$B$3,0)","v":{"$error":"#VALUE!"}},{"$f":"ROUNDUP($V500*FX!$G$10*CF!$B$4,0)","v":{"$error":"#VALUE!"}},{"$f":"ROUNDUP($V500*FX!$G$35*CF!$B$5,0)","v":{"$error":"#VALUE!"}},{"$f":"ROUNDUP($V500*FX!$G$3*CF!$B$6,0)","v":{"$error":"#VALUE!"}},null,null,null,null,null,null,null,null,null,null,null,null,null,null,null,null,null,null,null,null,null,null,null,null,null,null,null,null,null,null,null,{"$error":"#VALUE!"},null,null,{"$error":"#VALUE!"},"POA",null,0,null,"POA","POA","POA","POA","POA","POA","POA","POA","POA","POA","POA"]
["YA9200","MOD:Y92",null,"VS:E","PC:1","BM:5","NC:N",null,null,null,null,null,null,null,null,null,null,null,null,"YA_9200_0037",null,"POA","S Dupx (CD3MWCuN)","Base Valve Price","POA","POA","POA","POA","POA","POA","POA",{"$f":"ROUNDUP($V501*FX!$G$2*CF!$B$3,0)","v":{"$error":"#VALUE!"}},{"$f":"ROUNDUP($V501*FX!$G$10*CF!$B$4,0)","v":{"$error":"#VALUE!"}},{"$f":"ROUNDUP($V501*FX!$G$35*CF!$B$5,0)","v":{"$error":"#VALUE!"}},{"$f":"ROUNDUP($V501*FX!$G$3*CF!$B$6,0)","v":{"$error":"#VALUE!"}},null,null,null,null,null,null,null,null,null,null,null,null,null,null,null,null,null,null,null,null,null,null,null,null,null,null,null,null,null,null,null,{"$error":"#VALUE!"},null,null,{"$error":"#VALUE!"},"POA",null,0,null,"POA","POA","POA","POA","POA","POA","POA","POA","POA","POA","POA"]
["YA9200","MOD:Y92",null,"VS:F","PC:1","BM:5","NC:N",null,null,null,null,null,null,null,null,null,null,null,null,"YA_9200_0038",null,"POA","S Dupx (CD3MWCuN)","Base Valve Price","POA","POA","POA","POA","POA","POA","POA",{"$f":"ROUNDUP($V502*FX!$G$2*CF!$B$3,0)","v":{"$error":"#VALUE!"}},{"$f":"ROUNDUP($V502*FX!$G$10*CF!$B$4,0)","v":{"$error":"#VALUE!"}},{"$f":"ROUNDUP($V502*FX!$G$35*CF!$B$5,0)","v":{"$error":"#VALUE!"}},{"$f":"ROUNDUP($V502*FX!$G$3*CF!$B$6,0)","v":{"$error":"#VALUE!"}},null,null,null,null,null,null,null,null,null,null,null,null,null,null,null,null,null,null,null,null,null,null,null,null,null,null,null,null,null,null,null,{"$error":"#VALUE!"},null,null,{"$error":"#VALUE!"},"POA",null,0,null,"POA","POA","POA","POA","POA","POA","POA","POA","POA","POA","POA"]
["YA9200","MOD:Y92",null,"VS:G","PC:1","BM:5","NC:N",null,null,null,null,null,null,null,null,null,null,null,null,"YA_9200_0039",null,"POA","S Dupx (CD3MWCuN)","Base Valve Price","POA","POA","POA","POA","POA","POA","POA",{"$f":"ROUNDUP($V503*FX!$G$2*CF!$B$3,0)","v":{"$error":"#VALUE!"}},{"$f":"ROUNDUP($V503*FX!$G$10*CF!$B$4,0)","v":{"$error":"#VALUE!"}},{"$f":"ROUNDUP($V503*FX!$G$35*CF!$B$5,0)","v":{"$error":"#VALUE!"}},{"$f":"ROUNDUP($V503*FX!$G$3*CF!$B$6,0)","v":{"$error":"#VALUE!"}},null,null,null,null,null,null,null,null,null,null,null,null,null,null,null,null,null,null,null,null,null,null,null,null,null,null,null,null,null,null,null,{"$error":"#VALUE!"},null,null,{"$error":"#VALUE!"},"POA",null,0,null,"POA","POA","POA","POA","POA","POA","POA","POA","POA","POA","POA"]
["YA9200","MOD:Y92",null,"VS:H","PC:1","BM:5","NC:N",null,null,null,null,null,null,null,null,null,null,null,null,"YA_9200_0040",null,"POA","S Dupx (CD3MWCuN)","Base Valve Price","POA","POA","POA","POA","POA","POA","POA",{"$f":"ROUNDUP($V504*FX!$G$2*CF!$B$3,0)","v":{"$error":"#VALUE!"}},{"$f":"ROUNDUP($V504*FX!$G$10*CF!$B$4,0)","v":{"$error":"#VALUE!"}},{"$f":"ROUNDUP($V504*FX!$G$35*CF!$B$5,0)","v":{"$error":"#VALUE!"}},{"$f":"ROUNDUP($V504*FX!$G$3*CF!$B$6,0)","v":{"$error":"#VALUE!"}},null,null,null,null,null,null,null,null,null,null,null,null,null,null,null,null,null,null,null,null,null,null,null,null,null,null,null,null,null,null,null,{"$error":"#VALUE!"},null,null,{"$error":"#VALUE!"},"POA",null,0,null,"POA","POA","POA","POA","POA","POA","POA","POA","POA","POA","POA"]
["YA9200","MOD:Y92",null,"VS:A","PC:2","BM:5","NC:N",null,null,null,null,null,null,null,null,null,null,null,null,"YA_9200_0041",null,"POA","S Dupx (CD3MWCuN)","Base Valve Price","POA","POA","POA","POA","POA","POA","POA",{"$f":"ROUNDUP($V505*FX!$G$2*CF!$B$3,0)","v":{"$error":"#VALUE!"}},{"$f":"ROUNDUP($V505*FX!$G$10*CF!$B$4,0)","v":{"$error":"#VALUE!"}},{"$f":"ROUNDUP($V505*FX!$G$35*CF!$B$5,0)","v":{"$error":"#VALUE!"}},{"$f":"ROUNDUP($V505*FX!$G$3*CF!$B$6,0)","v":{"$error":"#VALUE!"}},null,null,null,null,null,null,null,null,null,null,null,null,null,null,null,null,null,null,null,null,null,null,null,null,null,null,null,null,null,null,null,{"$error":"#VALUE!"},null,null,{"$error":"#VALUE!"},"POA",null,0,null,"POA","POA","POA","POA","POA","POA","POA","POA","POA","POA","POA"]
["YA9200","MOD:Y92",null,"VS:B","PC:2","BM:5","NC:N",null,null,null,null,null,null,null,null,null,null,null,null,"YA_9200_0042",null,"POA","S Dupx (CD3MWCuN)","Base Valve Price","POA","POA","POA","POA","POA","POA","POA",{"$f":"ROUNDUP($V506*FX!$G$2*CF!$B$3,0)","v":{"$error":"#VALUE!"}},{"$f":"ROUNDUP($V506*FX!$G$10*CF!$B$4,0)","v":{"$error":"#VALUE!"}},{"$f":"ROUNDUP($V506*FX!$G$35*CF!$B$5,0)","v":{"$error":"#VALUE!"}},{"$f":"ROUNDUP($V506*FX!$G$3*CF!$B$6,0)","v":{"$error":"#VALUE!"}},null,null,null,null,null,null,null,null,null,null,null,null,null,null,null,null,null,null,null,null,null,null,null,null,null,null,null,null,null,null,null,{"$error":"#VALUE!"},null,null,{"$error":"#VALUE!"},"POA",null,0,null,"POA","POA","POA","POA","POA","POA","POA","POA","POA","POA","POA"]
["YA9200","MOD:Y92",null,"VS:C","PC:2","BM:5","NC:N",null,null,null,null,null,null,null,null,null,null,null,null,"YA_9200_0043",null,"POA","S Dupx (CD3MWCuN)","Base Valve Price","POA","POA","POA","POA","POA","POA","POA",{"$f":"ROUNDUP($V507*FX!$G$2*CF!$B$3,0)","v":{"$error":"#VALUE!"}},{"$f":"ROUNDUP($V507*FX!$G$10*CF!$B$4,0)","v":{"$error":"#VALUE!"}},{"$f":"ROUNDUP($V507*FX!$G$35*CF!$B$5,0)","v":{"$error":"#VALUE!"}},{"$f":"ROUNDUP($V507*FX!$G$3*CF!$B$6,0)","v":{"$error":"#VALUE!"}},null,null,null,null,null,null,null,null,null,null,null,null,null,null,null,null,null,null,null,null,null,null,null,null,null,null,null,null,null,null,null,{"$error":"#VALUE!"},null,null,{"$error":"#VALUE!"},"POA",null,0,null,"POA","POA","POA","POA","POA","POA","POA","POA","POA","POA","POA"]
["YA9200","MOD:Y92",null,"VS:D","PC:2","BM:5","NC:N",null,null,null,null,null,null,null,null,null,null,null,null,"YA_9200_0044",null,"POA","S Dupx (CD3MWCuN)","Base Valve Price","POA","POA","POA","POA","POA","POA","POA",{"$f":"ROUNDUP($V508*FX!$G$2*CF!$B$3,0)","v":{"$error":"#VALUE!"}},{"$f":"ROUNDUP($V508*FX!$G$10*CF!$B$4,0)","v":{"$error":"#VALUE!"}},{"$f":"ROUNDUP($V508*FX!$G$35*CF!$B$5,0)","v":{"$error":"#VALUE!"}},{"$f":"ROUNDUP($V508*FX!$G$3*CF!$B$6,0)","v":{"$error":"#VALUE!"}},null,null,null,null,null,null,null,null,null,null,null,null,null,null,null,null,null,null,null,null,null,null,null,null,null,null,null,null,null,null,null,{"$error":"#VALUE!"},null,null,{"$error":"#VALUE!"},"POA",null,0,null,"POA","POA","POA","POA","POA","POA","POA","POA","POA","POA","POA"]
["YA9200","MOD:Y92",null,"VS:E","PC:2","BM:5","NC:N",null,null,null,null,null,null,null,null,null,null,null,null,"YA_9200_0045",null,"POA","S Dupx (CD3MWCuN)","Base Valve Price","POA","POA","POA","POA","POA","POA","POA",{"$f":"ROUNDUP($V509*FX!$G$2*CF!$B$3,0)","v":{"$error":"#VALUE!"}},{"$f":"ROUNDUP($V509*FX!$G$10*CF!$B$4,0)","v":{"$error":"#VALUE!"}},{"$f":"ROUNDUP($V509*FX!$G$35*CF!$B$5,0)","v":{"$error":"#VALUE!"}},{"$f":"ROUNDUP($V509*FX!$G$3*CF!$B$6,0)","v":{"$error":"#VALUE!"}},null,null,null,null,null,null,null,null,null,null,null,null,null,null,null,null,null,null,null,null,null,null,null,null,null,null,null,null,null,null,null,{"$error":"#VALUE!"},null,null,{"$error":"#VALUE!"},"POA",null,0,null,"POA","POA","POA","POA","POA","POA","POA","POA","POA","POA","POA"]
["YA9200","MOD:Y92",null,"VS:F","PC:2","BM:5","NC:N",null,null,null,null,null,null,null,null,null,null,null,null,"YA_9200_0046",null,"POA","S Dupx (CD3MWCuN)","Base Valve Price","POA","POA","POA","POA","POA","POA","POA",{"$f":"ROUNDUP($V510*FX!$G$2*CF!$B$3,0)","v":{"$error":"#VALUE!"}},{"$f":"ROUNDUP($V510*FX!$G$10*CF!$B$4,0)","v":{"$error":"#VALUE!"}},{"$f":"ROUNDUP($V510*FX!$G$35*CF!$B$5,0)","v":{"$error":"#VALUE!"}},{"$f":"ROUNDUP($V510*FX!$G$3*CF!$B$6,0)","v":{"$error":"#VALUE!"}},null,null,null,null,null,null,null,null,null,null,null,null,null,null,null,null,null,null,null,null,null,null,null,null,null,null,null,null,null,null,null,{"$error":"#VALUE!"},null,null,{"$error":"#VALUE!"},"POA",null,0,null,"POA","POA","POA","POA","POA","POA","POA","POA","POA","POA","POA"]
["YA9200","MOD:Y92",null,"VS:G","PC:2","BM:5","NC:N",null,null,null,null,null,null,null,null,null,null,null,null,"YA_9200_0047",null,"POA","S Dupx (CD3MWCuN)","Base Valve Price","POA","POA","POA","POA","POA","POA","POA",{"$f":"ROUNDUP($V511*FX!$G$2*CF!$B$3,0)","v":{"$error":"#VALUE!"}},{"$f":"ROUNDUP($V511*FX!$G$10*CF!$B$4,0)","v":{"$error":"#VALUE!"}},{"$f":"ROUNDUP($V511*FX!$G$35*CF!$B$5,0)","v":{"$error":"#VALUE!"}},{"$f":"ROUNDUP($V511*FX!$G$3*CF!$B$6,0)","v":{"$error":"#VALUE!"}},null,null,null,null,null,null,null,null,null,null,null,null,null,null,null,null,null,null,null,null,null,null,null,null,null,null,null,null,null,null,null,{"$error":"#VALUE!"},null,null,{"$error":"#VALUE!"},"POA",null,0,null,"POA","POA","POA","POA","POA","POA","POA","POA","POA","POA","POA"]
["YA9200","MOD:Y92",null,"VS:H","PC:2","BM:5","NC:N",null,null,null,null,null,null,null,null,null,null,null,null,"YA_9200_0048",null,"POA","S Dupx (CD3MWCuN)","Base Valve Price","POA","POA","POA","POA","POA","POA","POA",{"$f":"ROUNDUP($V512*FX!$G$2*CF!$B$3,0)","v":{"$error":"#VALUE!"}},{"$f":"ROUNDUP($V512*FX!$G$10*CF!$B$4,0)","v":{"$error":"#VALUE!"}},{"$f":"ROUNDUP($V512*FX!$G$35*CF!$B$5,0)","v":{"$error":"#VALUE!"}},{"$f":"ROUNDUP($V512*FX!$G$3*CF!$B$6,0)","v":{"$error":"#VALUE!"}},null,null,null,null,null,null,null,null,null,null,null,null,null,null,null,null,null,null,null,null,null,null,null,null,null,null,null,null,null,null,null,{"$error":"#VALUE!"},null,null,{"$error":"#VALUE!"},"POA",null,0,null,"POA","POA","POA","POA","POA","POA","POA","POA","POA","POA","POA"]
["YA9200","MOD:Y92",null,"VS:A","PC:1","BM:6","NC:N",null,null,null,null,null,null,null,null,null,null,null,null,"YA_9200_0049",null,"POA","6Mo (CK3MCuN)","Base Valve Price","POA","POA","POA","POA","POA","POA","POA",{"$f":"ROUNDUP($V513*FX!$G$2*CF!$B$3,0)","v":{"$error":"#VALUE!"}},{"$f":"ROUNDUP($V513*FX!$G$10*CF!$B$4,0)","v":{"$error":"#VALUE!"}},{"$f":"ROUNDUP($V513*FX!$G$35*CF!$B$5,0)","v":{"$error":"#VALUE!"}},{"$f":"ROUNDUP($V513*FX!$G$3*CF!$B$6,0)","v":{"$error":"#VALUE!"}},null,null,null,null,null,null,null,null,null,null,null,null,null,null,null,null,null,null,null,null,null,null,null,null,null,null,null,null,null,null,null,{"$error":"#VALUE!"},null,null,{"$error":"#VALUE!"},"POA",null,0,null,"POA","POA","POA","POA","POA","POA","POA","POA","POA","POA","POA"]
["YA9200","MOD:Y92",null,"VS:B","PC:1","BM:6","NC:N",null,null,null,null,null,null,null,null,null,null,null,null,"YA_9200_0050",null,{"$f":"AE514","v":"POA"},"6Mo (CK3MCuN)","Base Valve Price","POA",{"$f":"IFERROR(AA514*1.03,\"POA\")","v":"POA"},"POA","POA","POA","POA","POA",{"$f":"ROUNDUP($V514*FX!$G$2*CF!$B$3,0)","v":{"$error":"#VALUE!"}},{"$f":"ROUNDUP($V514*FX!$G$10*CF!$B$4,0)","v":{"$error":"#VALUE!"}},{"$f":"ROUNDUP($V514*FX!$G$35*CF!$B$5,0)","v":{"$error":"#VALUE!"}},{"$f":"ROUNDUP($V514*FX!$G$3*CF!$B$6,0)","v":{"$error":"#VALUE!"}},null,null,null,null,null,null,null,null,null,null,null,null,null,null,null,null,null,null,null,null,null,null,null,null,null,null,null,null,null,null,null,{"$error":"#VALUE!"},null,null,{"$error":"#VALUE!"},"POA",null,0,null,"POA","POA","POA","POA","POA","POA","POA","POA","POA",{"$f":"IF(CE514=\"POA\",\"POA\", ROUNDUP(CE514*1.06,0))","v":"POA"},"POA"]
["YA9200","MOD:Y92",null,"VS:C","PC:1","BM:6","NC:N",null,null,null,null,null,null,null,null,null,null,null,null,"YA_9200_0051",null,"POA","6Mo (CK3MCuN)","Base Valve Price",{"$f":"IFERROR(Z515*1.02,\"POA\")","v":"POA"},"POA","POA","POA","POA","POA",{"$f":"CG515","v":"POA"},{"$f":"ROUNDUP($V515*FX!$G$2*CF!$B$3,0)","v":{"$error":"#VALUE!"}},{"$f":"ROUNDUP($V515*FX!$G$10*CF!$B$4,0)","v":{"$error":"#VALUE!"}},{"$f":"ROUNDUP($V515*FX!$G$35*CF!$B$5,0)","v":{"$error":"#VALUE!"}},{"$f":"ROUNDUP($V515*FX!$G$3*CF!$B$6,0)","v":{"$error":"#VALUE!"}},null,null,null,null,null,null,null,null,null,null,null,null,null,null,null,null,null,null,null,null,null,null,null,null,null,null,null,null,null,null,null,{"$f":"ROUNDUP(($AE515+($AE515*$BO$1)),0)","v":{"$error":"#VALUE!"}},null,null,{"$error":"#VALUE!"},"POA",null,{"$f":"ROUNDUP(BT515,0)","v":0},null,"POA","POA","POA","POA","POA","POA","POA","POA","POA","POA",{"$f":"IF(CF515=\"POA\",\"POA\", ROUNDUP(CF515*1.043,0))","v":"POA"}]
["YA9200","MOD:Y92",null,"VS:D","PC:1","BM:6","NC:N",null,null,null,null,null,null,null,null,null,null,null,null,"YA_9200_0052",null,"POA","6Mo (CK3MCuN)","Base Valve Price","POA","POA","POA","POA","POA","POA","POA",{"$f":"ROUNDUP($V516*FX!$G$2*CF!$B$3,0)","v":{"$error":"#VALUE!"}},{"$f":"ROUNDUP($V516*FX!$G$10*CF!$B$4,0)","v":{"$error":"#VALUE!"}},{"$f":"ROUNDUP($V516*FX!$G$35*CF!$B$5,0)","v":{"$error":"#VALUE!"}},{"$f":"ROUNDUP($V516*FX!$G$3*CF!$B$6,0)","v":{"$error":"#VALUE!"}},null,null,null,null,null,null,null,null,null,null,null,null,null,null,null,null,null,null,null,null,null,null,null,null,null,null,null,null,null,null,null,{"$error":"#VALUE!"},null,null,{"$error":"#VALUE!"},"POA",null,0,null,"POA","POA","POA","POA","POA","POA","POA","POA","POA","POA","POA"]
["YA9200","MOD:Y92",null,"VS:E","PC:1","BM:6","NC:N",null,null,null,null,null,null,null,null,null,null,null,null,"YA_9200_0053",null,"POA","6Mo (CK3MCuN)","Base Valve Price","POA","POA","POA","POA","POA","POA","POA",{"$f":"ROUNDUP($V517*FX!$G$2*CF!$B$3,0)","v":{"$error":"#VALUE!"}},{"$f":"ROUNDUP($V517*FX!$G$10*CF!$B$4,0)","v":{"$error":"#VALUE!"}},{"$f":"ROUNDUP($V517*FX!$G$35*CF!$B$5,0)","v":{"$error":"#VALUE!"}},{"$f":"ROUNDUP($V517*FX!$G$3*CF!$B$6,0)","v":{"$error":"#VALUE!"}},null,null,null,null,null,null,null,null,null,null,null,null,null,null,null,null,null,null,null,null,null,null,null,null,null,null,null,null,null,null,null,{"$error":"#VALUE!"},null,null,{"$error":"#VALUE!"},"POA",null,0,null,"POA","POA","POA","POA","POA","POA","POA","POA","POA","POA","POA"]
["YA9200","MOD:Y92",null,"VS:F","PC:1","BM:6","NC:N",null,null,null,null,null,null,null,null,null,null,null,null,"YA_9200_0054",null,"POA","6Mo (CK3MCuN)","Base Valve Price","POA","POA","POA","POA","POA","POA","POA",{"$f":"ROUNDUP($V518*FX!$G$2*CF!$B$3,0)","v":{"$error":"#VALUE!"}},{"$f":"ROUNDUP($V518*FX!$G$10*CF!$B$4,0)","v":{"$error":"#VALUE!"}},{"$f":"ROUNDUP($V518*FX!$G$35*CF!$B$5,0)","v":{"$error":"#VALUE!"}},{"$f":"ROUNDUP($V518*FX!$G$3*CF!$B$6,0)","v":{"$error":"#VALUE!"}},null,null,null,null,null,null,null,null,null,null,null,null,null,null,null,null,null,null,null,null,null,null,null,null,null,null,null,null,null,null,null,{"$error":"#VALUE!"},null,null,{"$error":"#VALUE!"},"POA",null,0,null,"POA","POA","POA","POA","POA","POA","POA","POA","POA","POA","POA"]
["YA9200","MOD:Y92",null,"VS:G","PC:1","BM:6","NC:N",null,null,null,null,null,null,null,null,null,null,null,null,"YA_9200_0055",null,"POA","6Mo (CK3MCuN)","Base Valve Price","POA","POA","POA","POA","POA","POA","POA",{"$f":"ROUNDUP($V519*FX!$G$2*CF!$B$3,0)","v":{"$error":"#VALUE!"}},{"$f":"ROUNDUP($V519*FX!$G$10*CF!$B$4,0)","v":{"$error":"#VALUE!"}},{"$f":"ROUNDUP($V519*FX!$G$35*CF!$B$5,0)","v":{"$error":"#VALUE!"}},{"$f":"ROUNDUP($V519*FX!$G$3*CF!$B$6,0)","v":{"$error":"#VALUE!"}},null,null,null,null,null,null,null,null,null,null,null,null,null,null,null,null,null,null,null,null,null,null,null,null,null,null,null,null,null,null,null,{"$error":"#VALUE!"},null,null,{"$error":"#VALUE!"},"POA",null,0,null,"POA","POA","POA","POA","POA","POA","POA","POA","POA","POA","POA"]
["YA9200","MOD:Y92",null,"VS:H","PC:1","BM:6","NC:N",null,null,null,null,null,null,null,null,null,null,null,null,"YA_9200_0056",null,"POA","6Mo (CK3MCuN)","Base Valve Price","POA","POA","POA","POA","POA","POA","POA",{"$f":"ROUNDUP($V520*FX!$G$2*CF!$B$3,0)","v":{"$error":"#VALUE!"}},{"$f":"ROUNDUP($V520*FX!$G$10*CF!$B$4,0)","v":{"$error":"#VALUE!"}},{"$f":"ROUNDUP($V520*FX!$G$35*CF!$B$5,0)","v":{"$error":"#VALUE!"}},{"$f":"ROUNDUP($V520*FX!$G$3*CF!$B$6,0)","v":{"$error":"#VALUE!"}},null,null,null,null,null,null,null,null,null,null,null,null,null,null,null,null,null,null,null,null,null,null,null,null,null,null,null,null,null,null,null,{"$error":"#VALUE!"},null,null,{"$error":"#VALUE!"},"POA",null,0,null,"POA","POA","POA","POA","POA","POA","POA","POA","POA","POA","POA"]
["YA9200","MOD:Y92",null,"VS:A","PC:2","BM:6","NC:N",null,null,null,null,null,null,null,null,null,null,null,null,"YA_9200_0057",null,"POA","6Mo (CK3MCuN)","Base Valve Price","POA","POA","POA","POA","POA","POA","POA",{"$f":"ROUNDUP($V521*FX!$G$2*CF!$B$3,0)","v":{"$error":"#VALUE!"}},{"$f":"ROUNDUP($V521*FX!$G$10*CF!$B$4,0)","v":{"$error":"#VALUE!"}},{"$f":"ROUNDUP($V521*FX!$G$35*CF!$B$5,0)","v":{"$error":"#VALUE!"}},{"$f":"ROUNDUP($V521*FX!$G$3*CF!$B$6,0)","v":{"$error":"#VALUE!"}},null,null,null,null,null,null,null,null,null,null,null,null,null,null,null,null,null,null,null,null,null,null,null,null,null,null,null,null,null,null,null,{"$error":"#VALUE!"},null,null,{"$error":"#VALUE!"},"POA",null,0,null,"POA","POA","POA","POA","POA","POA","POA","POA","POA","POA","POA"]
["YA9200","MOD:Y92",null,"VS:B","PC:2","BM:6","NC:N",null,null,null,null,null,null,null,null,null,null,null,null,"YA_9200_0058",null,"POA","6Mo (CK3MCuN)","Base Valve Price","POA","POA","POA","POA","POA","POA","POA",{"$f":"ROUNDUP($V522*FX!$G$2*CF!$B$3,0)","v":{"$error":"#VALUE!"}},{"$f":"ROUNDUP($V522*FX!$G$10*CF!$B$4,0)","v":{"$error":"#VALUE!"}},{"$f":"ROUNDUP($V522*FX!$G$35*CF!$B$5,0)","v":{"$error":"#VALUE!"}},{"$f":"ROUNDUP($V522*FX!$G$3*CF!$B$6,0)","v":{"$error":"#VALUE!"}},null,null,null,null,null,null,null,null,null,null,null,null,null,null,null,null,null,null,null,null,null,null,null,null,null,null,null,null,null,null,null,{"$error":"#VALUE!"},null,null,{"$error":"#VALUE!"},"POA",null,0,null,"POA","POA","POA","POA","POA","POA","POA","POA","POA","POA","POA"]
["YA9200","MOD:Y92",null,"VS:C","PC:2","BM:6","NC:N",null,null,null,null,null,null,null,null,null,null,null,null,"YA_9200_0059",null,"POA","6Mo (CK3MCuN)","Base Valve Price","POA","POA","POA","POA","POA","POA","POA",{"$f":"ROUNDUP($V523*FX!$G$2*CF!$B$3,0)","v":{"$error":"#VALUE!"}},{"$f":"ROUNDUP($V523*FX!$G$10*CF!$B$4,0)","v":{"$error":"#VALUE!"}},{"$f":"ROUNDUP($V523*FX!$G$35*CF!$B$5,0)","v":{"$error":"#VALUE!"}},{"$f":"ROUNDUP($V523*FX!$G$3*CF!$B$6,0)","v":{"$error":"#VALUE!"}},null,null,null,null,null,null,null,null,null,null,null,null,null,null,null,null,null,null,null,null,null,null,null,null,null,null,null,null,null,null,null,{"$error":"#VALUE!"},null,null,{"$error":"#VALUE!"},"POA",null,0,null,"POA","POA","POA","POA","POA","POA","POA","POA","POA","POA","POA"]
["YA9200","MOD:Y92",null,"VS:D","PC:2","BM:6","NC:N",null,null,null,null,null,null,null,null,null,null,null,null,"YA_9200_0060",null,"POA","6Mo (CK3MCuN)","Base Valve Price","POA","POA","POA","POA","POA","POA","POA",{"$f":"ROUNDUP($V524*FX!$G$2*CF!$B$3,0)","v":{"$error":"#VALUE!"}},{"$f":"ROUNDUP($V524*FX!$G$10*CF!$B$4,0)","v":{"$error":"#VALUE!"}},{"$f":"ROUNDUP($V524*FX!$G$35*CF!$B$5,0)","v":{"$error":"#VALUE!"}},{"$f":"ROUNDUP($V524*FX!$G$3*CF!$B$6,0)","v":{"$error":"#VALUE!"}},null,null,null,null,null,null,null,null,null,null,null,null,null,null,null,null,null,null,null,null,null,null,null,null,null,null,null,null,null,null,null,{"$error":"#VALUE!"},null,null,{"$error":"#VALUE!"},"POA",null,0,null,"POA","POA","POA","POA","POA","POA","POA","POA","POA","POA","POA"]
["YA9200","MOD:Y92",null,"VS:E","PC:2","BM:6","NC:N",null,null,null,null,null,null,null,null,null,null,null,null,"YA_9200_0061",null,"POA","6Mo (CK3MCuN)","Base Valve Price","POA","POA","POA","POA","POA","POA","POA",{"$f":"ROUNDUP($V525*FX!$G$2*CF!$B$3,0)","v":{"$error":"#VALUE!"}},{"$f":"ROUNDUP($V525*FX!$G$10*CF!$B$4,0)","v":{"$error":"#VALUE!"}},{"$f":"ROUNDUP($V525*FX!$G$35*CF!$B$5,0)","v":{"$error":"#VALUE!"}},{"$f":"ROUNDUP($V525*FX!$G$3*CF!$B$6,0)","v":{"$error":"#VALUE!"}},null,null,null,null,null,null,null,null,null,null,null,null,null,null,null,null,null,null,null,null,null,null,null,null,null,null,null,null,null,null,null,{"$error":"#VALUE!"},null,null,{"$error":"#VALUE!"},"POA",null,0,null,"POA","POA","POA","POA","POA","POA","POA","POA","POA","POA","POA"]
["YA9200","MOD:Y92",null,"VS:F","PC:2","BM:6","NC:N",null,null,null,null,null,null,null,null,null,null,null,null,"YA_9200_0062",null,"POA","6Mo (CK3MCuN)","Base Valve Price","POA","POA","POA","POA","POA","POA","POA",{"$f":"ROUNDUP($V526*FX!$G$2*CF!$B$3,0)","v":{"$error":"#VALUE!"}},{"$f":"ROUNDUP($V526*FX!$G$10*CF!$B$4,0)","v":{"$error":"#VALUE!"}},{"$f":"ROUNDUP($V526*FX!$G$35*CF!$B$5,0)","v":{"$error":"#VALUE!"}},{"$f":"ROUNDUP($V526*FX!$G$3*CF!$B$6,0)","v":{"$error":"#VALUE!"}},null,null,null,null,null,null,null,null,null,null,null,null,null,null,null,null,null,null,null,null,null,null,null,null,null,null,null,null,null,null,null,{"$error":"#VALUE!"},null,null,{"$error":"#VALUE!"},"POA",null,0,null,"POA","POA","POA","POA","POA","POA","POA","POA","POA","POA","POA"]
["YA9200","MOD:Y92",null,"VS:G","PC:2","BM:6","NC:N",null,null,null,null,null,null,null,null,null,null,null,null,"YA_9200_0063",null,"POA","6Mo (CK3MCuN)","Base Valve Price","POA","POA","POA","POA","POA","POA","POA",{"$f":"ROUNDUP($V527*FX!$G$2*CF!$B$3,0)","v":{"$error":"#VALUE!"}},{"$f":"ROUNDUP($V527*FX!$G$10*CF!$B$4,0)","v":{"$error":"#VALUE!"}},{"$f":"ROUNDUP($V527*FX!$G$35*CF!$B$5,0)","v":{"$error":"#VALUE!"}},{"$f":"ROUNDUP($V527*FX!$G$3*CF!$B$6,0)","v":{"$error":"#VALUE!"}},null,null,null,null,null,null,null,null,null,null,null,null,null,null,null,null,null,null,null,null,null,null,null,null,null,null,null,null,null,null,null,{"$error":"#VALUE!"},null,null,{"$error":"#VALUE!"},"POA",null,0,null,"POA","POA","POA","POA","POA","POA","POA","POA","POA","POA","POA"]
["YA9200","MOD:Y92",null,"VS:H","PC:2","BM:6","NC:N",null,null,null,null,null,null,null,null,null,null,null,null,"YA_9200_0064",null,"POA","6Mo (CK3MCuN)","Base Valve Price","POA","POA","POA","POA","POA","POA","POA",{"$f":"ROUNDUP($V528*FX!$G$2*CF!$B$3,0)","v":{"$error":"#VALUE!"}},{"$f":"ROUNDUP($V528*FX!$G$10*CF!$B$4,0)","v":{"$error":"#VALUE!"}},{"$f":"ROUNDUP($V528*FX!$G$35*CF!$B$5,0)","v":{"$error":"#VALUE!"}},{"$f":"ROUNDUP($V528*FX!$G$3*CF!$B$6,0)","v":{"$error":"#VALUE!"}},null,null,null,null,null,null,null,null,null,null,null,null,null,null,null,null,null,null,null,null,null,null,null,null,null,null,null,null,null,null,null,{"$error":"#VALUE!"},null,null,{"$error":"#VALUE!"},"POA",null,0,null,"POA","POA","POA","POA","POA","POA","POA","POA","POA","POA","POA"]
["YA9200","MOD:Y92",null,"VS:A","PC:1","BM:3","NC:Y",null,null,null,null,null,null,null,null,null,null,null,null,"YA_9200_0065",null,37506,"CS (WCB), NACE","Base Valve Price",28638.54,{"$f":"ROUND(IFERROR(AA529*1.03,\"POA\"),0)","v":28077},27259,27259,26465,25694,37506,{"$f":"ROUNDUP($V529*FX!$G$2*CF!$B$3,0)","v":37506},{"$f":"ROUNDUP($V529*FX!$G$10*CF!$B$4,0)","v":51740},{"$f":"ROUNDUP($V529*FX!$G$35*CF!$B$5,0)","v":25206},{"$f":"ROUNDUP($V529*FX!$G$3*CF!$B$6,0)","v":52153},null,null,null,null,null,null,null,null,null,null,null,null,null,null,null,null,null,null,null,null,null,null,null,null,null,null,null,null,null,null,null,39082,null,null,29841.838,{"$f":"ROUNDUP(BR529,0)","v":29842},null,0,null,28638.305400000001,{"$f":"ROUNDUP(($BW529+($BX$1*$BW529)),0)","v":29842},29842,{"$f":"BY529+(BY529*$BZ$1)","v":31035.68},31035.68,{"$f":"ROUNDUP(CA529,0)","v":31036},{"$f":"CB529+(CB529*$CC$1)","v":33922.347999999998},33922.347999999998,{"$f":"ROUNDUP(CD529,0)","v":33923},35959,37506]
["YA9200","MOD:Y92",null,"VS:B","PC:1","BM:3","NC:Y",null,null,null,null,null,null,null,null,null,null,null,null,"YA_9200_0066",null,40187,"CS (WCB), NACE","Base Valve Price",30686.7,30085,29209,29209,28358,27532,40187,{"$f":"ROUNDUP($V530*FX!$G$2*CF!$B$3,0)","v":40187},{"$f":"ROUNDUP($V530*FX!$G$10*CF!$B$4,0)","v":55438},{"$f":"ROUNDUP($V530*FX!$G$35*CF!$B$5,0)","v":27008},{"$f":"ROUNDUP($V530*FX!$G$3*CF!$B$6,0)","v":55881},null,null,null,null,null,null,null,null,null,null,null,null,null,null,null,null,null,null,null,null,null,null,null,null,null,null,null,null,null,null,null,41875,null,null,31975.853999999999,31976,null,0,null,30686.975399999999,31976,31976,33255.040000000001,33255.040000000001,33256,36348.807999999997,36348.807999999997,36349,38530,40187]
["YA9200","MOD:Y92",null,"VS:C","PC:1","BM:3","NC:Y",null,null,null,null,null,null,null,null,null,null,null,null,"YA_9200_0067",null,42883,"CS (WCB), NACE","Base Valve Price",32745.06,32103,31168,31168,30260,29379,42883,{"$f":"ROUNDUP($V531*FX!$G$2*CF!$B$3,0)","v":42883},{"$f":"ROUNDUP($V531*FX!$G$10*CF!$B$4,0)","v":59158},{"$f":"ROUNDUP($V531*FX!$G$35*CF!$B$5,0)","v":28820},{"$f":"ROUNDUP($V531*FX!$G$3*CF!$B$6,0)","v":59629},null,null,null,null,null,null,null,null,null,null,null,null,null,null,null,null,null,null,null,null,null,null,null,null,null,null,null,null,null,null,null,44685,null,null,34121.332000000002,34122,null,0,null,32745.1008,34121,34121,35485.839999999997,35485.839999999997,35486,38786.197999999997,38786.197999999997,38787,41115,42883]
["YA9200","MOD:Y92",null,"VS:D","PC:1","BM:3","NC:Y",null,null,null,null,null,null,null,null,null,null,null,null,"YA_9200_0068",null,52913,"CS (WCB), NACE","Base Valve Price",40404.239999999998,39612,38458,38458,37338,36250,52913,{"$f":"ROUNDUP($V532*FX!$G$2*CF!$B$3,0)","v":52913},{"$f":"ROUNDUP($V532*FX!$G$10*CF!$B$4,0)","v":72994},{"$f":"ROUNDUP($V532*FX!$G$35*CF!$B$5,0)","v":35560},{"$f":"ROUNDUP($V532*FX!$G$3*CF!$B$6,0)","v":73576},null,null,null,null,null,null,null,null,null,null,null,null,null,null,null,null,null,null,null,null,null,null,null,null,null,null,null,null,null,null,null,55136,null,null,42100.968000000001,42101,null,0,null,40403.974799999996,42101,42101,43785.04,43785.04,43786,47858.097999999998,47858.097999999998,47859,50731,52913]
["YA9200","MOD:Y92",null,"VS:E","PC:1","BM:3","NC:Y",null,null,null,null,null,null,null,null,null,null,null,null,"YA_9200_0069",null,75331,"CS (WCB), NACE","Base Valve Price",57523.92,56396,54753,54753,53158,51610,75331,{"$f":"ROUNDUP($V533*FX!$G$2*CF!$B$3,0)","v":75331},{"$f":"ROUNDUP($V533*FX!$G$10*CF!$B$4,0)","v":103920},{"$f":"ROUNDUP($V533*FX!$G$35*CF!$B$5,0)","v":50626},{"$f":"ROUNDUP($V533*FX!$G$3*CF!$B$6,0)","v":104748},null,null,null,null,null,null,null,null,null,null,null,null,null,null,null,null,null,null,null,null,null,null,null,null,null,null,null,null,null,null,null,78495,null,null,59940.008000000002,59941,null,0,null,57523.501800000005,59940,59940,62337.599999999999,62337.599999999999,62338,68135.433999999994,68135.433999999994,68136,72225,75331]
["YA9200","MOD:Y92",null,"VS:F","PC:1","BM:3","NC:Y",null,null,null,null,null,null,null,null,null,null,null,null,"YA_9200_0070",null,"POA","CS (WCB), NACE","Base Valve Price","POA","POA","POA","POA","POA","POA","POA",{"$f":"ROUNDUP($V534*FX!$G$2*CF!$B$3,0)","v":{"$error":"#VALUE!"}},{"$f":"ROUNDUP($V534*FX!$G$10*CF!$B$4,0)","v":{"$error":"#VALUE!"}},{"$f":"ROUNDUP($V534*FX!$G$35*CF!$B$5,0)","v":{"$error":"#VALUE!"}},{"$f":"ROUNDUP($V534*FX!$G$3*CF!$B$6,0)","v":{"$error":"#VALUE!"}},null,null,null,null,null,null,null,null,null,null,null,null,null,null,null,null,null,null,null,null,null,null,null,null,null,null,null,null,null,null,null,{"$error":"#VALUE!"},null,null,{"$error":"#VALUE!"},{"$f":"AE534","v":"POA"},null,0,null,"POA","POA","POA","POA","POA","POA","POA","POA","POA","POA","POA"]
["YA9200","MOD:Y92",null,"VS:G","PC:1","BM:3","NC:Y",null,null,null,null,null,null,null,null,null,null,null,null,"YA_9200_0071",null,"POA","CS (WCB), NACE","Base Valve Price","POA","POA","POA","POA","POA","POA","POA",{"$f":"ROUNDUP($V535*FX!$G$2*CF!$B$3,0)","v":{"$error":"#VALUE!"}},{"$f":"ROUNDUP($V535*FX!$G$10*CF!$B$4,0)","v":{"$error":"#VALUE!"}},{"$f":"ROUNDUP($V535*FX!$G$35*CF!$B$5,0)","v":{"$error":"#VALUE!"}},{"$f":"ROUNDUP($V535*FX!$G$3*CF!$B$6,0)","v":{"$error":"#VALUE!"}},null,null,null,null,null,null,null,null,null,null,null,null,null,null,null,null,null,null,null,null,null,null,null,null,null,null,null,null,null,null,null,{"$error":"#VALUE!"},null,null,{"$error":"#VALUE!"},{"$f":"AE535","v":"POA"},null,0,null,"POA","POA","POA","POA","POA","POA","POA","POA","POA","POA","POA"]
["YA9200","MOD:Y92",null,"VS:H","PC:1","BM:3","NC:Y",null,null,null,null,null,null,null,null,null,null,null,null,"YA_9200_0072",null,"POA","CS (WCB), NACE","Base Valve Price","POA","POA","POA","POA","POA","POA","POA",{"$f":"ROUNDUP($V536*FX!$G$2*CF!$B$3,0)","v":{"$error":"#VALUE!"}},{"$f":"ROUNDUP($V536*FX!$G$10*CF!$B$4,0)","v":{"$error":"#VALUE!"}},{"$f":"ROUNDUP($V536*FX!$G$35*CF!$B$5,0)","v":{"$error":"#VALUE!"}},{"$f":"ROUNDUP($V536*FX!$G$3*CF!$B$6,0)","v":{"$error":"#VALUE!"}},null,null,null,null,null,null,null,null,null,null,null,null,null,null,null,null,null,null,null,null,null,null,null,null,null,null,null,null,null,null,null,{"$error":"#VALUE!"},null,null,{"$error":"#VALUE!"},{"$f":"AE536","v":"POA"},null,0,null,"POA","POA","POA","POA","POA","POA","POA","POA","POA","POA","POA"]
["YA9200","MOD:Y92",null,"VS:A","PC:2","BM:3","NC:Y",null,null,null,null,null,null,null,null,null,null,null,null,"YA_9200_0073",null,38670,"CS (WCB), NACE","Base Valve Price",29527.98,{"$f":"ROUND(IFERROR(AA537*1.03,\"POA\"),0)","v":28949},28106,28106,27287,26492,38670,{"$f":"ROUNDUP($V537*FX!$G$2*CF!$B$3,0)","v":38670},{"$f":"ROUNDUP($V537*FX!$G$10*CF!$B$4,0)","v":53346},{"$f":"ROUNDUP($V537*FX!$G$35*CF!$B$5,0)","v":25988},{"$f":"ROUNDUP($V537*FX!$G$3*CF!$B$6,0)","v":53771},null,null,null,null,null,null,null,null,null,null,null,null,null,null,null,null,null,null,null,null,null,null,null,null,null,null,null,null,null,null,null,40295,null,null,30769.218000000001,{"$f":"ROUNDUP(BR537,0)","v":30770},null,0,null,29528.1636,{"$f":"ROUNDUP(($BW537+($BX$1*$BW537)),0)","v":30769},30769,{"$f":"BY537+(BY537*$BZ$1)","v":31999.759999999998},31999.759999999998,32000,34976,34976,{"$f":"ROUNDUP(CD537,0)","v":34976},37075,38670]
["YA9200","MOD:Y92",null,"VS:B","PC:2","BM:3","NC:Y",null,null,null,null,null,null,null,null,null,null,null,null,"YA_9200_0074",null,41699,"CS (WCB), NACE","Base Valve Price",31840.32,31216,30307,30307,29424,28567,41699,{"$f":"ROUNDUP($V538*FX!$G$2*CF!$B$3,0)","v":41699},{"$f":"ROUNDUP($V538*FX!$G$10*CF!$B$4,0)","v":57524},{"$f":"ROUNDUP($V538*FX!$G$35*CF!$B$5,0)","v":28024},{"$f":"ROUNDUP($V538*FX!$G$3*CF!$B$6,0)","v":57983},null,null,null,null,null,null,null,null,null,null,null,null,null,null,null,null,null,null,null,null,null,null,null,null,null,null,null,null,null,null,null,43451,null,null,33178.322,33179,null,0,null,31840.534199999998,33178,33178,34505.120000000003,34505.120000000003,34506,37715.057999999997,37715.057999999997,37716,39979,41699]
["YA9200","MOD:Y92",null,"VS:C","PC:2","BM:3","NC:Y",null,null,null,null,null,null,null,null,null,null,null,null,"YA_9200_0075",null,44604,"CS (WCB), NACE","Base Valve Price",34060.86,33393,32420,32420,31476,30559,44604,{"$f":"ROUNDUP($V539*FX!$G$2*CF!$B$3,0)","v":44604},{"$f":"ROUNDUP($V539*FX!$G$10*CF!$B$4,0)","v":61532},{"$f":"ROUNDUP($V539*FX!$G$35*CF!$B$5,0)","v":29976},{"$f":"ROUNDUP($V539*FX!$G$3*CF!$B$6,0)","v":62022},null,null,null,null,null,null,null,null,null,null,null,null,null,null,null,null,null,null,null,null,null,null,null,null,null,null,null,null,null,null,null,46478,null,null,35491.561999999998,35492,null,0,null,34060.451999999997,35491,35491,36910.639999999999,36910.639999999999,36911,40343.722999999998,40343.722999999998,40344,42765,44604]
["YA9200","MOD:Y92",null,"VS:D","PC:2","BM:3","NC:Y",null,null,null,null,null,null,null,null,null,null,null,null,"YA_9200_0076",null,54081,"CS (WCB), NACE","Base Valve Price",41295.72,40486,39307,39307,38162,37050,54081,{"$f":"ROUNDUP($V540*FX!$G$2*CF!$B$3,0)","v":54081},{"$f":"ROUNDUP($V540*FX!$G$10*CF!$B$4,0)","v":74605},{"$f":"ROUNDUP($V540*FX!$G$35*CF!$B$5,0)","v":36345},{"$f":"ROUNDUP($V540*FX!$G$3*CF!$B$6,0)","v":75200},null,null,null,null,null,null,null,null,null,null,null,null,null,null,null,null,null,null,null,null,null,null,null,null,null,null,null,null,null,null,null,56353,null,null,43030.432000000001,43031,null,0,null,41295.934200000003,43031,43031,44752.24,44752.24,44753,48915.029000000002,48915.029000000002,48916,51851,54081]
["YA9200","MOD:Y92",null,"VS:E","PC:2","BM:3","NC:Y",null,null,null,null,null,null,null,null,null,null,null,null,"YA_9200_0077",null,79722,"CS (WCB), NACE","Base Valve Price",60876.66,59683,57945,57945,56257,54618,79722,{"$f":"ROUNDUP($V541*FX!$G$2*CF!$B$3,0)","v":79722},{"$f":"ROUNDUP($V541*FX!$G$10*CF!$B$4,0)","v":109977},{"$f":"ROUNDUP($V541*FX!$G$35*CF!$B$5,0)","v":53577},{"$f":"ROUNDUP($V541*FX!$G$3*CF!$B$6,0)","v":110854},null,null,null,null,null,null,null,null,null,null,null,null,null,null,null,null,null,null,null,null,null,null,null,null,null,null,null,null,null,null,null,83071,null,null,63434.876000000004,63435,null,0,null,60877.017,63434,63434,65971.360000000001,65971.360000000001,65972,72107.395999999993,72107.395999999993,72108,76435,79722]
["YA9200","MOD:Y92",null,"VS:F","PC:2","BM:3","NC:Y",null,null,null,null,null,null,null,null,null,null,null,null,"YA_9200_0078",null,"POA","CS (WCB), NACE","Base Valve Price","POA","POA","POA","POA","POA","POA","POA",{"$f":"ROUNDUP($V542*FX!$G$2*CF!$B$3,0)","v":{"$error":"#VALUE!"}},{"$f":"ROUNDUP($V542*FX!$G$10*CF!$B$4,0)","v":{"$error":"#VALUE!"}},{"$f":"ROUNDUP($V542*FX!$G$35*CF!$B$5,0)","v":{"$error":"#VALUE!"}},{"$f":"ROUNDUP($V542*FX!$G$3*CF!$B$6,0)","v":{"$error":"#VALUE!"}},null,null,null,null,null,null,null,null,null,null,null,null,null,null,null,null,null,null,null,null,null,null,null,null,null,null,null,null,null,null,null,{"$error":"#VALUE!"},null,null,{"$error":"#VALUE!"},{"$f":"AE542","v":"POA"},null,0,null,"POA","POA","POA","POA","POA","POA","POA","POA","POA","POA","POA"]
["YA9200","MOD:Y92",null,"VS:G","PC:2","BM:3","NC:Y",null,null,null,null,null,null,null,null,null,null,null,null,"YA_9200_0079",null,"POA","CS (WCB), NACE","Base Valve Price","POA","POA","POA","POA","POA","POA","POA",{"$f":"ROUNDUP($V543*FX!$G$2*CF!$B$3,0)","v":{"$error":"#VALUE!"}},{"$f":"ROUNDUP($V543*FX!$G$10*CF!$B$4,0)","v":{"$error":"#VALUE!"}},{"$f":"ROUNDUP($V543*FX!$G$35*CF!$B$5,0)","v":{"$error":"#VALUE!"}},{"$f":"ROUNDUP($V543*FX!$G$3*CF!$B$6,0)","v":{"$error":"#VALUE!"}},null,null,null,null,null,null,null,null,null,null,null,null,null,null,null,null,null,null,null,null,null,null,null,null,null,null,null,null,null,null,null,{"$error":"#VALUE!"},null,null,{"$error":"#VALUE!"},{"$f":"AE543","v":"POA"},null,0,null,"POA","POA","POA","POA","POA","POA","POA","POA","POA","POA","POA"]
["YA9200","MOD:Y92",null,"VS:H","PC:2","BM:3","NC:Y",null,null,null,null,null,null,null,null,null,null,null,null,"YA_9200_0080",null,"POA","CS (WCB), NACE","Base Valve Price","POA","POA","POA","POA","POA","POA","POA",{"$f":"ROUNDUP($V544*FX!$G$2*CF!$B$3,0)","v":{"$error":"#VALUE!"}},{"$f":"ROUNDUP($V544*FX!$G$10*CF!$B$4,0)","v":{"$error":"#VALUE!"}},{"$f":"ROUNDUP($V544*FX!$G$35*CF!$B$5,0)","v":{"$error":"#VALUE!"}},{"$f":"ROUNDUP($V544*FX!$G$3*CF!$B$6,0)","v":{"$error":"#VALUE!"}},null,null,null,null,null,null,null,null,null,null,null,null,null,null,null,null,null,null,null,null,null,null,null,null,null,null,null,null,null,null,null,{"$error":"#VALUE!"},null,null,{"$error":"#VALUE!"},{"$f":"AE544","v":"POA"},null,0,null,"POA","POA","POA","POA","POA","POA","POA","POA","POA","POA","POA"]
["YA9200","MOD:Y92",null,"VS:A","PC:1","BM:2","NC:Y",null,null,null,null,null,null,null,null,null,null,null,null,"YA_9200_0081",null,41856,"SS (CF8M), NACE","Base Valve Price",31960.68,{"$f":"ROUND(IFERROR(AA545*1.03,\"POA\"),0)","v":31334},30421,30421,29535,28675,41856,{"$f":"ROUNDUP($V545*FX!$G$2*CF!$B$3,0)","v":41856},{"$f":"ROUNDUP($V545*FX!$G$10*CF!$B$4,0)","v":57741},{"$f":"ROUNDUP($V545*FX!$G$35*CF!$B$5,0)","v":28130},{"$f":"ROUNDUP($V545*FX!$G$3*CF!$B$6,0)","v":58201},null,null,null,null,null,null,null,null,null,null,null,null,null,null,null,null,null,null,null,null,null,null,null,null,null,null,null,null,null,null,null,43614,null,null,33303.362000000001,{"$f":"ROUNDUP(BR545,0)","v":33304},null,0,null,31960.302600000003,{"$f":"ROUNDUP(($BW545+($BX$1*$BW545)),0)","v":33303},33303,{"$f":"BY545+(BY545*$BZ$1)","v":34635.120000000003},34635.120000000003,34636,37857.148000000001,37857.148000000001,{"$f":"ROUNDUP(CD545,0)","v":37858},40130,41856]
["YA9200","MOD:Y92",null,"VS:B","PC:1","BM:2","NC:Y",null,null,null,null,null,null,null,null,null,null,null,null,"YA_9200_0082",null,51016,"SS (CF8M), NACE","Base Valve Price",38954.82,38191,37079,37079,35999,34950,51016,{"$f":"ROUNDUP($V546*FX!$G$2*CF!$B$3,0)","v":51016},{"$f":"ROUNDUP($V546*FX!$G$10*CF!$B$4,0)","v":70377},{"$f":"ROUNDUP($V546*FX!$G$35*CF!$B$5,0)","v":34285},{"$f":"ROUNDUP($V546*FX!$G$3*CF!$B$6,0)","v":70938},null,null,null,null,null,null,null,null,null,null,null,null,null,null,null,null,null,null,null,null,null,null,null,null,null,null,null,null,null,null,null,53159,null,null,40592.152000000002,40593,null,0,null,38955.197400000005,40592,40592,42215.68,42215.68,42216,46142.088000000003,46142.088000000003,46143,48912,51016]
["YA9200","MOD:Y92",null,"VS:C","PC:1","BM:2","NC:Y",null,null,null,null,null,null,null,null,null,null,null,null,"YA_9200_0083",null,59802,"SS (CF8M), NACE","Base Valve Price",45664.38,44769,43465,43465,42199,40970,59802,{"$f":"ROUNDUP($V547*FX!$G$2*CF!$B$3,0)","v":59802},{"$f":"ROUNDUP($V547*FX!$G$10*CF!$B$4,0)","v":82497},{"$f":"ROUNDUP($V547*FX!$G$35*CF!$B$5,0)","v":40190},{"$f":"ROUNDUP($V547*FX!$G$3*CF!$B$6,0)","v":83155},null,null,null,null,null,null,null,null,null,null,null,null,null,null,null,null,null,null,null,null,null,null,null,null,null,null,null,null,null,null,null,62314,null,null,47582.93,47583,null,0,null,45664.329000000005,47583,47583,49486.32,49486.32,49487,54089.290999999997,54089.290999999997,54090,57336,59802]
["YA9200","MOD:Y92",null,"VS:D","PC:1","BM:2","NC:Y",null,null,null,null,null,null,null,null,null,null,null,null,"YA_9200_0084",null,70208,"SS (CF8M), NACE","Base Valve Price",53611.200000000004,52560,51029,51029,49543,48100,70208,{"$f":"ROUNDUP($V548*FX!$G$2*CF!$B$3,0)","v":70208},{"$f":"ROUNDUP($V548*FX!$G$10*CF!$B$4,0)","v":96852},{"$f":"ROUNDUP($V548*FX!$G$35*CF!$B$5,0)","v":47183},{"$f":"ROUNDUP($V548*FX!$G$3*CF!$B$6,0)","v":97625},null,null,null,null,null,null,null,null,null,null,null,null,null,null,null,null,null,null,null,null,null,null,null,null,null,null,null,null,null,null,null,73157,null,null,55863.703999999998,55864,null,0,null,53611.067400000007,55863,55863,58097.52,58097.52,58098,63501.114000000001,63501.114000000001,63502,67313,70208]
["YA9200","MOD:Y92",null,"VS:E","PC:1","BM:2","NC:Y",null,null,null,null,null,null,null,null,null,null,null,null,"YA_9200_0085",null,104060,"SS (CF8M), NACE","Base Valve Price",79462.080000000002,77904,75635,75635,73432,71293,104060,{"$f":"ROUNDUP($V549*FX!$G$2*CF!$B$3,0)","v":104060},{"$f":"ROUNDUP($V549*FX!$G$10*CF!$B$4,0)","v":143551},{"$f":"ROUNDUP($V549*FX!$G$35*CF!$B$5,0)","v":69933},{"$f":"ROUNDUP($V549*FX!$G$3*CF!$B$6,0)","v":144696},null,null,null,null,null,null,null,null,null,null,null,null,null,null,null,null,null,null,null,null,null,null,null,null,null,null,null,null,null,null,null,108431,null,null,82800.445999999996,82801,null,0,null,79462.131000000008,82800,82800,86112,86112,86112,94120.415999999997,94120.415999999997,94121,99769,104060]
["YA9200","MOD:Y92",null,"VS:F","PC:1","BM:2","NC:Y",null,null,null,null,null,null,null,null,null,null,null,null,"YA_9200_0086",null,"POA","SS (CF8M), NACE","Base Valve Price","POA","POA","POA","POA","POA","POA","POA",{"$f":"ROUNDUP($V550*FX!$G$2*CF!$B$3,0)","v":{"$error":"#VALUE!"}},{"$f":"ROUNDUP($V550*FX!$G$10*CF!$B$4,0)","v":{"$error":"#VALUE!"}},{"$f":"ROUNDUP($V550*FX!$G$35*CF!$B$5,0)","v":{"$error":"#VALUE!"}},{"$f":"ROUNDUP($V550*FX!$G$3*CF!$B$6,0)","v":{"$error":"#VALUE!"}},null,null,null,null,null,null,null,null,null,null,null,null,null,null,null,null,null,null,null,null,null,null,null,null,null,null,null,null,null,null,null,{"$error":"#VALUE!"},null,null,{"$error":"#VALUE!"},{"$f":"AE550","v":"POA"},null,0,null,"POA","POA","POA","POA","POA","POA","POA","POA","POA","POA","POA"]
["YA9200","MOD:Y92",null,"VS:G","PC:1","BM:2","NC:Y",null,null,null,null,null,null,null,null,null,null,null,null,"YA_9200_0087",null,"POA","SS (CF8M), NACE","Base Valve Price","POA","POA","POA","POA","POA","POA","POA",{"$f":"ROUNDUP($V551*FX!$G$2*CF!$B$3,0)","v":{"$error":"#VALUE!"}},{"$f":"ROUNDUP($V551*FX!$G$10*CF!$B$4,0)","v":{"$error":"#VALUE!"}},{"$f":"ROUNDUP($V551*FX!$G$35*CF!$B$5,0)","v":{"$error":"#VALUE!"}},{"$f":"ROUNDUP($V551*FX!$G$3*CF!$B$6,0)","v":{"$error":"#VALUE!"}},null,null,null,null,null,null,null,null,null,null,null,null,null,null,null,null,null,null,null,null,null,null,null,null,null,null,null,null,null,null,null,{"$error":"#VALUE!"},null,null,{"$error":"#VALUE!"},{"$f":"AE551","v":"POA"},null,0,null,"POA","POA","POA","POA","POA","POA","POA","POA","POA","POA","POA"]
["YA9200","MOD:Y92",null,"VS:H","PC:1","BM:2","NC:Y",null,null,null,null,null,null,null,null,null,null,null,null,"YA_9200_0088",null,"POA","SS (CF8M), NACE","Base Valve Price","POA","POA","POA","POA","POA","POA","POA",{"$f":"ROUNDUP($V552*FX!$G$2*CF!$B$3,0)","v":{"$error":"#VALUE!"}},{"$f":"ROUNDUP($V552*FX!$G$10*CF!$B$4,0)","v":{"$error":"#VALUE!"}},{"$f":"ROUNDUP($V552*FX!$G$35*CF!$B$5,0)","v":{"$error":"#VALUE!"}},{"$f":"ROUNDUP($V552*FX!$G$3*CF!$B$6,0)","v":{"$error":"#VALUE!"}},null,null,null,null,null,null,null,null,null,null,null,null,null,null,null,null,null,null,null,null,null,null,null,null,null,null,null,null,null,null,null,{"$error":"#VALUE!"},null,null,{"$error":"#VALUE!"},{"$f":"AE552","v":"POA"},null,0,null,"POA","POA","POA","POA","POA","POA","POA","POA","POA","POA","POA"]
["YA9200","MOD:Y92",null,"VS:A","PC:2","BM:2","NC:Y",null,null,null,null,null,null,null,null,null,null,null,null,"YA_9200_0089",null,42883,"SS (CF8M), NACE","Base Valve Price",32745.06,{"$f":"ROUND(IFERROR(AA553*1.03,\"POA\"),0)","v":32103},31168,31168,30260,29379,42883,{"$f":"ROUNDUP($V553*FX!$G$2*CF!$B$3,0)","v":42883},{"$f":"ROUNDUP($V553*FX!$G$10*CF!$B$4,0)","v":59158},{"$f":"ROUNDUP($V553*FX!$G$35*CF!$B$5,0)","v":28820},{"$f":"ROUNDUP($V553*FX!$G$3*CF!$B$6,0)","v":59629},null,null,null,null,null,null,null,null,null,null,null,null,null,null,null,null,null,null,null,null,null,null,null,null,null,null,null,null,null,null,null,44685,null,null,34121.332000000002,{"$f":"ROUNDUP(BR553,0)","v":34122},null,0,null,32745.1008,{"$f":"ROUNDUP(($BW553+($BX$1*$BW553)),0)","v":34121},{"$f":"ROUNDUP(BX553,0)","v":34121},{"$f":"BY553+(BY553*$BZ$1)","v":35485.839999999997},35485.839999999997,35486,38786.197999999997,38786.197999999997,{"$f":"ROUNDUP(CD553,0)","v":38787},41115,42883]
["YA9200","MOD:Y92",null,"VS:B","PC:2","BM:2","NC:Y",null,null,null,null,null,null,null,null,null,null,null,null,"YA_9200_0090",null,51225,"SS (CF8M), NACE","Base Valve Price",39115.980000000003,38349,37232,37232,36148,35095,51225,{"$f":"ROUNDUP($V554*FX!$G$2*CF!$B$3,0)","v":51225},{"$f":"ROUNDUP($V554*FX!$G$10*CF!$B$4,0)","v":70665},{"$f":"ROUNDUP($V554*FX!$G$35*CF!$B$5,0)","v":34426},{"$f":"ROUNDUP($V554*FX!$G$3*CF!$B$6,0)","v":71229},null,null,null,null,null,null,null,null,null,null,null,null,null,null,null,null,null,null,null,null,null,null,null,null,null,null,null,null,null,null,null,53377,null,null,40758.872000000003,40759,null,0,null,39115.939200000001,40759,40759,42389.36,42389.36,42390,46332.27,46332.27,46333,49113,51225]
["YA9200","MOD:Y92",null,"VS:C","PC:2","BM:2","NC:Y",null,null,null,null,null,null,null,null,null,null,null,null,"YA_9200_0091",null,60906,"SS (CF8M), NACE","Base Valve Price",46507.92,45596,44268,44268,42979,41727,60906,{"$f":"ROUNDUP($V555*FX!$G$2*CF!$B$3,0)","v":60906},{"$f":"ROUNDUP($V555*FX!$G$10*CF!$B$4,0)","v":84020},{"$f":"ROUNDUP($V555*FX!$G$35*CF!$B$5,0)","v":40932},{"$f":"ROUNDUP($V555*FX!$G$3*CF!$B$6,0)","v":84690},null,null,null,null,null,null,null,null,null,null,null,null,null,null,null,null,null,null,null,null,null,null,null,null,null,null,null,null,null,null,null,63465,null,null,48461.336000000003,48462,null,0,null,46507.960800000001,48462,48462,50400.480000000003,50400.480000000003,50401,55088.292999999998,55088.292999999998,55089,58395,60906]
["YA9200","MOD:Y92",null,"VS:D","PC:2","BM:2","NC:Y",null,null,null,null,null,null,null,null,null,null,null,null,"YA_9200_0092",null,72135,"SS (CF8M), NACE","Base Valve Price",55084.08,54004,52431,52431,50904,49421,72135,{"$f":"ROUNDUP($V556*FX!$G$2*CF!$B$3,0)","v":72135},{"$f":"ROUNDUP($V556*FX!$G$10*CF!$B$4,0)","v":99511},{"$f":"ROUNDUP($V556*FX!$G$35*CF!$B$5,0)","v":48478},{"$f":"ROUNDUP($V556*FX!$G$3*CF!$B$6,0)","v":100304},null,null,null,null,null,null,null,null,null,null,null,null,null,null,null,null,null,null,null,null,null,null,null,null,null,null,null,null,null,null,null,75165,null,null,57398.57,57399,null,0,null,55084.008600000001,57398,57398,59693.919999999998,59693.919999999998,59694,65245.542000000001,65245.542000000001,65246,69161,72135]
["YA9200","MOD:Y92",null,"VS:E","PC:2","BM:2","NC:Y",null,null,null,null,null,null,null,null,null,null,null,null,"YA_9200_0093",null,106098,"SS (CF8M), NACE","Base Valve Price",81019.62,79431,77117,77117,74871,72690,106098,{"$f":"ROUNDUP($V557*FX!$G$2*CF!$B$3,0)","v":106098},{"$f":"ROUNDUP($V557*FX!$G$10*CF!$B$4,0)","v":146363},{"$f":"ROUNDUP($V557*FX!$G$35*CF!$B$5,0)","v":71303},{"$f":"ROUNDUP($V557*FX!$G$3*CF!$B$6,0)","v":147530},null,null,null,null,null,null,null,null,null,null,null,null,null,null,null,null,null,null,null,null,null,null,null,null,null,null,null,null,null,null,null,110555,null,null,84422.84,84423,null,0,null,81019.120200000005,84422,84422,87798.88,87798.88,87799,95964.307000000001,95964.307000000001,95965,101723,106098]
["YA9200","MOD:Y92",null,"VS:F","PC:2","BM:2","NC:Y",null,null,null,null,null,null,null,null,null,null,null,null,"YA_9200_0094",null,"POA","SS (CF8M), NACE","Base Valve Price","POA","POA","POA","POA","POA","POA","POA",{"$f":"ROUNDUP($V558*FX!$G$2*CF!$B$3,0)","v":{"$error":"#VALUE!"}},{"$f":"ROUNDUP($V558*FX!$G$10*CF!$B$4,0)","v":{"$error":"#VALUE!"}},{"$f":"ROUNDUP($V558*FX!$G$35*CF!$B$5,0)","v":{"$error":"#VALUE!"}},{"$f":"ROUNDUP($V558*FX!$G$3*CF!$B$6,0)","v":{"$error":"#VALUE!"}},null,null,null,null,null,null,null,null,null,null,null,null,null,null,null,null,null,null,null,null,null,null,null,null,null,null,null,null,null,null,null,{"$error":"#VALUE!"},null,null,{"$error":"#VALUE!"},{"$f":"AE558","v":"POA"},null,0,null,"POA","POA","POA","POA","POA","POA","POA","POA","POA","POA","POA"]
["YA9200","MOD:Y92",null,"VS:G","PC:2","BM:2","NC:Y",null,null,null,null,null,null,null,null,null,null,null,null,"YA_9200_0095",null,"POA","SS (CF8M), NACE","Base Valve Price","POA","POA","POA","POA","POA","POA","POA",{"$f":"ROUNDUP($V559*FX!$G$2*CF!$B$3,0)","v":{"$error":"#VALUE!"}},{"$f":"ROUNDUP($V559*FX!$G$10*CF!$B$4,0)","v":{"$error":"#VALUE!"}},{"$f":"ROUNDUP($V559*FX!$G$35*CF!$B$5,0)","v":{"$error":"#VALUE!"}},{"$f":"ROUNDUP($V559*FX!$G$3*CF!$B$6,0)","v":{"$error":"#VALUE!"}},null,null,null,null,null,null,null,null,null,null,null,null,null,null,null,null,null,null,null,null,null,null,null,null,null,null,null,null,null,null,null,{"$error":"#VALUE!"},null,null,{"$error":"#VALUE!"},"POA",null,0,null,"POA","POA","POA","POA","POA","POA","POA","POA","POA","POA","POA"]
["YA9200","MOD:Y92",null,"VS:H","PC:2","BM:2","NC:Y",null,null,null,null,null,null,null,null,null,null,null,null,"YA_9200_0096",null,"POA","SS (CF8M), NACE","Base Valve Price","POA","POA","POA","POA","POA","POA","POA",{"$f":"ROUNDUP($V560*FX!$G$2*CF!$B$3,0)","v":{"$error":"#VALUE!"}},{"$f":"ROUNDUP($V560*FX!$G$10*CF!$B$4,0)","v":{"$error":"#VALUE!"}},{"$f":"ROUNDUP($V560*FX!$G$35*CF!$B$5,0)","v":{"$error":"#VALUE!"}},{"$f":"ROUNDUP($V560*FX!$G$3*CF!$B$6,0)","v":{"$error":"#VALUE!"}},null,null,null,null,null,null,null,null,null,null,null,null,null,null,null,null,null,null,null,null,null,null,null,null,null,null,null,null,null,null,null,{"$error":"#VALUE!"},null,null,{"$error":"#VALUE!"},"POA",null,0,null,"POA","POA","POA","POA","POA","POA","POA","POA","POA","POA","POA"]
["YA9200","MOD:Y92",null,"VS:A","PC:1","BM:8","NC:Y",null,null,null,null,null,null,null,null,null,null,null,null,"YA_9200_0097",null,"POA","SDupx(CD3MWCuN),N","Base Valve Price","POA","POA","POA","POA","POA","POA","POA",{"$f":"ROUNDUP($V561*FX!$G$2*CF!$B$3,0)","v":{"$error":"#VALUE!"}},{"$f":"ROUNDUP($V561*FX!$G$10*CF!$B$4,0)","v":{"$error":"#VALUE!"}},{"$f":"ROUNDUP($V561*FX!$G$35*CF!$B$5,0)","v":{"$error":"#VALUE!"}},{"$f":"ROUNDUP($V561*FX!$G$3*CF!$B$6,0)","v":{"$error":"#VALUE!"}},null,null,null,null,null,null,null,null,null,null,null,null,null,null,null,null,null,null,null,null,null,null,null,null,null,null,null,null,null,null,null,{"$error":"#VALUE!"},null,null,{"$error":"#VALUE!"},"POA",null,0,null,"POA","POA","POA","POA","POA","POA","POA","POA","POA","POA","POA"]
["YA9200","MOD:Y92",null,"VS:B","PC:1","BM:8","NC:Y",null,null,null,null,null,null,null,null,null,null,null,null,"YA_9200_0098",null,"POA","SDupx(CD3MWCuN),N","Base Valve Price","POA","POA","POA","POA","POA","POA","POA",{"$f":"ROUNDUP($V562*FX!$G$2*CF!$B$3,0)","v":{"$error":"#VALUE!"}},{"$f":"ROUNDUP($V562*FX!$G$10*CF!$B$4,0)","v":{"$error":"#VALUE!"}},{"$f":"ROUNDUP($V562*FX!$G$35*CF!$B$5,0)","v":{"$error":"#VALUE!"}},{"$f":"ROUNDUP($V562*FX!$G$3*CF!$B$6,0)","v":{"$error":"#VALUE!"}},null,null,null,null,null,null,null,null,null,null,null,null,null,null,null,null,null,null,null,null,null,null,null,null,null,null,null,null,null,null,null,{"$error":"#VALUE!"},null,null,{"$error":"#VALUE!"},"POA",null,0,null,"POA","POA","POA","POA","POA","POA","POA","POA","POA","POA","POA"]
["YA9200","MOD:Y92",null,"VS:C","PC:1","BM:8","NC:Y",null,null,null,null,null,null,null,null,null,null,null,null,"YA_9200_0099",null,"POA","SDupx(CD3MWCuN),N","Base Valve Price","POA","POA","POA","POA","POA","POA","POA",{"$f":"ROUNDUP($V563*FX!$G$2*CF!$B$3,0)","v":{"$error":"#VALUE!"}},{"$f":"ROUNDUP($V563*FX!$G$10*CF!$B$4,0)","v":{"$error":"#VALUE!"}},{"$f":"ROUNDUP($V563*FX!$G$35*CF!$B$5,0)","v":{"$error":"#VALUE!"}},{"$f":"ROUNDUP($V563*FX!$G$3*CF!$B$6,0)","v":{"$error":"#VALUE!"}},null,null,null,null,null,null,null,null,null,null,null,null,null,null,null,null,null,null,null,null,null,null,null,null,null,null,null,null,null,null,null,{"$error":"#VALUE!"},null,null,{"$error":"#VALUE!"},"POA",null,0,null,"POA","POA","POA","POA","POA","POA","POA","POA","POA","POA","POA"]
["YA9200","MOD:Y92",null,"VS:D","PC:1","BM:8","NC:Y",null,null,null,null,null,null,null,null,null,null,null,null,"YA_9200_0100",null,"POA","SDupx(CD3MWCuN),N","Base Valve Price","POA","POA","POA","POA","POA","POA","POA",{"$f":"ROUNDUP($V564*FX!$G$2*CF!$B$3,0)","v":{"$error":"#VALUE!"}},{"$f":"ROUNDUP($V564*FX!$G$10*CF!$B$4,0)","v":{"$error":"#VALUE!"}},{"$f":"ROUNDUP($V564*FX!$G$35*CF!$B$5,0)","v":{"$error":"#VALUE!"}},{"$f":"ROUNDUP($V564*FX!$G$3*CF!$B$6,0)","v":{"$error":"#VALUE!"}},null,null,null,null,null,null,null,null,null,null,null,null,null,null,null,null,null,null,null,null,null,null,null,null,null,null,null,null,null,null,null,{"$error":"#VALUE!"},null,null,{"$error":"#VALUE!"},"POA",null,0,null,"POA","POA","POA","POA","POA","POA","POA","POA","POA","POA","POA"]
["YA9200","MOD:Y92",null,"VS:E","PC:1","BM:8","NC:Y",null,null,null,null,null,null,null,null,null,null,null,null,"YA_9200_0101",null,"POA","SDupx(CD3MWCuN),N","Base Valve Price","POA","POA","POA","POA","POA","POA","POA",{"$f":"ROUNDUP($V565*FX!$G$2*CF!$B$3,0)","v":{"$error":"#VALUE!"}},{"$f":"ROUNDUP($V565*FX!$G$10*CF!$B$4,0)","v":{"$error":"#VALUE!"}},{"$f":"ROUNDUP($V565*FX!$G$35*CF!$B$5,0)","v":{"$error":"#VALUE!"}},{"$f":"ROUNDUP($V565*FX!$G$3*CF!$B$6,0)","v":{"$error":"#VALUE!"}},null,null,null,null,null,null,null,null,null,null,null,null,null,null,null,null,null,null,null,null,null,null,null,null,null,null,null,null,null,null,null,{"$error":"#VALUE!"},null,null,{"$error":"#VALUE!"},"POA",null,0,null,"POA","POA","POA","POA","POA","POA","POA","POA","POA","POA","POA"]
["YA9200","MOD:Y92",null,"VS:F","PC:1","BM:8","NC:Y",null,null,null,null,null,null,null,null,null,null,null,null,"YA_9200_0102",null,"POA","SDupx(CD3MWCuN),N","Base Valve Price","POA","POA","POA","POA","POA","POA","POA",{"$f":"ROUNDUP($V566*FX!$G$2*CF!$B$3,0)","v":{"$error":"#VALUE!"}},{"$f":"ROUNDUP($V566*FX!$G$10*CF!$B$4,0)","v":{"$error":"#VALUE!"}},{"$f":"ROUNDUP($V566*FX!$G$35*CF!$B$5,0)","v":{"$error":"#VALUE!"}},{"$f":"ROUNDUP($V566*FX!$G$3*CF!$B$6,0)","v":{"$error":"#VALUE!"}},null,null,null,null,null,null,null,null,null,null,null,null,null,null,null,null,null,null,null,null,null,null,null,null,null,null,null,null,null,null,null,{"$error":"#VALUE!"},null,null,{"$error":"#VALUE!"},"POA",null,0,null,"POA","POA","POA","POA","POA","POA","POA","POA","POA","POA","POA"]
["YA9200","MOD:Y92",null,"VS:G","PC:1","BM:8","NC:Y",null,null,null,null,null,null,null,null,null,null,null,null,"YA_9200_0103",null,"POA","SDupx(CD3MWCuN),N","Base Valve Price","POA","POA","POA","POA","POA","POA","POA",{"$f":"ROUNDUP($V567*FX!$G$2*CF!$B$3,0)","v":{"$error":"#VALUE!"}},{"$f":"ROUNDUP($V567*FX!$G$10*CF!$B$4,0)","v":{"$error":"#VALUE!"}},{"$f":"ROUNDUP($V567*FX!$G$35*CF!$B$5,0)","v":{"$error":"#VALUE!"}},{"$f":"ROUNDUP($V567*FX!$G$3*CF!$B$6,0)","v":{"$error":"#VALUE!"}},null,null,null,null,null,null,null,null,null,null,null,null,null,null,null,null,null,null,null,null,null,null,null,null,null,null,null,null,null,null,null,{"$error":"#VALUE!"},null,null,{"$error":"#VALUE!"},"POA",null,0,null,"POA","POA","POA","POA","POA","POA","POA","POA","POA","POA","POA"]
["YA9200","MOD:Y92",null,"VS:H","PC:1","BM:8","NC:Y",null,null,null,null,null,null,null,null,null,null,null,null,"YA_9200_0104",null,"POA","SDupx(CD3MWCuN),N","Base Valve Price","POA","POA","POA","POA","POA","POA","POA",{"$f":"ROUNDUP($V568*FX!$G$2*CF!$B$3,0)","v":{"$error":"#VALUE!"}},{"$f":"ROUNDUP($V568*FX!$G$10*CF!$B$4,0)","v":{"$error":"#VALUE!"}},{"$f":"ROUNDUP($V568*FX!$G$35*CF!$B$5,0)","v":{"$error":"#VALUE!"}},{"$f":"ROUNDUP($V568*FX!$G$3*CF!$B$6,0)","v":{"$error":"#VALUE!"}},null,null,null,null,null,null,null,null,null,null,null,null,null,null,null,null,null,null,null,null,null,null,null,null,null,null,null,null,null,null,null,{"$error":"#VALUE!"},null,null,{"$error":"#VALUE!"},"POA",null,0,null,"POA","POA","POA","POA","POA","POA","POA","POA","POA","POA","POA"]
["YA9200","MOD:Y92",null,"VS:A","PC:2","BM:8","NC:Y",null,null,null,null,null,null,null,null,null,null,null,null,"YA_9200_0105",null,"POA","SDupx(CD3MWCuN),N","Base Valve Price","POA","POA","POA","POA","POA","POA","POA",{"$f":"ROUNDUP($V569*FX!$G$2*CF!$B$3,0)","v":{"$error":"#VALUE!"}},{"$f":"ROUNDUP($V569*FX!$G$10*CF!$B$4,0)","v":{"$error":"#VALUE!"}},{"$f":"ROUNDUP($V569*FX!$G$35*CF!$B$5,0)","v":{"$error":"#VALUE!"}},{"$f":"ROUNDUP($V569*FX!$G$3*CF!$B$6,0)","v":{"$error":"#VALUE!"}},null,null,null,null,null,null,null,null,null,null,null,null,null,null,null,null,null,null,null,null,null,null,null,null,null,null,null,null,null,null,null,{"$error":"#VALUE!"},null,null,{"$error":"#VALUE!"},"POA",null,0,null,"POA","POA","POA","POA","POA","POA","POA","POA","POA","POA","POA"]
["YA9200","MOD:Y92",null,"VS:B","PC:2","BM:8","NC:Y",null,null,null,null,null,null,null,null,null,null,null,null,"YA_9200_0106",null,"POA","SDupx(CD3MWCuN),N","Base Valve Price","POA","POA","POA","POA","POA","POA","POA",{"$f":"ROUNDUP($V570*FX!$G$2*CF!$B$3,0)","v":{"$error":"#VALUE!"}},{"$f":"ROUNDUP($V570*FX!$G$10*CF!$B$4,0)","v":{"$error":"#VALUE!"}},{"$f":"ROUNDUP($V570*FX!$G$35*CF!$B$5,0)","v":{"$error":"#VALUE!"}},{"$f":"ROUNDUP($V570*FX!$G$3*CF!$B$6,0)","v":{"$error":"#VALUE!"}},null,null,null,null,null,null,null,null,null,null,null,null,null,null,null,null,null,null,null,null,null,null,null,null,null,null,null,null,null,null,null,{"$error":"#VALUE!"},null,null,{"$error":"#VALUE!"},"POA",null,0,null,"POA","POA","POA","POA","POA","POA","POA","POA","POA","POA","POA"]
["YA9200","MOD:Y92",null,"VS:C","PC:2","BM:8","NC:Y",null,null,null,null,null,null,null,null,null,null,null,null,"YA_9200_0107",null,"POA","SDupx(CD3MWCuN),N","Base Valve Price","POA","POA","POA","POA","POA","POA","POA",{"$f":"ROUNDUP($V571*FX!$G$2*CF!$B$3,0)","v":{"$error":"#VALUE!"}},{"$f":"ROUNDUP($V571*FX!$G$10*CF!$B$4,0)","v":{"$error":"#VALUE!"}},{"$f":"ROUNDUP($V571*FX!$G$35*CF!$B$5,0)","v":{"$error":"#VALUE!"}},{"$f":"ROUNDUP($V571*FX!$G$3*CF!$B$6,0)","v":{"$error":"#VALUE!"}},null,null,null,null,null,null,null,null,null,null,null,null,null,null,null,null,null,null,null,null,null,null,null,null,null,null,null,null,null,null,null,{"$error":"#VALUE!"},null,null,{"$error":"#VALUE!"},"POA",null,0,null,"POA","POA","POA","POA","POA","POA","POA","POA","POA","POA","POA"]
["YA9200","MOD:Y92",null,"VS:D","PC:2","BM:8","NC:Y",null,null,null,null,null,null,null,null,null,null,null,null,"YA_9200_0108",null,"POA","SDupx(CD3MWCuN),N","Base Valve Price","POA","POA","POA","POA","POA","POA","POA",{"$f":"ROUNDUP($V572*FX!$G$2*CF!$B$3,0)","v":{"$error":"#VALUE!"}},{"$f":"ROUNDUP($V572*FX!$G$10*CF!$B$4,0)","v":{"$error":"#VALUE!"}},{"$f":"ROUNDUP($V572*FX!$G$35*CF!$B$5,0)","v":{"$error":"#VALUE!"}},{"$f":"ROUNDUP($V572*FX!$G$3*CF!$B$6,0)","v":{"$error":"#VALUE!"}},null,null,null,null,null,null,null,null,null,null,null,null,null,null,null,null,null,null,null,null,null,null,null,null,null,null,null,null,null,null,null,{"$error":"#VALUE!"},null,null,{"$error":"#VALUE!"},"POA",null,0,null,"POA","POA","POA","POA","POA","POA","POA","POA","POA","POA","POA"]
["YA9200","MOD:Y92",null,"VS:E","PC:2","BM:8","NC:Y",null,null,null,null,null,null,null,null,null,null,null,null,"YA_9200_0109",null,"POA","SDupx(CD3MWCuN),N","Base Valve Price","POA","POA","POA","POA","POA","POA","POA",{"$f":"ROUNDUP($V573*FX!$G$2*CF!$B$3,0)","v":{"$error":"#VALUE!"}},{"$f":"ROUNDUP($V573*FX!$G$10*CF!$B$4,0)","v":{"$error":"#VALUE!"}},{"$f":"ROUNDUP($V573*FX!$G$35*CF!$B$5,0)","v":{"$error":"#VALUE!"}},{"$f":"ROUNDUP($V573*FX!$G$3*CF!$B$6,0)","v":{"$error":"#VALUE!"}},null,null,null,null,null,null,null,null,null,null,null,null,null,null,null,null,null,null,null,null,null,null,null,null,null,null,null,null,null,null,null,{"$error":"#VALUE!"},null,null,{"$error":"#VALUE!"},"POA",null,0,null,"POA","POA","POA","POA","POA","POA","POA","POA","POA","POA","POA"]
["YA9200","MOD:Y92",null,"VS:F","PC:2","BM:8","NC:Y",null,null,null,null,null,null,null,null,null,null,null,null,"YA_9200_0110",null,"POA","SDupx(CD3MWCuN),N","Base Valve Price","POA","POA","POA","POA","POA","POA","POA",{"$f":"ROUNDUP($V574*FX!$G$2*CF!$B$3,0)","v":{"$error":"#VALUE!"}},{"$f":"ROUNDUP($V574*FX!$G$10*CF!$B$4,0)","v":{"$error":"#VALUE!"}},{"$f":"ROUNDUP($V574*FX!$G$35*CF!$B$5,0)","v":{"$error":"#VALUE!"}},{"$f":"ROUNDUP($V574*FX!$G$3*CF!$B$6,0)","v":{"$error":"#VALUE!"}},null,null,null,null,null,null,null,null,null,null,null,null,null,null,null,null,null,null,null,null,null,null,null,null,null,null,null,null,null,null,null,{"$error":"#VALUE!"},null,null,{"$error":"#VALUE!"},"POA",null,0,null,"POA","POA","POA","POA","POA","POA","POA","POA","POA","POA","POA"]
["YA9200","MOD:Y92",null,"VS:G","PC:2","BM:8","NC:Y",null,null,null,null,null,null,null,null,null,null,null,null,"YA_9200_0111",null,"POA","SDupx(CD3MWCuN),N","Base Valve Price","POA","POA","POA","POA","POA","POA","POA",{"$f":"ROUNDUP($V575*FX!$G$2*CF!$B$3,0)","v":{"$error":"#VALUE!"}},{"$f":"ROUNDUP($V575*FX!$G$10*CF!$B$4,0)","v":{"$error":"#VALUE!"}},{"$f":"ROUNDUP($V575*FX!$G$35*CF!$B$5,0)","v":{"$error":"#VALUE!"}},{"$f":"ROUNDUP($V575*FX!$G$3*CF!$B$6,0)","v":{"$error":"#VALUE!"}},null,null,null,null,null,null,null,null,null,null,null,null,null,null,null,null,null,null,null,null,null,null,null,null,null,null,null,null,null,null,null,{"$error":"#VALUE!"},null,null,{"$error":"#VALUE!"},"POA",null,0,null,"POA","POA","POA","POA","POA","POA","POA","POA","POA","POA","POA"]
["YA9200","MOD:Y92",null,"VS:H","PC:2","BM:8","NC:Y",null,null,null,null,null,null,null,null,null,null,null,null,"YA_9200_0112",null,"POA","SDupx(CD3MWCuN),N","Base Valve Price","POA","POA","POA","POA","POA","POA","POA",{"$f":"ROUNDUP($V576*FX!$G$2*CF!$B$3,0)","v":{"$error":"#VALUE!"}},{"$f":"ROUNDUP($V576*FX!$G$10*CF!$B$4,0)","v":{"$error":"#VALUE!"}},{"$f":"ROUNDUP($V576*FX!$G$35*CF!$B$5,0)","v":{"$error":"#VALUE!"}},{"$f":"ROUNDUP($V576*FX!$G$3*CF!$B$6,0)","v":{"$error":"#VALUE!"}},null,null,null,null,null,null,null,null,null,null,null,null,null,null,null,null,null,null,null,null,null,null,null,null,null,null,null,null,null,null,null,{"$error":"#VALUE!"},null,null,{"$error":"#VALUE!"},"POA",null,0,null,"POA","POA","POA","POA","POA","POA","POA","POA","POA","POA","POA"]
["YA9200","MOD:Y92",null,"VS:A","PC:1","BM:7","NC:Y",null,null,null,null,null,null,null,null,null,null,null,null,"YA_9200_0113",null,"POA","6Mo (CK3MCuN), N","Base Valve Price","POA","POA","POA","POA","POA","POA","POA",{"$f":"ROUNDUP($V577*FX!$G$2*CF!$B$3,0)","v":{"$error":"#VALUE!"}},{"$f":"ROUNDUP($V577*FX!$G$10*CF!$B$4,0)","v":{"$error":"#VALUE!"}},{"$f":"ROUNDUP($V577*FX!$G$35*CF!$B$5,0)","v":{"$error":"#VALUE!"}},{"$f":"ROUNDUP($V577*FX!$G$3*CF!$B$6,0)","v":{"$error":"#VALUE!"}},null,null,null,null,null,null,null,null,null,null,null,null,null,null,null,null,null,null,null,null,null,null,null,null,null,null,null,null,null,null,null,{"$error":"#VALUE!"},null,null,{"$error":"#VALUE!"},"POA",null,0,null,"POA","POA","POA","POA","POA","POA","POA","POA","POA","POA","POA"]
["YA9200","MOD:Y92",null,"VS:B","PC:1","BM:7","NC:Y",null,null,null,null,null,null,null,null,null,null,null,null,"YA_9200_0114",null,{"$f":"AE578","v":"POA"},"6Mo (CK3MCuN), N","Base Valve Price","POA",{"$f":"IFERROR(AA578*1.03,\"POA\")","v":"POA"},"POA","POA","POA","POA","POA",{"$f":"ROUNDUP($V578*FX!$G$2*CF!$B$3,0)","v":{"$error":"#VALUE!"}},{"$f":"ROUNDUP($V578*FX!$G$10*CF!$B$4,0)","v":{"$error":"#VALUE!"}},{"$f":"ROUNDUP($V578*FX!$G$35*CF!$B$5,0)","v":{"$error":"#VALUE!"}},{"$f":"ROUNDUP($V578*FX!$G$3*CF!$B$6,0)","v":{"$error":"#VALUE!"}},null,null,null,null,null,null,null,null,null,null,null,null,null,null,null,null,null,null,null,null,null,null,null,null,null,null,null,null,null,null,null,{"$error":"#VALUE!"},null,null,{"$error":"#VALUE!"},"POA",null,0,null,"POA","POA","POA","POA","POA","POA","POA","POA","POA",{"$f":"IF(CE578=\"POA\",\"POA\", ROUNDUP(CE578*1.06,0))","v":"POA"},"POA"]
["YA9200","MOD:Y92",null,"VS:C","PC:1","BM:7","NC:Y",null,null,null,null,null,null,null,null,null,null,null,null,"YA_9200_0115",null,"POA","6Mo (CK3MCuN), N","Base Valve Price",{"$f":"IFERROR(Z579*1.02,\"POA\")","v":"POA"},"POA","POA","POA","POA","POA",{"$f":"CG579","v":"POA"},{"$f":"ROUNDUP($V579*FX!$G$2*CF!$B$3,0)","v":{"$error":"#VALUE!"}},{"$f":"ROUNDUP($V579*FX!$G$10*CF!$B$4,0)","v":{"$error":"#VALUE!"}},{"$f":"ROUNDUP($V579*FX!$G$35*CF!$B$5,0)","v":{"$error":"#VALUE!"}},{"$f":"ROUNDUP($V579*FX!$G$3*CF!$B$6,0)","v":{"$error":"#VALUE!"}},null,null,null,null,null,null,null,null,null,null,null,null,null,null,null,null,null,null,null,null,null,null,null,null,null,null,null,null,null,null,null,{"$f":"ROUNDUP(($AE579+($AE579*$BO$1)),0)","v":{"$error":"#VALUE!"}},null,null,{"$error":"#VALUE!"},"POA",null,{"$f":"ROUNDUP(BT579,0)","v":0},null,"POA","POA","POA","POA","POA","POA","POA","POA","POA","POA",{"$f":"IF(CF579=\"POA\",\"POA\", ROUNDUP(CF579*1.043,0))","v":"POA"}]
["YA9200","MOD:Y92",null,"VS:D","PC:1","BM:7","NC:Y",null,null,null,null,null,null,null,null,null,null,null,null,"YA_9200_0116",null,"POA","6Mo (CK3MCuN), N","Base Valve Price","POA","POA","POA","POA","POA","POA","POA",{"$f":"ROUNDUP($V580*FX!$G$2*CF!$B$3,0)","v":{"$error":"#VALUE!"}},{"$f":"ROUNDUP($V580*FX!$G$10*CF!$B$4,0)","v":{"$error":"#VALUE!"}},{"$f":"ROUNDUP($V580*FX!$G$35*CF!$B$5,0)","v":{"$error":"#VALUE!"}},{"$f":"ROUNDUP($V580*FX!$G$3*CF!$B$6,0)","v":{"$error":"#VALUE!"}},null,null,null,null,null,null,null,null,null,null,null,null,null,null,null,null,null,null,null,null,null,null,null,null,null,null,null,null,null,null,null,{"$error":"#VALUE!"},null,null,{"$error":"#VALUE!"},"POA",null,0,null,"POA","POA","POA","POA","POA","POA","POA","POA","POA","POA","POA"]
["YA9200","MOD:Y92",null,"VS:E","PC:1","BM:7","NC:Y",null,null,null,null,null,null,null,null,null,null,null,null,"YA_9200_0117",null,"POA","6Mo (CK3MCuN), N","Base Valve Price","POA","POA","POA","POA","POA","POA","POA",{"$f":"ROUNDUP($V581*FX!$G$2*CF!$B$3,0)","v":{"$error":"#VALUE!"}},{"$f":"ROUNDUP($V581*FX!$G$10*CF!$B$4,0)","v":{"$error":"#VALUE!"}},{"$f":"ROUNDUP($V581*FX!$G$35*CF!$B$5,0)","v":{"$error":"#VALUE!"}},{"$f":"ROUNDUP($V581*FX!$G$3*CF!$B$6,0)","v":{"$error":"#VALUE!"}},null,null,null,null,null,null,null,null,null,null,null,null,null,null,null,null,null,null,null,null,null,null,null,null,null,null,null,null,null,null,null,{"$error":"#VALUE!"},null,null,{"$error":"#VALUE!"},"POA",null,0,null,"POA","POA","POA","POA","POA","POA","POA","POA","POA","POA","POA"]
["YA9200","MOD:Y92",null,"VS:F","PC:1","BM:7","NC:Y",null,null,null,null,null,null,null,null,null,null,null,null,"YA_9200_0118",null,"POA","6Mo (CK3MCuN), N","Base Valve Price","POA","POA","POA","POA","POA","POA","POA",{"$f":"ROUNDUP($V582*FX!$G$2*CF!$B$3,0)","v":{"$error":"#VALUE!"}},{"$f":"ROUNDUP($V582*FX!$G$10*CF!$B$4,0)","v":{"$error":"#VALUE!"}},{"$f":"ROUNDUP($V582*FX!$G$35*CF!$B$5,0)","v":{"$error":"#VALUE!"}},{"$f":"ROUNDUP($V582*FX!$G$3*CF!$B$6,0)","v":{"$error":"#VALUE!"}},null,null,null,null,null,null,null,null,null,null,null,null,null,null,null,null,null,null,null,null,null,null,null,null,null,null,null,null,null,null,null,{"$error":"#VALUE!"},null,null,{"$error":"#VALUE!"},"POA",null,0,null,"POA","POA","POA","POA","POA","POA","POA","POA","POA","POA","POA"]
["YA9200","MOD:Y92",null,"VS:G","PC:1","BM:7","NC:Y",null,null,null,null,null,null,null,null,null,null,null,null,"YA_9200_0119",null,"POA","6Mo (CK3MCuN), N","Base Valve Price","POA","POA","POA","POA","POA","POA","POA",{"$f":"ROUNDUP($V583*FX!$G$2*CF!$B$3,0)","v":{"$error":"#VALUE!"}},{"$f":"ROUNDUP($V583*FX!$G$10*CF!$B$4,0)","v":{"$error":"#VALUE!"}},{"$f":"ROUNDUP($V583*FX!$G$35*CF!$B$5,0)","v":{"$error":"#VALUE!"}},{"$f":"ROUNDUP($V583*FX!$G$3*CF!$B$6,0)","v":{"$error":"#VALUE!"}},null,null,null,null,null,null,null,null,null,null,null,null,null,null,null,null,null,null,null,null,null,null,null,null,null,null,null,null,null,null,null,{"$error":"#VALUE!"},null,null,{"$error":"#VALUE!"},"POA",null,0,null,"POA","POA","POA","POA","POA","POA","POA","POA","POA","POA","POA"]
["YA9200","MOD:Y92",null,"VS:H","PC:1","BM:7","NC:Y",null,null,null,null,null,null,null,null,null,null,null,null,"YA_9200_0120",null,"POA","6Mo (CK3MCuN), N","Base Valve Price","POA","POA","POA","POA","POA","POA","POA",{"$f":"ROUNDUP($V584*FX!$G$2*CF!$B$3,0)","v":{"$error":"#VALUE!"}},{"$f":"ROUNDUP($V584*FX!$G$10*CF!$B$4,0)","v":{"$error":"#VALUE!"}},{"$f":"ROUNDUP($V584*FX!$G$35*CF!$B$5,0)","v":{"$error":"#VALUE!"}},{"$f":"ROUNDUP($V584*FX!$G$3*CF!$B$6,0)","v":{"$error":"#VALUE!"}},null,null,null,null,null,null,null,null,null,null,null,null,null,null,null,null,null,null,null,null,null,null,null,null,null,null,null,null,null,null,null,{"$error":"#VALUE!"},null,null,{"$error":"#VALUE!"},"POA",null,0,null,"POA","POA","POA","POA","POA","POA","POA","POA","POA","POA","POA"]
["YA9200","MOD:Y92",null,"VS:A","PC:2","BM:7","NC:Y",null,null,null,null,null,null,null,null,null,null,null,null,"YA_9200_0121",null,"POA","6Mo (CK3MCuN), N","Base Valve Price","POA","POA","POA","POA","POA","POA","POA",{"$f":"ROUNDUP($V585*FX!$G$2*CF!$B$3,0)","v":{"$error":"#VALUE!"}},{"$f":"ROUNDUP($V585*FX!$G$10*CF!$B$4,0)","v":{"$error":"#VALUE!"}},{"$f":"ROUNDUP($V585*FX!$G$35*CF!$B$5,0)","v":{"$error":"#VALUE!"}},{"$f":"ROUNDUP($V585*FX!$G$3*CF!$B$6,0)","v":{"$error":"#VALUE!"}},null,null,null,null,null,null,null,null,null,null,null,null,null,null,null,null,null,null,null,null,null,null,null,null,null,null,null,null,null,null,null,{"$error":"#VALUE!"},null,null,{"$error":"#VALUE!"},"POA",null,0,null,"POA","POA","POA","POA","POA","POA","POA","POA","POA","POA","POA"]
["YA9200","MOD:Y92",null,"VS:B","PC:2","BM:7","NC:Y",null,null,null,null,null,null,null,null,null,null,null,null,"YA_9200_0122",null,"POA","6Mo (CK3MCuN), N","Base Valve Price","POA","POA","POA","POA","POA","POA","POA",{"$f":"ROUNDUP($V586*FX!$G$2*CF!$B$3,0)","v":{"$error":"#VALUE!"}},{"$f":"ROUNDUP($V586*FX!$G$10*CF!$B$4,0)","v":{"$error":"#VALUE!"}},{"$f":"ROUNDUP($V586*FX!$G$35*CF!$B$5,0)","v":{"$error":"#VALUE!"}},{"$f":"ROUNDUP($V586*FX!$G$3*CF!$B$6,0)","v":{"$error":"#VALUE!"}},null,null,null,null,null,null,null,null,null,null,null,null,null,null,null,null,null,null,null,null,null,null,null,null,null,null,null,null,null,null,null,{"$error":"#VALUE!"},null,null,{"$error":"#VALUE!"},"POA",null,0,null,"POA","POA","POA","POA","POA","POA","POA","POA","POA","POA","POA"]
["YA9200","MOD:Y92",null,"VS:C","PC:2","BM:7","NC:Y",null,null,null,null,null,null,null,null,null,null,null,null,"YA_9200_0123",null,"POA","6Mo (CK3MCuN), N","Base Valve Price","POA","POA","POA","POA","POA","POA","POA",{"$f":"ROUNDUP($V587*FX!$G$2*CF!$B$3,0)","v":{"$error":"#VALUE!"}},{"$f":"ROUNDUP($V587*FX!$G$10*CF!$B$4,0)","v":{"$error":"#VALUE!"}},{"$f":"ROUNDUP($V587*FX!$G$35*CF!$B$5,0)","v":{"$error":"#VALUE!"}},{"$f":"ROUNDUP($V587*FX!$G$3*CF!$B$6,0)","v":{"$error":"#VALUE!"}},null,null,null,null,null,null,null,null,null,null,null,null,null,null,null,null,null,null,null,null,null,null,null,null,null,null,null,null,null,null,null,{"$error":"#VALUE!"},null,null,{"$error":"#VALUE!"},"POA",null,0,null,"POA","POA","POA","POA","POA","POA","POA","POA","POA","POA","POA"]
["YA9200","MOD:Y92",null,"VS:D","PC:2","BM:7","NC:Y",null,null,null,null,null,null,null,null,null,null,null,null,"YA_9200_0124",null,"POA","6Mo (CK3MCuN), N","Base Valve Price","POA","POA","POA","POA","POA","POA","POA",{"$f":"ROUNDUP($V588*FX!$G$2*CF!$B$3,0)","v":{"$error":"#VALUE!"}},{"$f":"ROUNDUP($V588*FX!$G$10*CF!$B$4,0)","v":{"$error":"#VALUE!"}},{"$f":"ROUNDUP($V588*FX!$G$35*CF!$B$5,0)","v":{"$error":"#VALUE!"}},{"$f":"ROUNDUP($V588*FX!$G$3*CF!$B$6,0)","v":{"$error":"#VALUE!"}},null,null,null,null,null,null,null,null,null,null,null,null,null,null,null,null,null,null,null,null,null,null,null,null,null,null,null,null,null,null,null,{"$error":"#VALUE!"},null,null,{"$error":"#VALUE!"},"POA",null,0,null,"POA","POA","POA","POA","POA","POA","POA","POA","POA","POA","POA"]
["YA9200","MOD:Y92",null,"VS:E","PC:2","BM:7","NC:Y",null,null,null,null,null,null,null,null,null,null,null,null,"YA_9200_0125",null,"POA","6Mo (CK3MCuN), N","Base Valve Price","POA","POA","POA","POA","POA","POA","POA",{"$f":"ROUNDUP($V589*FX!$G$2*CF!$B$3,0)","v":{"$error":"#VALUE!"}},{"$f":"ROUNDUP($V589*FX!$G$10*CF!$B$4,0)","v":{"$error":"#VALUE!"}},{"$f":"ROUNDUP($V589*FX!$G$35*CF!$B$5,0)","v":{"$error":"#VALUE!"}},{"$f":"ROUNDUP($V589*FX!$G$3*CF!$B$6,0)","v":{"$error":"#VALUE!"}},null,null,null,null,null,null,null,null,null,null,null,null,null,null,null,null,null,null,null,null,null,null,null,null,null,null,null,null,null,null,null,{"$error":"#VALUE!"},null,null,{"$error":"#VALUE!"},"POA",null,0,null,"POA","POA","POA","POA","POA","POA","POA","POA","POA","POA","POA"]
["YA9200","MOD:Y92",null,"VS:F","PC:2","BM:7","NC:Y",null,null,null,null,null,null,null,null,null,null,null,null,"YA_9200_0126",null,"POA","6Mo (CK3MCuN), N","Base Valve Price","POA","POA","POA","POA","POA","POA","POA",{"$f":"ROUNDUP($V590*FX!$G$2*CF!$B$3,0)","v":{"$error":"#VALUE!"}},{"$f":"ROUNDUP($V590*FX!$G$10*CF!$B$4,0)","v":{"$error":"#VALUE!"}},{"$f":"ROUNDUP($V590*FX!$G$35*CF!$B$5,0)","v":{"$error":"#VALUE!"}},{"$f":"ROUNDUP($V590*FX!$G$3*CF!$B$6,0)","v":{"$error":"#VALUE!"}},null,null,null,null,null,null,null,null,null,null,null,null,null,null,null,null,null,null,null,null,null,null,null,null,null,null,null,null,null,null,null,{"$error":"#VALUE!"},null,null,{"$error":"#VALUE!"},"POA",null,0,null,"POA","POA","POA","POA","POA","POA","POA","POA","POA","POA","POA"]
["YA9200","MOD:Y92",null,"VS:G","PC:2","BM:7","NC:Y",null,null,null,null,null,null,null,null,null,null,null,null,"YA_9200_0127",null,"POA","6Mo (CK3MCuN), N","Base Valve Price","POA","POA","POA","POA","POA","POA","POA",{"$f":"ROUNDUP($V591*FX!$G$2*CF!$B$3,0)","v":{"$error":"#VALUE!"}},{"$f":"ROUNDUP($V591*FX!$G$10*CF!$B$4,0)","v":{"$error":"#VALUE!"}},{"$f":"ROUNDUP($V591*FX!$G$35*CF!$B$5,0)","v":{"$error":"#VALUE!"}},{"$f":"ROUNDUP($V591*FX!$G$3*CF!$B$6,0)","v":{"$error":"#VALUE!"}},null,null,null,null,null,null,null,null,null,null,null,null,null,null,null,null,null,null,null,null,null,null,null,null,null,null,null,null,null,null,null,{"$error":"#VALUE!"},null,null,{"$error":"#VALUE!"},"POA",null,0,null,"POA","POA","POA","POA","POA","POA","POA","POA","POA","POA","POA"]
["YA9200","MOD:Y92",null,"VS:H","PC:2","BM:7","NC:Y",null,null,null,null,null,null,null,null,null,null,null,null,"YA_9200_0128",null,"POA","6Mo (CK3MCuN), N","Base Valve Price","POA","POA","POA","POA","POA","POA","POA",{"$f":"ROUNDUP($V592*FX!$G$2*CF!$B$3,0)","v":{"$error":"#VALUE!"}},{"$f":"ROUNDUP($V592*FX!$G$10*CF!$B$4,0)","v":{"$error":"#VALUE!"}},{"$f":"ROUNDUP($V592*FX!$G$35*CF!$B$5,0)","v":{"$error":"#VALUE!"}},{"$f":"ROUNDUP($V592*FX!$G$3*CF!$B$6,0)","v":{"$error":"#VALUE!"}},null,null,null,null,null,null,null,null,null,null,null,null,null,null,null,null,null,null,null,null,null,null,null,null,null,null,null,null,null,null,null,{"$error":"#VALUE!"},null,null,{"$error":"#VALUE!"},"POA",null,0,null,"POA","POA","POA","POA","POA","POA","POA","POA","POA","POA","POA"]
[null,"MOD:Y92",null,"FF:A",null,null,null,null,null,null,null,null,null,null,null,null,null,null,null,"YA_9200_0131",null,0,"Raised Face","In/Out Flanges",0,{"$f":"ROUND(IFERROR(AA593*1.03,\"POA\"),0)","v":0},0,0,0,0,0,{"$f":"ROUNDUP($V593*FX!$G$2*CF!$B$3,0)","v":0},{"$f":"ROUNDUP($V593*FX!$G$10*CF!$B$4,0)","v":0},{"$f":"ROUNDUP($V593*FX!$G$35*CF!$B$5,0)","v":0},{"$f":"ROUNDUP($V593*FX!$G$3*CF!$B$6,0)","v":0},null,null,null,null,null,null,null,null,null,null,null,null,null,null,null,null,null,null,null,null,null,null,null,null,null,null,null,null,null,null,null,0,null,null,0,{"$f":"ROUNDUP(BR593,0)","v":0},null,0,null,0,{"$f":"ROUNDUP(($BW593+($BX$1*$BW593)),0)","v":0},0,{"$f":"BY593+(BY593*$BZ$1)","v":0},0,{"$f":"ROUNDUP(CA593,0)","v":0},{"$f":"CB593+(CB593*$CC$1)","v":0},0,{"$f":"ROUNDUP(CD593,0)","v":0},0,0]
["YA9200","MOD:Y92",null,"VS:A,B,C,D,E","BM:0,1","SM:A","LT:Y,N","NC:N,Y",null,null,null,null,null,null,null,null,null,null,null,"YA_9200_0132",null,0,"Graphite /Turc 10","Soft Goods",0,0,0,0,0,0,0,{"$f":"ROUNDUP($V594*FX!$G$2*CF!$B$3,0)","v":0},{"$f":"ROUNDUP($V594*FX!$G$10*CF!$B$4,0)","v":0},{"$f":"ROUNDUP($V594*FX!$G$35*CF!$B$5,0)","v":0},{"$f":"ROUNDUP($V594*FX!$G$3*CF!$B$6,0)","v":0},null,null,null,null,null,null,null,null,null,null,null,null,null,null,null,null,null,null,null,null,null,null,null,null,null,null,null,null,null,null,null,0,null,null,0,0,null,0,null,0,0,0,0,0,0,0,0,0,0,0]
["YA9200","MOD:Y92",null,"VS:F,G,H","BM:0,1","SM:H","LT:N","NC:N,Y",null,null,null,null,null,null,null,null,null,null,null,"YA_9200_0133",null,0,"TFEP / Turcon 10","Soft Goods",0,0,0,0,0,0,0,{"$f":"ROUNDUP($V595*FX!$G$2*CF!$B$3,0)","v":0},{"$f":"ROUNDUP($V595*FX!$G$10*CF!$B$4,0)","v":0},{"$f":"ROUNDUP($V595*FX!$G$35*CF!$B$5,0)","v":0},{"$f":"ROUNDUP($V595*FX!$G$3*CF!$B$6,0)","v":0},null,null,null,null,null,null,null,null,null,null,null,null,null,null,null,null,null,null,null,null,null,null,null,null,null,null,null,null,null,null,null,0,null,null,0,0,null,0,null,0,0,0,0,0,0,0,0,0,0,0]
["YA9200","MOD:Y92",null,"VS:F","BM:2,3,5,6,7,8","SM:I","LT:Y,N","NC:N,Y",null,null,null,null,null,null,null,null,null,null,null,"YA_9200_0134",null,0,"TFEP  / Turcon 1","Soft Goods",0,0,0,0,0,0,0,{"$f":"ROUNDUP($V596*FX!$G$2*CF!$B$3,0)","v":0},{"$f":"ROUNDUP($V596*FX!$G$10*CF!$B$4,0)","v":0},{"$f":"ROUNDUP($V596*FX!$G$35*CF!$B$5,0)","v":0},{"$f":"ROUNDUP($V596*FX!$G$3*CF!$B$6,0)","v":0},null,null,null,null,null,null,null,null,null,null,null,null,null,null,null,null,null,null,null,null,null,null,null,null,null,null,null,null,null,null,null,0,null,null,0,0,null,0,null,0,0,0,0,0,0,0,0,0,0,0]
["YA9200","MOD:Y92",null,"VS:F","BM:0,1","SM:D","LT:N","NC:N,Y",null,null,null,null,null,null,null,null,null,null,null,"YA_9200_0135",null,2628,"Viton / Turcon 10","Soft Goods",2004.3,1965,1908,1908,1852,1798,2628,{"$f":"ROUNDUP($V597*FX!$G$2*CF!$B$3,0)","v":2628},{"$f":"ROUNDUP($V597*FX!$G$10*CF!$B$4,0)","v":3626},{"$f":"ROUNDUP($V597*FX!$G$35*CF!$B$5,0)","v":1767},{"$f":"ROUNDUP($V597*FX!$G$3*CF!$B$6,0)","v":3655},null,null,null,null,null,null,null,null,null,null,null,null,null,null,null,null,null,null,null,null,null,null,null,null,null,null,null,null,null,null,null,2739,null,null,2089.21,2090,null,0,null,2004.5448000000001,2089,2089,2172.56,2172.56,2173,2375.0889999999999,2375.0889999999999,2376,2519,2628]
["YA9200","MOD:Y92",null,"VS:F","BM:2,3,5,6,7,8","SM:E","LT:Y,N","NC:N,Y",null,null,null,null,null,null,null,null,null,null,null,"YA_9200_0136",null,2628,"Viton / Turcon 1","Soft Goods",2004.3,1965,1908,1908,1852,1798,2628,{"$f":"ROUNDUP($V598*FX!$G$2*CF!$B$3,0)","v":2628},{"$f":"ROUNDUP($V598*FX!$G$10*CF!$B$4,0)","v":3626},{"$f":"ROUNDUP($V598*FX!$G$35*CF!$B$5,0)","v":1767},{"$f":"ROUNDUP($V598*FX!$G$3*CF!$B$6,0)","v":3655},null,null,null,null,null,null,null,null,null,null,null,null,null,null,null,null,null,null,null,null,null,null,null,null,null,null,null,null,null,null,null,2739,null,null,2089.21,2090,null,0,null,2004.5448000000001,2089,2089,2172.56,2172.56,2173,2375.0889999999999,2375.0889999999999,2376,2519,2628]
["YA9200","MOD:Y92",null,"VS:F","BM:0,1","SM:F","LT:N","NC:N,Y",null,null,null,null,null,null,null,null,null,null,null,"YA_9200_0137",null,1974,"EPDM / Turcon 10","Soft Goods",1505.52,1476,1433,1433,1391,1350,1974,{"$f":"ROUNDUP($V599*FX!$G$2*CF!$B$3,0)","v":1974},{"$f":"ROUNDUP($V599*FX!$G$10*CF!$B$4,0)","v":2724},{"$f":"ROUNDUP($V599*FX!$G$35*CF!$B$5,0)","v":1327},{"$f":"ROUNDUP($V599*FX!$G$3*CF!$B$6,0)","v":2745},null,null,null,null,null,null,null,null,null,null,null,null,null,null,null,null,null,null,null,null,null,null,null,null,null,null,null,null,null,null,null,2057,null,null,1569.252,1570,null,0,null,1505.5098,1569,1569,1631.76,1631.76,1632,1783.7760000000001,1783.7760000000001,1784,1892,1974]
["YA9200","MOD:Y92",null,"VS:F","BM:5,6","SM:G","LT:N","NC:N,Y",null,null,null,null,null,null,null,null,null,null,null,"YA_9200_0138",null,1974,"EPDM / Turcon 1","Soft Goods",1505.52,1476,1433,1433,1391,1350,1974,{"$f":"ROUNDUP($V600*FX!$G$2*CF!$B$3,0)","v":1974},{"$f":"ROUNDUP($V600*FX!$G$10*CF!$B$4,0)","v":2724},{"$f":"ROUNDUP($V600*FX!$G$35*CF!$B$5,0)","v":1327},{"$f":"ROUNDUP($V600*FX!$G$3*CF!$B$6,0)","v":2745},null,null,null,null,null,null,null,null,null,null,null,null,null,null,null,null,null,null,null,null,null,null,null,null,null,null,null,null,null,null,null,2057,null,null,1569.252,1570,null,0,null,1505.5098,1569,1569,1631.76,1631.76,1632,1783.7760000000001,1783.7760000000001,1784,1892,1974]
["YA9200","MOD:Y92",null,"VS:A","BM:2,3 ","SM:B","LT:Y,N","NC:N,Y",null,null,null,null,null,null,null,null,null,null,null,"YA_9200_0139",null,0,"Graph / Turc 1","Soft Goods",0,0,0,0,0,0,0,{"$f":"ROUNDUP($V601*FX!$G$2*CF!$B$3,0)","v":0},{"$f":"ROUNDUP($V601*FX!$G$10*CF!$B$4,0)","v":0},{"$f":"ROUNDUP($V601*FX!$G$35*CF!$B$5,0)","v":0},{"$f":"ROUNDUP($V601*FX!$G$3*CF!$B$6,0)","v":0},null,null,null,null,null,null,null,null,null,null,null,null,null,null,null,null,null,null,null,null,null,null,null,null,null,null,null,null,null,null,null,0,null,null,0,0,null,0,null,0,0,0,0,0,0,0,0,0,0,0]
["YA9200","MOD:Y92",null,"VS:A","BM:5,6,7,8","SM:C","LT:Y,N","NC:N,Y",null,null,null,null,null,null,null,null,null,null,null,"YA_9200_0140",null,987,"Vrg TFE / Turc 1","Soft Goods",751.74,737,716,716,695,675,987,{"$f":"ROUNDUP($V602*FX!$G$2*CF!$B$3,0)","v":987},{"$f":"ROUNDUP($V602*FX!$G$10*CF!$B$4,0)","v":1362},{"$f":"ROUNDUP($V602*FX!$G$35*CF!$B$5,0)","v":664},{"$f":"ROUNDUP($V602*FX!$G$3*CF!$B$6,0)","v":1373},null,null,null,null,null,null,null,null,null,null,null,null,null,null,null,null,null,null,null,null,null,null,null,null,null,null,null,null,null,null,null,1029,null,null,784.62599999999998,785,null,0,null,752.2296,784,784,815.36,815.36,816,891.88800000000003,891.88800000000003,892,946,987]
[null,"MOD:Y92",null,"DT:S",null,null,null,null,null,null,null,null,null,null,null,null,null,null,null,"YA_9200_0141",null,0,"Slot Trim","Do Not Use",0,0,0,0,0,0,0,{"$f":"ROUNDUP($V603*FX!$G$2*CF!$B$3,0)","v":0},{"$f":"ROUNDUP($V603*FX!$G$10*CF!$B$4,0)","v":0},{"$f":"ROUNDUP($V603*FX!$G$35*CF!$B$5,0)","v":0},{"$f":"ROUNDUP($V603*FX!$G$3*CF!$B$6,0)","v":0},null,null,null,null,null,null,null,null,null,null,null,null,null,null,null,null,null,null,null,null,null,null,null,null,null,null,null,null,null,null,null,0,null,null,0,0,null,0,null,0,0,0,0,0,0,0,0,0,0,0]
["YA9200","MOD:Y92",null,"VS:A,B,C,D,E,F,G,H","BM:0,1,5,6","SM:A,B,C,D,E,F,G,H,I","LT:Y,N","NC:N",null,null,null,null,null,null,null,null,null,null,null,"YA_9200_0142",null,0,"NACE not req(STD)","Soft Goods",0,0,0,0,0,0,0,{"$f":"ROUNDUP($V604*FX!$G$2*CF!$B$3,0)","v":0},{"$f":"ROUNDUP($V604*FX!$G$10*CF!$B$4,0)","v":0},{"$f":"ROUNDUP($V604*FX!$G$35*CF!$B$5,0)","v":0},{"$f":"ROUNDUP($V604*FX!$G$3*CF!$B$6,0)","v":0},null,null,null,null,null,null,null,null,null,null,null,null,null,null,null,null,null,null,null,null,null,null,null,null,null,null,null,null,null,null,null,0,null,null,0,0,null,0,null,0,0,0,0,0,0,0,0,0,0,0]
["YA9200","MOD:Y92",null,"VS:A","BM:2,3,7,8","NC:Y",null,null,null,null,null,null,null,null,null,null,null,null,null,"YA_9200_0143",null,660,"NACE","NACE",501.84000000000003,492,478,478,464,450,660,{"$f":"ROUNDUP($V605*FX!$G$2*CF!$B$3,0)","v":660},{"$f":"ROUNDUP($V605*FX!$G$10*CF!$B$4,0)","v":911},{"$f":"ROUNDUP($V605*FX!$G$35*CF!$B$5,0)","v":444},{"$f":"ROUNDUP($V605*FX!$G$3*CF!$B$6,0)","v":918},null,null,null,null,null,null,null,null,null,null,null,null,null,null,null,null,null,null,null,null,null,null,null,null,null,null,null,null,null,null,null,688,null,null,524.12599999999998,525,null,0,null,502.18680000000006,524,524,544.96,544.96,545,595.68499999999995,595.68499999999995,596,632,660]
["YA9200","MOD:Y92",null,"VS:B","BM:2,3,7,8","NC:Y",null,null,null,null,null,null,null,null,null,null,null,null,null,"YA_9200_0144",null,660,"NACE","NACE",501.84000000000003,492,478,478,464,450,660,{"$f":"ROUNDUP($V606*FX!$G$2*CF!$B$3,0)","v":660},{"$f":"ROUNDUP($V606*FX!$G$10*CF!$B$4,0)","v":911},{"$f":"ROUNDUP($V606*FX!$G$35*CF!$B$5,0)","v":444},{"$f":"ROUNDUP($V606*FX!$G$3*CF!$B$6,0)","v":918},null,null,null,null,null,null,null,null,null,null,null,null,null,null,null,null,null,null,null,null,null,null,null,null,null,null,null,null,null,null,null,688,null,null,524.12599999999998,525,null,0,null,502.18680000000006,524,524,544.96,544.96,545,595.68499999999995,595.68499999999995,596,632,660]
["YA9200","MOD:Y92",null,"VS:C","BM:2,3,7,8","NC:Y",null,null,null,null,null,null,null,null,null,null,null,null,null,"YA_9200_0145",null,1646,"NACE","NACE",1254.5999999999999,1230,1194,1194,1159,1125,1646,{"$f":"ROUNDUP($V607*FX!$G$2*CF!$B$3,0)","v":1646},{"$f":"ROUNDUP($V607*FX!$G$10*CF!$B$4,0)","v":2271},{"$f":"ROUNDUP($V607*FX!$G$35*CF!$B$5,0)","v":1107},{"$f":"ROUNDUP($V607*FX!$G$3*CF!$B$6,0)","v":2289},null,null,null,null,null,null,null,null,null,null,null,null,null,null,null,null,null,null,null,null,null,null,null,null,null,null,null,null,null,null,null,1716,null,null,1307.71,1308,null,0,null,1254.4164000000001,1308,1308,1360.32,1360.32,1361,1487.5730000000001,1487.5730000000001,1488,1578,1646]
["YA9200","MOD:Y92",null,"VS:D","BM:2,3,7,8","NC:Y",null,null,null,null,null,null,null,null,null,null,null,null,null,"YA_9200_0146",null,2630,"NACE","NACE",2006.3400000000001,1967,1910,1910,1854,1800,2630,{"$f":"ROUNDUP($V608*FX!$G$2*CF!$B$3,0)","v":2630},{"$f":"ROUNDUP($V608*FX!$G$10*CF!$B$4,0)","v":3629},{"$f":"ROUNDUP($V608*FX!$G$35*CF!$B$5,0)","v":1768},{"$f":"ROUNDUP($V608*FX!$G$3*CF!$B$6,0)","v":3658},null,null,null,null,null,null,null,null,null,null,null,null,null,null,null,null,null,null,null,null,null,null,null,null,null,null,null,null,null,null,null,2741,null,null,2091.2939999999999,2092,null,0,null,2006.646,2091,2091,2174.64,2174.64,2175,2377.2750000000001,2377.2750000000001,2378,2521,2630]
["YA9200","MOD:Y92",null,"VS:E","BM:2,3,7,8","NC:Y",null,null,null,null,null,null,null,null,null,null,null,null,null,"YA_9200_0147",null,4623,"NACE","NACE",3528.18,3459,3358,3358,3260,3165,4623,{"$f":"ROUNDUP($V609*FX!$G$2*CF!$B$3,0)","v":4623},{"$f":"ROUNDUP($V609*FX!$G$10*CF!$B$4,0)","v":6378},{"$f":"ROUNDUP($V609*FX!$G$35*CF!$B$5,0)","v":3107},{"$f":"ROUNDUP($V609*FX!$G$3*CF!$B$6,0)","v":6429},null,null,null,null,null,null,null,null,null,null,null,null,null,null,null,null,null,null,null,null,null,null,null,null,null,null,null,null,null,null,null,4818,null,null,3676.1759999999999,3677,null,0,null,3527.9148000000005,3677,3677,3824.08,3824.08,3825,4180.7250000000004,4180.7250000000004,4181,4432,4623]
["YA9200","MOD:Y92",null,"VS:F","BM:2,3,7,8","NC:Y",null,null,null,null,null,null,null,null,null,null,null,null,null,"YA_9200_0148",null,6936,"NACE","NACE",5294.82,5191,5040,5040,4893,4750,6936,{"$f":"ROUNDUP($V610*FX!$G$2*CF!$B$3,0)","v":6936},{"$f":"ROUNDUP($V610*FX!$G$10*CF!$B$4,0)","v":9569},{"$f":"ROUNDUP($V610*FX!$G$35*CF!$B$5,0)","v":4662},{"$f":"ROUNDUP($V610*FX!$G$3*CF!$B$6,0)","v":9645},null,null,null,null,null,null,null,null,null,null,null,null,null,null,null,null,null,null,null,null,null,null,null,null,null,null,null,null,null,null,null,7228,null,null,5518.4319999999998,5519,null,0,null,5295.0240000000003,5518,5518,5738.72,5738.72,5739,6272.7269999999999,6272.7269999999999,6273,6650,6936]
["YA9200","MOD:Y92",null,"VS:G","BM:2,3,7,8","NC:Y",null,null,null,null,null,null,null,null,null,null,null,null,null,"YA_9200_0149",null,6936,"NACE","NACE",5294.82,5191,5040,5040,4893,4750,6936,{"$f":"ROUNDUP($V611*FX!$G$2*CF!$B$3,0)","v":6936},{"$f":"ROUNDUP($V611*FX!$G$10*CF!$B$4,0)","v":9569},{"$f":"ROUNDUP($V611*FX!$G$35*CF!$B$5,0)","v":4662},{"$f":"ROUNDUP($V611*FX!$G$3*CF!$B$6,0)","v":9645},null,null,null,null,null,null,null,null,null,null,null,null,null,null,null,null,null,null,null,null,null,null,null,null,null,null,null,null,null,null,null,7228,null,null,5518.4319999999998,5519,null,0,null,5295.0240000000003,5518,5518,5738.72,5738.72,5739,6272.7269999999999,6272.7269999999999,6273,6650,6936]
["YA9200","MOD:Y92",null,"VS:H","BM:2,3,7,8","NC:Y",null,null,null,null,null,null,null,null,null,null,null,null,null,"YA_9200_0150",null,7491,"NACE","NACE",5718.12,5606,5443,5443,5284,5130,7491,{"$f":"ROUNDUP($V612*FX!$G$2*CF!$B$3,0)","v":7491},{"$f":"ROUNDUP($V612*FX!$G$10*CF!$B$4,0)","v":10334},{"$f":"ROUNDUP($V612*FX!$G$35*CF!$B$5,0)","v":5035},{"$f":"ROUNDUP($V612*FX!$G$3*CF!$B$6,0)","v":10417},null,null,null,null,null,null,null,null,null,null,null,null,null,null,null,null,null,null,null,null,null,null,null,null,null,null,null,null,null,null,null,7806,null,null,5959.1980000000003,5960,null,0,null,5718.4157999999998,5959,5959,6197.36,6197.36,6198,6774.4139999999998,6774.4139999999998,6775,7182,7491]
["YA9200","MOD:Y92",null,"VS:A,B,C,D,E,F,G,H","BM:0,1,2,3,5,6,7,8","SM:A,B,C,D,E,F,G,H,I","LT:N","NC:N,Y",null,null,null,null,null,null,null,null,null,null,null,"YA_9200_0151",null,0,"Not Low Temp","Soft Goods",0,0,0,0,0,0,0,{"$f":"ROUNDUP($V613*FX!$G$2*CF!$B$3,0)","v":0},{"$f":"ROUNDUP($V613*FX!$G$10*CF!$B$4,0)","v":0},{"$f":"ROUNDUP($V613*FX!$G$35*CF!$B$5,0)","v":0},{"$f":"ROUNDUP($V613*FX!$G$3*CF!$B$6,0)","v":0},null,null,null,null,null,null,null,null,null,null,null,null,null,null,null,null,null,null,null,null,null,null,null,null,null,null,null,null,null,null,null,0,null,null,0,0,null,0,null,0,0,0,0,0,0,0,0,0,0,0]
["YA9200","MOD:Y92",null,"VS:A,B,C,D,E","BM:0,1,2,3,5,6,7,8","SM:A,B","LT:Y","NC:N,Y",null,null,null,null,null,null,null,null,null,null,null,"YA_9200_0152",null,0,"Low Temp App","Soft Goods",0,0,0,0,0,0,0,{"$f":"ROUNDUP($V614*FX!$G$2*CF!$B$3,0)","v":0},{"$f":"ROUNDUP($V614*FX!$G$10*CF!$B$4,0)","v":0},{"$f":"ROUNDUP($V614*FX!$G$35*CF!$B$5,0)","v":0},{"$f":"ROUNDUP($V614*FX!$G$3*CF!$B$6,0)","v":0},null,null,null,null,null,null,null,null,null,null,null,null,null,null,null,null,null,null,null,null,null,null,null,null,null,null,null,null,null,null,null,0,null,null,0,0,null,0,null,0,0,{"$f":"ROUNDUP(BX614,0)","v":0},0,0,0,0,0,0,0,0]
[null,"MOD:Y92",null,"OR:H",null,null,null,null,null,null,null,null,null,null,null,null,null,null,null,"YA_9200_0153",null,0,"Horizontal","Do Not Use",0,0,0,0,0,0,0,{"$f":"ROUNDUP($V615*FX!$G$2*CF!$B$3,0)","v":0},{"$f":"ROUNDUP($V615*FX!$G$10*CF!$B$4,0)","v":0},{"$f":"ROUNDUP($V615*FX!$G$35*CF!$B$5,0)","v":0},{"$f":"ROUNDUP($V615*FX!$G$3*CF!$B$6,0)","v":0},null,null,null,null,null,null,null,null,null,null,null,null,null,null,null,null,null,null,null,null,null,null,null,null,null,null,null,null,null,null,null,0,null,null,0,0,null,0,null,0,0,0,0,0,0,0,0,0,0,0]
[null,"MOD:Y92",null,"OR:V",null,null,null,null,null,null,null,null,null,null,null,null,null,null,null,"YA_9200_0154",null,0,"Vertical","Do Not Use",0,0,0,0,0,0,0,{"$f":"ROUNDUP($V616*FX!$G$2*CF!$B$3,0)","v":0},{"$f":"ROUNDUP($V616*FX!$G$10*CF!$B$4,0)","v":0},{"$f":"ROUNDUP($V616*FX!$G$35*CF!$B$5,0)","v":0},{"$f":"ROUNDUP($V616*FX!$G$3*CF!$B$6,0)","v":0},null,null,null,null,null,null,null,null,null,null,null,null,null,null,null,null,null,null,null,null,null,null,null,null,null,null,null,null,null,null,null,0,null,null,0,0,null,0,null,0,0,0,0,0,0,0,0,0,0,0]
[null,"MOD:Y92",null,"VS:A","MCV:0030",null,null,null,null,null,null,null,null,null,null,null,null,null,null,"YA_9200_0155",null,0,"30 Main Cv","Do Not Use",0,0,0,0,0,0,0,{"$f":"ROUNDUP($V617*FX!$G$2*CF!$B$3,0)","v":0},{"$f":"ROUNDUP($V617*FX!$G$10*CF!$B$4,0)","v":0},{"$f":"ROUNDUP($V617*FX!$G$35*CF!$B$5,0)","v":0},{"$f":"ROUNDUP($V617*FX!$G$3*CF!$B$6,0)","v":0},null,null,null,null,null,null,null,null,null,null,null,null,null,null,null,null,null,null,null,null,null,null,null,null,null,null,null,null,null,null,null,0,null,null,0,0,null,0,null,0,0,0,0,0,0,0,0,0,0,0]
[null,"MOD:Y92",null,"VS:A","MCV:0036",null,null,null,null,null,null,null,null,null,null,null,null,null,null,"YA_9200_0156",null,0,"36 Main Cv","Do Not Use",0,0,0,0,0,0,0,{"$f":"ROUNDUP($V618*FX!$G$2*CF!$B$3,0)","v":0},{"$f":"ROUNDUP($V618*FX!$G$10*CF!$B$4,0)","v":0},{"$f":"ROUNDUP($V618*FX!$G$35*CF!$B$5,0)","v":0},{"$f":"ROUNDUP($V618*FX!$G$3*CF!$B$6,0)","v":0},null,null,null,null,null,null,null,null,null,null,null,null,null,null,null,null,null,null,null,null,null,null,null,null,null,null,null,null,null,null,null,0,null,null,0,0,null,0,null,0,0,0,0,0,0,0,0,0,0,0]
[null,"MOD:Y92",null,"VS:A","MCV:0044",null,null,null,null,null,null,null,null,null,null,null,null,null,null,"YA_9200_0157",null,0,"44 Main Cv","Do Not Use",0,0,0,0,0,0,0,{"$f":"ROUNDUP($V619*FX!$G$2*CF!$B$3,0)","v":0},{"$f":"ROUNDUP($V619*FX!$G$10*CF!$B$4,0)","v":0},{"$f":"ROUNDUP($V619*FX!$G$35*CF!$B$5,0)","v":0},{"$f":"ROUNDUP($V619*FX!$G$3*CF!$B$6,0)","v":0},null,null,null,null,null,null,null,null,null,null,null,null,null,null,null,null,null,null,null,null,null,null,null,null,null,null,null,null,null,null,null,0,null,null,0,0,null,0,null,0,0,0,0,0,0,0,0,0,0,0]
[null,"MOD:Y92",null,"VS:A","MCV:0053",null,null,null,null,null,null,null,null,null,null,null,null,null,null,"YA_9200_0158",null,0,"53 Main Cv","Do Not Use",0,0,0,0,0,0,0,{"$f":"ROUNDUP($V620*FX!$G$2*CF!$B$3,0)","v":0},{"$f":"ROUNDUP($V620*FX!$G$10*CF!$B$4,0)","v":0},{"$f":"ROUNDUP($V620*FX!$G$35*CF!$B$5,0)","v":0},{"$f":"ROUNDUP($V620*FX!$G$3*CF!$B$6,0)","v":0},null,null,null,null,null,null,null,null,null,null,null,null,null,null,null,null,null,null,null,null,null,null,null,null,null,null,null,null,null,null,null,0,null,null,0,0,null,0,null,0,0,0,0,0,0,0,0,0,0,0]
[null,"MOD:Y92",null,"VS:B","MCV:0055",null,null,null,null,null,null,null,null,null,null,null,null,null,null,"YA_9200_0159",null,0,"55 Main Cv","Do Not Use",0,0,0,0,0,0,0,{"$f":"ROUNDUP($V621*FX!$G$2*CF!$B$3,0)","v":0},{"$f":"ROUNDUP($V621*FX!$G$10*CF!$B$4,0)","v":0},{"$f":"ROUNDUP($V621*FX!$G$35*CF!$B$5,0)","v":0},{"$f":"ROUNDUP($V621*FX!$G$3*CF!$B$6,0)","v":0},null,null,null,null,null,null,null,null,null,null,null,null,null,null,null,null,null,null,null,null,null,null,null,null,null,null,null,null,null,null,null,0,null,null,0,0,null,0,null,0,0,0,0,0,0,0,0,0,0,0]
[null,"MOD:Y92",null,"VS:B","MCV:0065",null,null,null,null,null,null,null,null,null,null,null,null,null,null,"YA_9200_0160",null,0,"65 Main Cv","Do Not Use",0,0,0,0,0,0,0,{"$f":"ROUNDUP($V622*FX!$G$2*CF!$B$3,0)","v":0},{"$f":"ROUNDUP($V622*FX!$G$10*CF!$B$4,0)","v":0},{"$f":"ROUNDUP($V622*FX!$G$35*CF!$B$5,0)","v":0},{"$f":"ROUNDUP($V622*FX!$G$3*CF!$B$6,0)","v":0},null,null,null,null,null,null,null,null,null,null,null,null,null,null,null,null,null,null,null,null,null,null,null,null,null,null,null,null,null,null,null,0,null,null,0,0,null,0,null,0,0,0,0,0,0,0,0,0,0,0]
[null,"MOD:Y92",null,"VS:A","MCV:0075",null,null,null,null,null,null,null,null,null,null,null,null,null,null,"YA_9200_0161",null,0,"75 Main Cv","Do Not Use",0,0,0,0,0,0,0,{"$f":"ROUNDUP($V623*FX!$G$2*CF!$B$3,0)","v":0},{"$f":"ROUNDUP($V623*FX!$G$10*CF!$B$4,0)","v":0},{"$f":"ROUNDUP($V623*FX!$G$35*CF!$B$5,0)","v":0},{"$f":"ROUNDUP($V623*FX!$G$3*CF!$B$6,0)","v":0},null,null,null,null,null,null,null,null,null,null,null,null,null,null,null,null,null,null,null,null,null,null,null,null,null,null,null,null,null,null,null,0,null,null,0,0,null,0,null,0,0,0,0,0,0,0,0,0,0,0]
[null,"MOD:Y92",null,"VS:B","MCV:0092",null,null,null,null,null,null,null,null,null,null,null,null,null,null,"YA_9200_0162",null,0,"92 Main Cv","Do Not Use",0,0,0,0,0,0,0,{"$f":"ROUNDUP($V624*FX!$G$2*CF!$B$3,0)","v":0},{"$f":"ROUNDUP($V624*FX!$G$10*CF!$B$4,0)","v":0},{"$f":"ROUNDUP($V624*FX!$G$35*CF!$B$5,0)","v":0},{"$f":"ROUNDUP($V624*FX!$G$3*CF!$B$6,0)","v":0},null,null,null,null,null,null,null,null,null,null,null,null,null,null,null,null,null,null,null,null,null,null,null,null,null,null,null,null,null,null,null,0,null,null,0,0,null,0,null,0,0,0,0,0,0,0,0,0,0,0]
[null,"MOD:Y92",null,"VS:B","MCV:0110",null,null,null,null,null,null,null,null,null,null,null,null,null,null,"YA_9200_0163",null,0,"110 Main Cv","Do Not Use",0,0,0,0,0,0,0,{"$f":"ROUNDUP($V625*FX!$G$2*CF!$B$3,0)","v":0},{"$f":"ROUNDUP($V625*FX!$G$10*CF!$B$4,0)","v":0},{"$f":"ROUNDUP($V625*FX!$G$35*CF!$B$5,0)","v":0},{"$f":"ROUNDUP($V625*FX!$G$3*CF!$B$6,0)","v":0},null,null,null,null,null,null,null,null,null,null,null,null,null,null,null,null,null,null,null,null,null,null,null,null,null,null,null,null,null,null,null,0,null,null,0,0,null,0,null,0,0,0,0,0,0,0,0,0,0,0]
[null,"MOD:Y92",null,"VS:C","MCV:0115",null,null,null,null,null,null,null,null,null,null,null,null,null,null,"YA_9200_0164",null,0,"115 Main Cv ","Do Not Use",0,0,0,0,0,0,0,{"$f":"ROUNDUP($V626*FX!$G$2*CF!$B$3,0)","v":0},{"$f":"ROUNDUP($V626*FX!$G$10*CF!$B$4,0)","v":0},{"$f":"ROUNDUP($V626*FX!$G$35*CF!$B$5,0)","v":0},{"$f":"ROUNDUP($V626*FX!$G$3*CF!$B$6,0)","v":0},null,null,null,null,null,null,null,null,null,null,null,null,null,null,null,null,null,null,null,null,null,null,null,null,null,null,null,null,null,null,null,0,null,null,0,0,null,0,null,0,0,0,0,0,0,0,0,0,0,0]
[null,"MOD:Y92",null,"VS:B","MCV:0130",null,null,null,null,null,null,null,null,null,null,null,null,null,null,"YA_9200_0165",null,0,"130 Main Cv","Do Not Use",0,0,0,0,0,0,0,{"$f":"ROUNDUP($V627*FX!$G$2*CF!$B$3,0)","v":0},{"$f":"ROUNDUP($V627*FX!$G$10*CF!$B$4,0)","v":0},{"$f":"ROUNDUP($V627*FX!$G$35*CF!$B$5,0)","v":0},{"$f":"ROUNDUP($V627*FX!$G$3*CF!$B$6,0)","v":0},null,null,null,null,null,null,null,null,null,null,null,null,null,null,null,null,null,null,null,null,null,null,null,null,null,null,null,null,null,null,null,0,null,null,0,0,null,0,null,0,0,0,0,0,0,0,0,0,0,0]
[null,"MOD:Y92",null,"VS:C","MCV:0135",null,null,null,null,null,null,null,null,null,null,null,null,null,null,"YA_9200_0166",null,0,"135 Main Cv ","Do Not Use",0,0,0,0,0,0,0,{"$f":"ROUNDUP($V628*FX!$G$2*CF!$B$3,0)","v":0},{"$f":"ROUNDUP($V628*FX!$G$10*CF!$B$4,0)","v":0},{"$f":"ROUNDUP($V628*FX!$G$35*CF!$B$5,0)","v":0},{"$f":"ROUNDUP($V628*FX!$G$3*CF!$B$6,0)","v":0},null,null,null,null,null,null,null,null,null,null,null,null,null,null,null,null,null,null,null,null,null,null,null,null,null,null,null,null,null,null,null,0,null,null,0,0,null,0,null,0,0,0,0,0,0,0,0,0,0,0]
[null,"MOD:Y92",null,"VS:B","MCV:0150",null,null,null,null,null,null,null,null,null,null,null,null,null,null,"YA_9200_0167",null,0,"150 Main Cv","Do Not Use",0,0,0,0,0,0,0,{"$f":"ROUNDUP($V629*FX!$G$2*CF!$B$3,0)","v":0},{"$f":"ROUNDUP($V629*FX!$G$10*CF!$B$4,0)","v":0},{"$f":"ROUNDUP($V629*FX!$G$35*CF!$B$5,0)","v":0},{"$f":"ROUNDUP($V629*FX!$G$3*CF!$B$6,0)","v":0},null,null,null,null,null,null,null,null,null,null,null,null,null,null,null,null,null,null,null,null,null,null,null,null,null,null,null,null,null,null,null,0,null,null,0,0,null,0,null,0,0,0,0,0,0,0,0,0,0,0]
[null,"MOD:Y92",null,"VS:C","MCV:0160",null,null,null,null,null,null,null,null,null,null,null,null,null,null,"YA_9200_0168",null,0,"160 Main Cv ","Do Not Use",0,0,0,0,0,0,0,{"$f":"ROUNDUP($V630*FX!$G$2*CF!$B$3,0)","v":0},{"$f":"ROUNDUP($V630*FX!$G$10*CF!$B$4,0)","v":0},{"$f":"ROUNDUP($V630*FX!$G$35*CF!$B$5,0)","v":0},{"$f":"ROUNDUP($V630*FX!$G$3*CF!$B$6,0)","v":0},null,null,null,null,null,null,null,null,null,null,null,null,null,null,null,null,null,null,null,null,null,null,null,null,null,null,null,null,null,null,null,0,null,null,0,0,null,0,null,0,0,0,0,0,0,0,0,0,0,0]
[null,"MOD:Y92",null,"VS:C","MCV:0190",null,null,null,null,null,null,null,null,null,null,null,null,null,null,"YA_9200_0169",null,0,"190 Main Cv ","Do Not Use",0,0,0,0,0,0,0,{"$f":"ROUNDUP($V631*FX!$G$2*CF!$B$3,0)","v":0},{"$f":"ROUNDUP($V631*FX!$G$10*CF!$B$4,0)","v":0},{"$f":"ROUNDUP($V631*FX!$G$35*CF!$B$5,0)","v":0},{"$f":"ROUNDUP($V631*FX!$G$3*CF!$B$6,0)","v":0},null,null,null,null,null,null,null,null,null,null,null,null,null,null,null,null,null,null,null,null,null,null,null,null,null,null,null,null,null,null,null,0,null,null,0,0,null,0,null,0,0,0,0,0,0,0,0,0,0,0]
[null,"MOD:Y92",null,"VS:D","MCV:0225",null,null,null,null,null,null,null,null,null,null,null,null,null,null,"YA_9200_0170",null,0,"225 Main Cv ","Do Not Use",0,0,0,0,0,0,0,{"$f":"ROUNDUP($V632*FX!$G$2*CF!$B$3,0)","v":0},{"$f":"ROUNDUP($V632*FX!$G$10*CF!$B$4,0)","v":0},{"$f":"ROUNDUP($V632*FX!$G$35*CF!$B$5,0)","v":0},{"$f":"ROUNDUP($V632*FX!$G$3*CF!$B$6,0)","v":0},null,null,null,null,null,null,null,null,null,null,null,null,null,null,null,null,null,null,null,null,null,null,null,null,null,null,null,null,null,null,null,0,null,null,0,0,null,0,null,0,0,0,0,0,0,0,0,0,0,0]
[null,"MOD:Y92",null,"VS:C","MCV:0230",null,null,null,null,null,null,null,null,null,null,null,null,null,null,"YA_9200_0171",null,0,"230 Main Cv ","Do Not Use",0,0,0,0,0,0,0,{"$f":"ROUNDUP($V633*FX!$G$2*CF!$B$3,0)","v":0},{"$f":"ROUNDUP($V633*FX!$G$10*CF!$B$4,0)","v":0},{"$f":"ROUNDUP($V633*FX!$G$35*CF!$B$5,0)","v":0},{"$f":"ROUNDUP($V633*FX!$G$3*CF!$B$6,0)","v":0},null,null,null,null,null,null,null,null,null,null,null,null,null,null,null,null,null,null,null,null,null,null,null,null,null,null,null,null,null,null,null,0,null,null,0,0,null,0,null,0,0,0,0,0,0,0,0,0,0,0]
[null,"MOD:Y92",null,"VS:C","MCV:0270",null,null,null,null,null,null,null,null,null,null,null,null,null,null,"YA_9200_0172",null,0,"270 Main Cv ","Do Not Use",0,0,0,0,0,0,0,{"$f":"ROUNDUP($V634*FX!$G$2*CF!$B$3,0)","v":0},{"$f":"ROUNDUP($V634*FX!$G$10*CF!$B$4,0)","v":0},{"$f":"ROUNDUP($V634*FX!$G$35*CF!$B$5,0)","v":0},{"$f":"ROUNDUP($V634*FX!$G$3*CF!$B$6,0)","v":0},null,null,null,null,null,null,null,null,null,null,null,null,null,null,null,null,null,null,null,null,null,null,null,null,null,null,null,null,null,null,null,0,null,null,0,0,null,0,null,0,0,0,0,0,0,0,0,0,0,0]
[null,"MOD:Y92",null,"VS:D","MCV:0280",null,null,null,null,null,null,null,null,null,null,null,null,null,null,"YA_9200_0173",null,0,"280 Main Cv ","Do Not Use",0,0,0,0,0,0,0,{"$f":"ROUNDUP($V635*FX!$G$2*CF!$B$3,0)","v":0},{"$f":"ROUNDUP($V635*FX!$G$10*CF!$B$4,0)","v":0},{"$f":"ROUNDUP($V635*FX!$G$35*CF!$B$5,0)","v":0},{"$f":"ROUNDUP($V635*FX!$G$3*CF!$B$6,0)","v":0},null,null,null,null,null,null,null,null,null,null,null,null,null,null,null,null,null,null,null,null,null,null,null,null,null,null,null,null,null,null,null,0,null,null,0,0,null,0,null,0,0,0,0,0,0,0,0,0,0,0]
[null,"MOD:Y92",null,"VS:D","MCV:0340",null,null,null,null,null,null,null,null,null,null,null,null,null,null,"YA_9200_0174",null,0,"340 Main Cv ","Do Not Use",0,0,0,0,0,0,0,{"$f":"ROUNDUP($V636*FX!$G$2*CF!$B$3,0)","v":0},{"$f":"ROUNDUP($V636*FX!$G$10*CF!$B$4,0)","v":0},{"$f":"ROUNDUP($V636*FX!$G$35*CF!$B$5,0)","v":0},{"$f":"ROUNDUP($V636*FX!$G$3*CF!$B$6,0)","v":0},null,null,null,null,null,null,null,null,null,null,null,null,null,null,null,null,null,null,null,null,null,null,null,null,null,null,null,null,null,null,null,0,null,null,0,0,null,0,null,0,0,0,0,0,0,0,0,0,0,0]
[null,"MOD:Y92",null,"VS:D","MCV:0400",null,null,null,null,null,null,null,null,null,null,null,null,null,null,"YA_9200_0175",null,0,"400 Main Cv ","Do Not Use",0,0,0,0,0,0,0,{"$f":"ROUNDUP($V637*FX!$G$2*CF!$B$3,0)","v":0},{"$f":"ROUNDUP($V637*FX!$G$10*CF!$B$4,0)","v":0},{"$f":"ROUNDUP($V637*FX!$G$35*CF!$B$5,0)","v":0},{"$f":"ROUNDUP($V637*FX!$G$3*CF!$B$6,0)","v":0},null,null,null,null,null,null,null,null,null,null,null,null,null,null,null,null,null,null,null,null,null,null,null,null,null,null,null,null,null,null,null,0,null,null,0,0,null,0,null,0,0,0,0,0,0,0,0,0,0,0]
[null,"MOD:Y92",null,"VS:D,E","MCV:0480",null,null,null,null,null,null,null,null,null,null,null,null,null,null,"YA_9200_0176",null,0,"480 Main Cv ","Do Not Use",0,0,0,0,0,0,0,{"$f":"ROUNDUP($V638*FX!$G$2*CF!$B$3,0)","v":0},{"$f":"ROUNDUP($V638*FX!$G$10*CF!$B$4,0)","v":0},{"$f":"ROUNDUP($V638*FX!$G$35*CF!$B$5,0)","v":0},{"$f":"ROUNDUP($V638*FX!$G$3*CF!$B$6,0)","v":0},null,null,null,null,null,null,null,null,null,null,null,null,null,null,null,null,null,null,null,null,null,null,null,null,null,null,null,null,null,null,null,0,null,null,0,0,null,0,null,0,0,0,0,0,0,0,0,0,0,0]
[null,"MOD:Y92",null,"VS:D","MCV:0560",null,null,null,null,null,null,null,null,null,null,null,null,null,null,"YA_9200_0177",null,0,"560 Main Cv ","Do Not Use",0,0,0,0,0,0,0,{"$f":"ROUNDUP($V639*FX!$G$2*CF!$B$3,0)","v":0},{"$f":"ROUNDUP($V639*FX!$G$10*CF!$B$4,0)","v":0},{"$f":"ROUNDUP($V639*FX!$G$35*CF!$B$5,0)","v":0},{"$f":"ROUNDUP($V639*FX!$G$3*CF!$B$6,0)","v":0},null,null,null,null,null,null,null,null,null,null,null,null,null,null,null,null,null,null,null,null,null,null,null,null,null,null,null,null,null,null,null,0,null,null,0,0,null,0,null,0,0,0,0,0,0,0,0,0,0,0]
[null,"MOD:Y92",null,"VS:E","MCV:0600",null,null,null,null,null,null,null,null,null,null,null,null,null,null,"YA_9200_0178",null,0,"600 Main Cv ","Do Not Use",0,0,0,0,0,0,0,{"$f":"ROUNDUP($V640*FX!$G$2*CF!$B$3,0)","v":0},{"$f":"ROUNDUP($V640*FX!$G$10*CF!$B$4,0)","v":0},{"$f":"ROUNDUP($V640*FX!$G$35*CF!$B$5,0)","v":0},{"$f":"ROUNDUP($V640*FX!$G$3*CF!$B$6,0)","v":0},null,null,null,null,null,null,null,null,null,null,null,null,null,null,null,null,null,null,null,null,null,null,null,null,null,null,null,null,null,null,null,0,null,null,0,0,null,0,null,0,0,0,0,0,0,0,0,0,0,0]
[null,"MOD:Y92",null,"VS:E","MCV:0720",null,null,null,null,null,null,null,null,null,null,null,null,null,null,"YA_9200_0179",null,0,"720 Main Cv ","Do Not Use",0,0,0,0,0,0,0,{"$f":"ROUNDUP($V641*FX!$G$2*CF!$B$3,0)","v":0},{"$f":"ROUNDUP($V641*FX!$G$10*CF!$B$4,0)","v":0},{"$f":"ROUNDUP($V641*FX!$G$35*CF!$B$5,0)","v":0},{"$f":"ROUNDUP($V641*FX!$G$3*CF!$B$6,0)","v":0},null,null,null,null,null,null,null,null,null,null,null,null,null,null,null,null,null,null,null,null,null,null,null,null,null,null,null,null,null,null,null,0,null,null,0,0,null,0,null,0,0,0,0,0,0,0,0,0,0,0]
[null,"MOD:Y92",null,"VS:E","MCV:0840",null,null,null,null,null,null,null,null,null,null,null,null,null,null,"YA_9200_0180",null,{"$f":"AE642","v":0},"840 Main Cv ","Do Not Use",0,0,0,0,0,0,0,{"$f":"ROUNDUP($V642*FX!$G$2*CF!$B$3,0)","v":0},{"$f":"ROUNDUP($V642*FX!$G$10*CF!$B$4,0)","v":0},{"$f":"ROUNDUP($V642*FX!$G$35*CF!$B$5,0)","v":0},{"$f":"ROUNDUP($V642*FX!$G$3*CF!$B$6,0)","v":0},null,null,null,null,null,null,null,null,null,null,null,null,null,null,null,null,null,null,null,null,null,null,null,null,null,null,null,null,null,null,null,0,null,null,0,0,null,0,null,0,0,0,0,0,0,0,0,0,{"$f":"IF(CE642=\"POA\",\"POA\", ROUNDUP(CE642*1.06,0))","v":0},0]
[null,"MOD:Y92",null,"VS:E","MCV:0960",null,null,null,null,null,null,null,null,null,null,null,null,null,null,"YA_9200_0181",null,0,"960 Main Cv ","Do Not Use",{"$f":"IFERROR(Z643*1.02,\"POA\")","v":0},0,0,0,0,0,{"$f":"CG643","v":0},{"$f":"ROUNDUP($V643*FX!$G$2*CF!$B$3,0)","v":0},{"$f":"ROUNDUP($V643*FX!$G$10*CF!$B$4,0)","v":0},{"$f":"ROUNDUP($V643*FX!$G$35*CF!$B$5,0)","v":0},{"$f":"ROUNDUP($V643*FX!$G$3*CF!$B$6,0)","v":0},null,null,null,null,null,null,null,null,null,null,null,null,null,null,null,null,null,null,null,null,null,null,null,null,null,null,null,null,null,null,null,{"$f":"ROUNDUP(($AE643+($AE643*$BO$1)),0)","v":0},null,null,0,0,null,{"$f":"ROUNDUP(BT643,0)","v":0},null,0,0,0,0,0,{"$f":"ROUNDUP(CA643,0)","v":0},{"$f":"CB643+(CB643*$CC$1)","v":0},0,0,0,{"$f":"IF(CF643=\"POA\",\"POA\", ROUNDUP(CF643*1.043,0))","v":0}]
[null,"MOD:Y92",null,"VS:E","MCV:1080",null,null,null,null,null,null,null,null,null,null,null,null,null,null,"YA_9200_0182",null,0,"1080 Main Cv ","Do Not Use",0,0,0,0,0,0,0,{"$f":"ROUNDUP($V644*FX!$G$2*CF!$B$3,0)","v":0},{"$f":"ROUNDUP($V644*FX!$G$10*CF!$B$4,0)","v":0},{"$f":"ROUNDUP($V644*FX!$G$35*CF!$B$5,0)","v":0},{"$f":"ROUNDUP($V644*FX!$G$3*CF!$B$6,0)","v":0},null,null,null,null,null,null,null,null,null,null,null,null,null,null,null,null,null,null,null,null,null,null,null,null,null,null,null,null,null,null,null,0,null,null,0,0,null,0,null,0,0,0,0,0,0,0,0,0,0,0]
[null,"MOD:Y92",null,"VS:F","MCV:1100",null,null,null,null,null,null,null,null,null,null,null,null,null,null,"YA_9200_0183",null,0,"1100 Main Cv","Do Not Use",0,0,0,0,0,0,0,{"$f":"ROUNDUP($V645*FX!$G$2*CF!$B$3,0)","v":0},{"$f":"ROUNDUP($V645*FX!$G$10*CF!$B$4,0)","v":0},{"$f":"ROUNDUP($V645*FX!$G$35*CF!$B$5,0)","v":0},{"$f":"ROUNDUP($V645*FX!$G$3*CF!$B$6,0)","v":0},null,null,null,null,null,null,null,null,null,null,null,null,null,null,null,null,null,null,null,null,null,null,null,null,null,null,null,null,null,null,null,0,null,null,0,0,null,0,null,0,0,0,0,0,0,0,0,0,0,0]
[null,"MOD:Y92",null,"VS:F","MCV:1250",null,null,null,null,null,null,null,null,null,null,null,null,null,null,"YA_9200_0184",null,0,"1250 Main Cv","Do Not Use",0,0,0,0,0,0,0,{"$f":"ROUNDUP($V646*FX!$G$2*CF!$B$3,0)","v":0},{"$f":"ROUNDUP($V646*FX!$G$10*CF!$B$4,0)","v":0},{"$f":"ROUNDUP($V646*FX!$G$35*CF!$B$5,0)","v":0},{"$f":"ROUNDUP($V646*FX!$G$3*CF!$B$6,0)","v":0},null,null,null,null,null,null,null,null,null,null,null,null,null,null,null,null,null,null,null,null,null,null,null,null,null,null,null,null,null,null,null,0,null,null,0,0,null,0,null,0,0,0,0,0,0,0,0,0,0,0]
[null,"MOD:Y92",null,"VS:F","MCV:1380",null,null,null,null,null,null,null,null,null,null,null,null,null,null,"YA_9200_0185",null,0,"1380 Main Cv","Do Not Use",0,0,0,0,0,0,0,{"$f":"ROUNDUP($V647*FX!$G$2*CF!$B$3,0)","v":0},{"$f":"ROUNDUP($V647*FX!$G$10*CF!$B$4,0)","v":0},{"$f":"ROUNDUP($V647*FX!$G$35*CF!$B$5,0)","v":0},{"$f":"ROUNDUP($V647*FX!$G$3*CF!$B$6,0)","v":0},null,null,null,null,null,null,null,null,null,null,null,null,null,null,null,null,null,null,null,null,null,null,null,null,null,null,null,null,null,null,null,0,null,null,0,0,null,0,null,0,0,0,0,0,0,0,0,0,0,0]
[null,"MOD:Y92",null,"VS:F","MCV:1500",null,null,null,null,null,null,null,null,null,null,null,null,null,null,"YA_9200_0186",null,0,"1500 Main Cv","Do Not Use",0,0,0,0,0,0,0,{"$f":"ROUNDUP($V648*FX!$G$2*CF!$B$3,0)","v":0},{"$f":"ROUNDUP($V648*FX!$G$10*CF!$B$4,0)","v":0},{"$f":"ROUNDUP($V648*FX!$G$35*CF!$B$5,0)","v":0},{"$f":"ROUNDUP($V648*FX!$G$3*CF!$B$6,0)","v":0},null,null,null,null,null,null,null,null,null,null,null,null,null,null,null,null,null,null,null,null,null,null,null,null,null,null,null,null,null,null,null,0,null,null,0,0,null,0,null,0,0,0,0,0,0,0,0,0,0,0]
[null,"MOD:Y92",null,"VS:G","MCV:1570",null,null,null,null,null,null,null,null,null,null,null,null,null,null,"YA_9200_0187",null,0,"1570 Main Cv","Do Not Use",0,0,0,0,0,0,0,{"$f":"ROUNDUP($V649*FX!$G$2*CF!$B$3,0)","v":0},{"$f":"ROUNDUP($V649*FX!$G$10*CF!$B$4,0)","v":0},{"$f":"ROUNDUP($V649*FX!$G$35*CF!$B$5,0)","v":0},{"$f":"ROUNDUP($V649*FX!$G$3*CF!$B$6,0)","v":0},null,null,null,null,null,null,null,null,null,null,null,null,null,null,null,null,null,null,null,null,null,null,null,null,null,null,null,null,null,null,null,0,null,null,0,0,null,0,null,0,0,0,0,0,0,0,0,0,0,0]
[null,"MOD:Y92",null,"VS:F","MCV:1670",null,null,null,null,null,null,null,null,null,null,null,null,null,null,"YA_9200_0188",null,0,"1670 Main Cv","Do Not Use",0,0,0,0,0,0,0,{"$f":"ROUNDUP($V650*FX!$G$2*CF!$B$3,0)","v":0},{"$f":"ROUNDUP($V650*FX!$G$10*CF!$B$4,0)","v":0},{"$f":"ROUNDUP($V650*FX!$G$35*CF!$B$5,0)","v":0},{"$f":"ROUNDUP($V650*FX!$G$3*CF!$B$6,0)","v":0},null,null,null,null,null,null,null,null,null,null,null,null,null,null,null,null,null,null,null,null,null,null,null,null,null,null,null,null,null,null,null,0,null,null,0,0,null,0,null,0,0,0,0,0,0,0,0,0,0,0]
[null,"MOD:Y92",null,"VS:G","MCV:1720",null,null,null,null,null,null,null,null,null,null,null,null,null,null,"YA_9200_0189",null,0,"1720 Main Cv","Do Not Use",0,0,0,0,0,0,0,{"$f":"ROUNDUP($V651*FX!$G$2*CF!$B$3,0)","v":0},{"$f":"ROUNDUP($V651*FX!$G$10*CF!$B$4,0)","v":0},{"$f":"ROUNDUP($V651*FX!$G$35*CF!$B$5,0)","v":0},{"$f":"ROUNDUP($V651*FX!$G$3*CF!$B$6,0)","v":0},null,null,null,null,null,null,null,null,null,null,null,null,null,null,null,null,null,null,null,null,null,null,null,null,null,null,null,null,null,null,null,0,null,null,0,0,null,0,null,0,0,0,0,0,0,0,0,0,0,0]
[null,"MOD:Y92",null,"VS:F","MCV:1740",null,null,null,null,null,null,null,null,null,null,null,null,null,null,"YA_9200_0190",null,0,"1740 Main Cv","Do Not Use",0,0,0,0,0,0,0,{"$f":"ROUNDUP($V652*FX!$G$2*CF!$B$3,0)","v":0},{"$f":"ROUNDUP($V652*FX!$G$10*CF!$B$4,0)","v":0},{"$f":"ROUNDUP($V652*FX!$G$35*CF!$B$5,0)","v":0},{"$f":"ROUNDUP($V652*FX!$G$3*CF!$B$6,0)","v":0},null,null,null,null,null,null,null,null,null,null,null,null,null,null,null,null,null,null,null,null,null,null,null,null,null,null,null,null,null,null,null,0,null,null,0,0,null,0,null,0,0,0,0,0,0,0,0,0,0,0]
[null,"MOD:Y92",null,"VS:G","MCV:1870",null,null,null,null,null,null,null,null,null,null,null,null,null,null,"YA_9200_0191",null,0,"1870 Main Cv","Do Not Use",0,0,0,0,0,0,0,{"$f":"ROUNDUP($V653*FX!$G$2*CF!$B$3,0)","v":0},{"$f":"ROUNDUP($V653*FX!$G$10*CF!$B$4,0)","v":0},{"$f":"ROUNDUP($V653*FX!$G$35*CF!$B$5,0)","v":0},{"$f":"ROUNDUP($V653*FX!$G$3*CF!$B$6,0)","v":0},null,null,null,null,null,null,null,null,null,null,null,null,null,null,null,null,null,null,null,null,null,null,null,null,null,null,null,null,null,null,null,0,null,null,0,0,null,0,null,0,0,0,0,0,0,0,0,0,0,0]
[null,"MOD:Y92",null,"VS:G","MCV:2020",null,null,null,null,null,null,null,null,null,null,null,null,null,null,"YA_9200_0192",null,0,"2020 Main Cv","Do Not Use",0,0,0,0,0,0,0,{"$f":"ROUNDUP($V654*FX!$G$2*CF!$B$3,0)","v":0},{"$f":"ROUNDUP($V654*FX!$G$10*CF!$B$4,0)","v":0},{"$f":"ROUNDUP($V654*FX!$G$35*CF!$B$5,0)","v":0},{"$f":"ROUNDUP($V654*FX!$G$3*CF!$B$6,0)","v":0},null,null,null,null,null,null,null,null,null,null,null,null,null,null,null,null,null,null,null,null,null,null,null,null,null,null,null,null,null,null,null,0,null,null,0,0,null,0,null,0,0,0,0,0,0,0,0,0,0,0]
[null,"MOD:Y92",null,"VS:G","MCV:2370",null,null,null,null,null,null,null,null,null,null,null,null,null,null,"YA_9200_0193",null,0,"2370 Main Cv","Do Not Use",0,0,0,0,0,0,0,{"$f":"ROUNDUP($V655*FX!$G$2*CF!$B$3,0)","v":0},{"$f":"ROUNDUP($V655*FX!$G$10*CF!$B$4,0)","v":0},{"$f":"ROUNDUP($V655*FX!$G$35*CF!$B$5,0)","v":0},{"$f":"ROUNDUP($V655*FX!$G$3*CF!$B$6,0)","v":0},null,null,null,null,null,null,null,null,null,null,null,null,null,null,null,null,null,null,null,null,null,null,null,null,null,null,null,null,null,null,null,0,null,null,0,0,null,0,null,0,0,0,0,0,0,0,0,0,0,0]
[null,"MOD:Y92",null,"VS:H","MCV:2500",null,null,null,null,null,null,null,null,null,null,null,null,null,null,"YA_9200_0194",null,0,"2500 Main Cv","Do Not Use",0,0,0,0,0,0,0,{"$f":"ROUNDUP($V656*FX!$G$2*CF!$B$3,0)","v":0},{"$f":"ROUNDUP($V656*FX!$G$10*CF!$B$4,0)","v":0},{"$f":"ROUNDUP($V656*FX!$G$35*CF!$B$5,0)","v":0},{"$f":"ROUNDUP($V656*FX!$G$3*CF!$B$6,0)","v":0},null,null,null,null,null,null,null,null,null,null,null,null,null,null,null,null,null,null,null,null,null,null,null,null,null,null,null,null,null,null,null,0,null,null,0,0,null,0,null,0,0,0,0,0,0,0,0,0,0,0]
[null,"MOD:Y92",null,"VS:G","MCV:2520",null,null,null,null,null,null,null,null,null,null,null,null,null,null,"YA_9200_0195",null,0,"2520 Main Cv","Do Not Use",0,{"$f":"ROUND(IFERROR(AA657*1.03,\"POA\"),0)","v":0},0,0,0,0,0,{"$f":"ROUNDUP($V657*FX!$G$2*CF!$B$3,0)","v":0},{"$f":"ROUNDUP($V657*FX!$G$10*CF!$B$4,0)","v":0},{"$f":"ROUNDUP($V657*FX!$G$35*CF!$B$5,0)","v":0},{"$f":"ROUNDUP($V657*FX!$G$3*CF!$B$6,0)","v":0},null,null,null,null,null,null,null,null,null,null,null,null,null,null,null,null,null,null,null,null,null,null,null,null,null,null,null,null,null,null,null,0,null,null,0,{"$f":"ROUNDUP(BR657,0)","v":0},null,0,null,0,{"$f":"ROUNDUP(($BW657+($BX$1*$BW657)),0)","v":0},0,{"$f":"BY657+(BY657*$BZ$1)","v":0},0,0,0,0,{"$f":"ROUNDUP(CD657,0)","v":0},0,0]
[null,"MOD:Y92",null,"VS:H","MCV:2700",null,null,null,null,null,null,null,null,null,null,null,null,null,null,"YA_9200_0196",null,0,"2700 Main Cv","Do Not Use",0,0,0,0,0,0,0,{"$f":"ROUNDUP($V658*FX!$G$2*CF!$B$3,0)","v":0},{"$f":"ROUNDUP($V658*FX!$G$10*CF!$B$4,0)","v":0},{"$f":"ROUNDUP($V658*FX!$G$35*CF!$B$5,0)","v":0},{"$f":"ROUNDUP($V658*FX!$G$3*CF!$B$6,0)","v":0},null,null,null,null,null,null,null,null,null,null,null,null,null,null,null,null,null,null,null,null,null,null,null,null,null,null,null,null,null,null,null,0,null,null,0,0,null,0,null,0,0,0,0,0,0,0,0,0,0,0]
[null,"MOD:Y92",null,"VS:H","MCV:2900",null,null,null,null,null,null,null,null,null,null,null,null,null,null,"YA_9200_0197",null,0,"2900 Main Cv","Do Not Use",0,0,0,0,0,0,0,{"$f":"ROUNDUP($V659*FX!$G$2*CF!$B$3,0)","v":0},{"$f":"ROUNDUP($V659*FX!$G$10*CF!$B$4,0)","v":0},{"$f":"ROUNDUP($V659*FX!$G$35*CF!$B$5,0)","v":0},{"$f":"ROUNDUP($V659*FX!$G$3*CF!$B$6,0)","v":0},null,null,null,null,null,null,null,null,null,null,null,null,null,null,null,null,null,null,null,null,null,null,null,null,null,null,null,null,null,null,null,0,null,null,0,0,null,0,null,0,0,0,0,0,0,0,0,0,0,0]
[null,"MOD:Y92",null,"VS:H","MCV:3100",null,null,null,null,null,null,null,null,null,null,null,null,null,null,"YA_9200_0198",null,0,"3100 Main Cv","Do Not Use",0,0,0,0,0,0,0,{"$f":"ROUNDUP($V660*FX!$G$2*CF!$B$3,0)","v":0},{"$f":"ROUNDUP($V660*FX!$G$10*CF!$B$4,0)","v":0},{"$f":"ROUNDUP($V660*FX!$G$35*CF!$B$5,0)","v":0},{"$f":"ROUNDUP($V660*FX!$G$3*CF!$B$6,0)","v":0},null,null,null,null,null,null,null,null,null,null,null,null,null,null,null,null,null,null,null,null,null,null,null,null,null,null,null,null,null,null,null,0,null,null,0,0,null,0,null,0,0,0,0,0,0,0,0,0,0,0]
[null,"MOD:Y92",null,"VS:H","MCV:3290",null,null,null,null,null,null,null,null,null,null,null,null,null,null,"YA_9200_0199",null,0,"3290 Main Cv","Do Not Use",0,0,0,0,0,0,0,{"$f":"ROUNDUP($V661*FX!$G$2*CF!$B$3,0)","v":0},{"$f":"ROUNDUP($V661*FX!$G$10*CF!$B$4,0)","v":0},{"$f":"ROUNDUP($V661*FX!$G$35*CF!$B$5,0)","v":0},{"$f":"ROUNDUP($V661*FX!$G$3*CF!$B$6,0)","v":0},null,null,null,null,null,null,null,null,null,null,null,null,null,null,null,null,null,null,null,null,null,null,null,null,null,null,null,null,null,null,null,0,null,null,0,0,null,0,null,0,0,0,0,0,0,0,0,0,0,0]
[null,"MOD:Y92",null,"VS:A","BCV:0018",null,null,null,null,null,null,null,null,null,null,null,null,null,null,"YA_9200_0200",null,0,"1.8 Bypass Cv ","Do Not Use",0,0,0,0,0,0,0,{"$f":"ROUNDUP($V662*FX!$G$2*CF!$B$3,0)","v":0},{"$f":"ROUNDUP($V662*FX!$G$10*CF!$B$4,0)","v":0},{"$f":"ROUNDUP($V662*FX!$G$35*CF!$B$5,0)","v":0},{"$f":"ROUNDUP($V662*FX!$G$3*CF!$B$6,0)","v":0},null,null,null,null,null,null,null,null,null,null,null,null,null,null,null,null,null,null,null,null,null,null,null,null,null,null,null,null,null,null,null,0,null,null,0,0,null,0,null,0,0,0,0,0,0,0,0,0,0,0]
[null,"MOD:Y92",null,"VS:A","BCV:0024",null,null,null,null,null,null,null,null,null,null,null,null,null,null,"YA_9200_0201",null,0,"2.4 Bypass Cv","Do Not Use",0,0,0,0,0,0,0,{"$f":"ROUNDUP($V663*FX!$G$2*CF!$B$3,0)","v":0},{"$f":"ROUNDUP($V663*FX!$G$10*CF!$B$4,0)","v":0},{"$f":"ROUNDUP($V663*FX!$G$35*CF!$B$5,0)","v":0},{"$f":"ROUNDUP($V663*FX!$G$3*CF!$B$6,0)","v":0},null,null,null,null,null,null,null,null,null,null,null,null,null,null,null,null,null,null,null,null,null,null,null,null,null,null,null,null,null,null,null,0,null,null,0,0,null,0,null,0,0,0,0,0,0,0,0,0,0,0]
[null,"MOD:Y92",null,"VS:B","BCV:0025",null,null,null,null,null,null,null,null,null,null,null,null,null,null,"YA_9200_0202",null,0,"2.5 Bypass Cv ","Do Not Use",0,0,0,0,0,0,0,{"$f":"ROUNDUP($V664*FX!$G$2*CF!$B$3,0)","v":0},{"$f":"ROUNDUP($V664*FX!$G$10*CF!$B$4,0)","v":0},{"$f":"ROUNDUP($V664*FX!$G$35*CF!$B$5,0)","v":0},{"$f":"ROUNDUP($V664*FX!$G$3*CF!$B$6,0)","v":0},null,null,null,null,null,null,null,null,null,null,null,null,null,null,null,null,null,null,null,null,null,null,null,null,null,null,null,null,null,null,null,0,null,null,0,0,null,0,null,0,0,0,0,0,0,0,0,0,0,0]
[null,"MOD:Y92",null,"VS:A","BCV:0031",null,null,null,null,null,null,null,null,null,null,null,null,null,null,"YA_9200_0203",null,0,"3.1 Bypass Cv ","Do Not Use",0,0,0,0,0,0,0,{"$f":"ROUNDUP($V665*FX!$G$2*CF!$B$3,0)","v":0},{"$f":"ROUNDUP($V665*FX!$G$10*CF!$B$4,0)","v":0},{"$f":"ROUNDUP($V665*FX!$G$35*CF!$B$5,0)","v":0},{"$f":"ROUNDUP($V665*FX!$G$3*CF!$B$6,0)","v":0},null,null,null,null,null,null,null,null,null,null,null,null,null,null,null,null,null,null,null,null,null,null,null,null,null,null,null,null,null,null,null,0,null,null,0,0,null,0,null,0,0,0,0,0,0,0,0,0,0,0]
[null,"MOD:Y92",null,"VS:B","BCV:0035",null,null,null,null,null,null,null,null,null,null,null,null,null,null,"YA_9200_0204",null,0,"3.5 Bypass Cv ","Do Not Use",0,0,0,0,0,0,0,{"$f":"ROUNDUP($V666*FX!$G$2*CF!$B$3,0)","v":0},{"$f":"ROUNDUP($V666*FX!$G$10*CF!$B$4,0)","v":0},{"$f":"ROUNDUP($V666*FX!$G$35*CF!$B$5,0)","v":0},{"$f":"ROUNDUP($V666*FX!$G$3*CF!$B$6,0)","v":0},null,null,null,null,null,null,null,null,null,null,null,null,null,null,null,null,null,null,null,null,null,null,null,null,null,null,null,null,null,null,null,0,null,null,0,0,null,0,null,0,0,0,0,0,0,0,0,0,0,0]
[null,"MOD:Y92",null,"VS:A,C","BCV:0040",null,null,null,null,null,null,null,null,null,null,null,null,null,null,"YA_9200_0205",null,0,"4 Bypass Cv ","Do Not Use",0,0,0,0,0,0,0,{"$f":"ROUNDUP($V667*FX!$G$2*CF!$B$3,0)","v":0},{"$f":"ROUNDUP($V667*FX!$G$10*CF!$B$4,0)","v":0},{"$f":"ROUNDUP($V667*FX!$G$35*CF!$B$5,0)","v":0},{"$f":"ROUNDUP($V667*FX!$G$3*CF!$B$6,0)","v":0},null,null,null,null,null,null,null,null,null,null,null,null,null,null,null,null,null,null,null,null,null,null,null,null,null,null,null,null,null,null,null,0,null,null,0,0,null,0,null,0,0,0,0,0,0,0,0,0,0,0]
[null,"MOD:Y92",null,"VS:B","BCV:0050",null,null,null,null,null,null,null,null,null,null,null,null,null,null,"YA_9200_0206",null,0,"5 Bypass Cv ","Do Not Use",0,0,0,0,0,0,0,{"$f":"ROUNDUP($V668*FX!$G$2*CF!$B$3,0)","v":0},{"$f":"ROUNDUP($V668*FX!$G$10*CF!$B$4,0)","v":0},{"$f":"ROUNDUP($V668*FX!$G$35*CF!$B$5,0)","v":0},{"$f":"ROUNDUP($V668*FX!$G$3*CF!$B$6,0)","v":0},null,null,null,null,null,null,null,null,null,null,null,null,null,null,null,null,null,null,null,null,null,null,null,null,null,null,null,null,null,null,null,0,null,null,0,0,null,0,null,0,0,0,0,0,0,0,0,0,0,0]
[null,"MOD:Y92",null,"VS:A","BCV:0052",null,null,null,null,null,null,null,null,null,null,null,null,null,null,"YA_9200_0207",null,0,"5.2 Bypass Cv ","Do Not Use",0,0,0,0,0,0,0,{"$f":"ROUNDUP($V669*FX!$G$2*CF!$B$3,0)","v":0},{"$f":"ROUNDUP($V669*FX!$G$10*CF!$B$4,0)","v":0},{"$f":"ROUNDUP($V669*FX!$G$35*CF!$B$5,0)","v":0},{"$f":"ROUNDUP($V669*FX!$G$3*CF!$B$6,0)","v":0},null,null,null,null,null,null,null,null,null,null,null,null,null,null,null,null,null,null,null,null,null,null,null,null,null,null,null,null,null,null,null,0,null,null,0,0,null,0,null,0,0,0,0,0,0,0,0,0,0,0]
[null,"MOD:Y92",null,"VS:C","BCV:0060",null,null,null,null,null,null,null,null,null,null,null,null,null,null,"YA_9200_0208",null,0,"6 Bypass Cv ","Do Not Use",0,0,0,0,0,0,0,{"$f":"ROUNDUP($V670*FX!$G$2*CF!$B$3,0)","v":0},{"$f":"ROUNDUP($V670*FX!$G$10*CF!$B$4,0)","v":0},{"$f":"ROUNDUP($V670*FX!$G$35*CF!$B$5,0)","v":0},{"$f":"ROUNDUP($V670*FX!$G$3*CF!$B$6,0)","v":0},null,null,null,null,null,null,null,null,null,null,null,null,null,null,null,null,null,null,null,null,null,null,null,null,null,null,null,null,null,null,null,0,null,null,0,0,null,0,null,0,0,0,0,0,0,0,0,0,0,0]
[null,"MOD:Y92",null,"VS:A","BCV:0068",null,null,null,null,null,null,null,null,null,null,null,null,null,null,"YA_9200_0209",null,0,"6.8 Bypass Cv ","Do Not Use",0,0,0,0,0,0,0,{"$f":"ROUNDUP($V671*FX!$G$2*CF!$B$3,0)","v":0},{"$f":"ROUNDUP($V671*FX!$G$10*CF!$B$4,0)","v":0},{"$f":"ROUNDUP($V671*FX!$G$35*CF!$B$5,0)","v":0},{"$f":"ROUNDUP($V671*FX!$G$3*CF!$B$6,0)","v":0},null,null,null,null,null,null,null,null,null,null,null,null,null,null,null,null,null,null,null,null,null,null,null,null,null,null,null,null,null,null,null,0,null,null,0,0,null,0,null,0,0,0,0,0,0,0,0,0,0,0]
[null,"MOD:Y92",null,"VS:B","BCV:0070",null,null,null,null,null,null,null,null,null,null,null,null,null,null,"YA_9200_0210",null,0,"7 Bypass Cv ","Do Not Use",0,0,0,0,0,0,0,{"$f":"ROUNDUP($V672*FX!$G$2*CF!$B$3,0)","v":0},{"$f":"ROUNDUP($V672*FX!$G$10*CF!$B$4,0)","v":0},{"$f":"ROUNDUP($V672*FX!$G$35*CF!$B$5,0)","v":0},{"$f":"ROUNDUP($V672*FX!$G$3*CF!$B$6,0)","v":0},null,null,null,null,null,null,null,null,null,null,null,null,null,null,null,null,null,null,null,null,null,null,null,null,null,null,null,null,null,null,null,0,null,null,0,0,null,0,null,0,0,0,0,0,0,0,0,0,0,0]
[null,"MOD:Y92",null,"VS:D","BCV:0080",null,null,null,null,null,null,null,null,null,null,null,null,null,null,"YA_9200_0211",null,0,"8 Bypass Cv ","Do Not Use",0,0,0,0,0,0,0,{"$f":"ROUNDUP($V673*FX!$G$2*CF!$B$3,0)","v":0},{"$f":"ROUNDUP($V673*FX!$G$10*CF!$B$4,0)","v":0},{"$f":"ROUNDUP($V673*FX!$G$35*CF!$B$5,0)","v":0},{"$f":"ROUNDUP($V673*FX!$G$3*CF!$B$6,0)","v":0},null,null,null,null,null,null,null,null,null,null,null,null,null,null,null,null,null,null,null,null,null,null,null,null,null,null,null,null,null,null,null,0,null,null,0,0,null,0,null,0,0,0,0,0,0,0,0,0,0,0]
[null,"MOD:Y92",null,"VS:A,C","BCV:0090",null,null,null,null,null,null,null,null,null,null,null,null,null,null,"YA_9200_0212",null,0,"9 Bypass Cv ","Do Not Use",0,0,0,0,0,0,0,{"$f":"ROUNDUP($V674*FX!$G$2*CF!$B$3,0)","v":0},{"$f":"ROUNDUP($V674*FX!$G$10*CF!$B$4,0)","v":0},{"$f":"ROUNDUP($V674*FX!$G$35*CF!$B$5,0)","v":0},{"$f":"ROUNDUP($V674*FX!$G$3*CF!$B$6,0)","v":0},null,null,null,null,null,null,null,null,null,null,null,null,null,null,null,null,null,null,null,null,null,null,null,null,null,null,null,null,null,null,null,0,null,null,0,0,null,0,null,0,0,0,0,0,0,0,0,0,0,0]
[null,"MOD:Y92",null,"VS:B","BCV:0095",null,null,null,null,null,null,null,null,null,null,null,null,null,null,"YA_9200_0213",null,0,"9.5 Bypass Cv ","Do Not Use",0,0,0,0,0,0,0,{"$f":"ROUNDUP($V675*FX!$G$2*CF!$B$3,0)","v":0},{"$f":"ROUNDUP($V675*FX!$G$10*CF!$B$4,0)","v":0},{"$f":"ROUNDUP($V675*FX!$G$35*CF!$B$5,0)","v":0},{"$f":"ROUNDUP($V675*FX!$G$3*CF!$B$6,0)","v":0},null,null,null,null,null,null,null,null,null,null,null,null,null,null,null,null,null,null,null,null,null,null,null,null,null,null,null,null,null,null,null,0,null,null,0,0,null,0,null,0,0,0,0,0,0,0,0,0,0,0]
[null,"MOD:Y92",null,"VS:D","BCV:0110",null,null,null,null,null,null,null,null,null,null,null,null,null,null,"YA_9200_0214",null,0,"11 Bypass Cv ","Do Not Use",0,0,0,0,0,0,0,{"$f":"ROUNDUP($V676*FX!$G$2*CF!$B$3,0)","v":0},{"$f":"ROUNDUP($V676*FX!$G$10*CF!$B$4,0)","v":0},{"$f":"ROUNDUP($V676*FX!$G$35*CF!$B$5,0)","v":0},{"$f":"ROUNDUP($V676*FX!$G$3*CF!$B$6,0)","v":0},null,null,null,null,null,null,null,null,null,null,null,null,null,null,null,null,null,null,null,null,null,null,null,null,null,null,null,null,null,null,null,0,null,null,0,0,null,0,null,0,0,0,0,0,0,0,0,0,0,0]
[null,"MOD:Y92",null,"VS:C","BCV:0130",null,null,null,null,null,null,null,null,null,null,null,null,null,null,"YA_9200_0215",null,0,"13 Bypass Cv ","Do Not Use",0,0,0,0,0,0,0,{"$f":"ROUNDUP($V677*FX!$G$2*CF!$B$3,0)","v":0},{"$f":"ROUNDUP($V677*FX!$G$10*CF!$B$4,0)","v":0},{"$f":"ROUNDUP($V677*FX!$G$35*CF!$B$5,0)","v":0},{"$f":"ROUNDUP($V677*FX!$G$3*CF!$B$6,0)","v":0},null,null,null,null,null,null,null,null,null,null,null,null,null,null,null,null,null,null,null,null,null,null,null,null,null,null,null,null,null,null,null,0,null,null,0,0,null,0,null,0,0,0,0,0,0,0,0,0,0,0]
[null,"MOD:Y92",null,"VS:B","BCV:0135",null,null,null,null,null,null,null,null,null,null,null,null,null,null,"YA_9200_0216",null,0,"13.5 Bypass Cv ","Do Not Use",0,0,0,0,0,0,0,{"$f":"ROUNDUP($V678*FX!$G$2*CF!$B$3,0)","v":0},{"$f":"ROUNDUP($V678*FX!$G$10*CF!$B$4,0)","v":0},{"$f":"ROUNDUP($V678*FX!$G$35*CF!$B$5,0)","v":0},{"$f":"ROUNDUP($V678*FX!$G$3*CF!$B$6,0)","v":0},null,null,null,null,null,null,null,null,null,null,null,null,null,null,null,null,null,null,null,null,null,null,null,null,null,null,null,null,null,null,null,0,null,null,0,0,null,0,null,0,0,{"$f":"ROUNDUP(BX678,0)","v":0},0,0,0,0,0,0,0,0]
[null,"MOD:Y92",null,"VS:B,D","BCV:0170",null,null,null,null,null,null,null,null,null,null,null,null,null,null,"YA_9200_0217",null,0,"17 Bypass Cv ","Do Not Use",0,0,0,0,0,0,0,{"$f":"ROUNDUP($V679*FX!$G$2*CF!$B$3,0)","v":0},{"$f":"ROUNDUP($V679*FX!$G$10*CF!$B$4,0)","v":0},{"$f":"ROUNDUP($V679*FX!$G$35*CF!$B$5,0)","v":0},{"$f":"ROUNDUP($V679*FX!$G$3*CF!$B$6,0)","v":0},null,null,null,null,null,null,null,null,null,null,null,null,null,null,null,null,null,null,null,null,null,null,null,null,null,null,null,null,null,null,null,0,null,null,0,0,null,0,null,0,0,0,0,0,0,0,0,0,0,0]
[null,"MOD:Y92",null,"VS:C","BCV:0180",null,null,null,null,null,null,null,null,null,null,null,null,null,null,"YA_9200_0218",null,0,"18 Bypass Cv ","Do Not Use",0,0,0,0,0,0,0,{"$f":"ROUNDUP($V680*FX!$G$2*CF!$B$3,0)","v":0},{"$f":"ROUNDUP($V680*FX!$G$10*CF!$B$4,0)","v":0},{"$f":"ROUNDUP($V680*FX!$G$35*CF!$B$5,0)","v":0},{"$f":"ROUNDUP($V680*FX!$G$3*CF!$B$6,0)","v":0},null,null,null,null,null,null,null,null,null,null,null,null,null,null,null,null,null,null,null,null,null,null,null,null,null,null,null,null,null,null,null,0,null,null,0,0,null,0,null,0,0,0,0,0,0,0,0,0,0,0]
[null,"MOD:Y92",null,"VS:B","BCV:0210",null,null,null,null,null,null,null,null,null,null,null,null,null,null,"YA_9200_0219",null,0,"21 Bypass Cv ","Do Not Use",0,0,0,0,0,0,0,{"$f":"ROUNDUP($V681*FX!$G$2*CF!$B$3,0)","v":0},{"$f":"ROUNDUP($V681*FX!$G$10*CF!$B$4,0)","v":0},{"$f":"ROUNDUP($V681*FX!$G$35*CF!$B$5,0)","v":0},{"$f":"ROUNDUP($V681*FX!$G$3*CF!$B$6,0)","v":0},null,null,null,null,null,null,null,null,null,null,null,null,null,null,null,null,null,null,null,null,null,null,null,null,null,null,null,null,null,null,null,0,null,null,0,0,null,0,null,0,0,0,0,0,0,0,0,0,0,0]
[null,"MOD:Y92",null,"VS:C","BCV:0240",null,null,null,null,null,null,null,null,null,null,null,null,null,null,"YA_9200_0220",null,0,"24 Bypass Cv ","Do Not Use",0,0,0,0,0,0,0,{"$f":"ROUNDUP($V682*FX!$G$2*CF!$B$3,0)","v":0},{"$f":"ROUNDUP($V682*FX!$G$10*CF!$B$4,0)","v":0},{"$f":"ROUNDUP($V682*FX!$G$35*CF!$B$5,0)","v":0},{"$f":"ROUNDUP($V682*FX!$G$3*CF!$B$6,0)","v":0},null,null,null,null,null,null,null,null,null,null,null,null,null,null,null,null,null,null,null,null,null,null,null,null,null,null,null,null,null,null,null,0,null,null,0,0,null,0,null,0,0,0,0,0,0,0,0,0,0,0]
[null,"MOD:Y92",null,"VS:D","BCV:0260",null,null,null,null,null,null,null,null,null,null,null,null,null,null,"YA_9200_0221",null,0,"26 Bypass Cv ","Do Not Use",0,0,0,0,0,0,0,{"$f":"ROUNDUP($V683*FX!$G$2*CF!$B$3,0)","v":0},{"$f":"ROUNDUP($V683*FX!$G$10*CF!$B$4,0)","v":0},{"$f":"ROUNDUP($V683*FX!$G$35*CF!$B$5,0)","v":0},{"$f":"ROUNDUP($V683*FX!$G$3*CF!$B$6,0)","v":0},null,null,null,null,null,null,null,null,null,null,null,null,null,null,null,null,null,null,null,null,null,null,null,null,null,null,null,null,null,null,null,0,null,null,0,0,null,0,null,0,0,0,0,0,0,0,0,0,0,0]
[null,"MOD:Y92",null,"VS:E","BCV:0300",null,null,null,null,null,null,null,null,null,null,null,null,null,null,"YA_9200_0222",null,0,"30  Bypass Cv ","Do Not Use",0,0,0,0,0,0,0,{"$f":"ROUNDUP($V684*FX!$G$2*CF!$B$3,0)","v":0},{"$f":"ROUNDUP($V684*FX!$G$10*CF!$B$4,0)","v":0},{"$f":"ROUNDUP($V684*FX!$G$35*CF!$B$5,0)","v":0},{"$f":"ROUNDUP($V684*FX!$G$3*CF!$B$6,0)","v":0},null,null,null,null,null,null,null,null,null,null,null,null,null,null,null,null,null,null,null,null,null,null,null,null,null,null,null,null,null,null,null,0,null,null,0,0,null,0,null,0,0,0,0,0,0,0,0,0,0,0]
[null,"MOD:Y92",null,"VS:C","BCV:0310",null,null,null,null,null,null,null,null,null,null,null,null,null,null,"YA_9200_0223",null,0,"31 Bypass Cv ","Do Not Use",0,0,0,0,0,0,0,{"$f":"ROUNDUP($V685*FX!$G$2*CF!$B$3,0)","v":0},{"$f":"ROUNDUP($V685*FX!$G$10*CF!$B$4,0)","v":0},{"$f":"ROUNDUP($V685*FX!$G$35*CF!$B$5,0)","v":0},{"$f":"ROUNDUP($V685*FX!$G$3*CF!$B$6,0)","v":0},null,null,null,null,null,null,null,null,null,null,null,null,null,null,null,null,null,null,null,null,null,null,null,null,null,null,null,null,null,null,null,0,null,null,0,0,null,0,null,0,0,0,0,0,0,0,0,0,0,0]
[null,"MOD:Y92",null,"VS:D","BCV:0380",null,null,null,null,null,null,null,null,null,null,null,null,null,null,"YA_9200_0224",null,0,"38 Bypass Cv ","Do Not Use",0,0,0,0,0,0,0,{"$f":"ROUNDUP($V686*FX!$G$2*CF!$B$3,0)","v":0},{"$f":"ROUNDUP($V686*FX!$G$10*CF!$B$4,0)","v":0},{"$f":"ROUNDUP($V686*FX!$G$35*CF!$B$5,0)","v":0},{"$f":"ROUNDUP($V686*FX!$G$3*CF!$B$6,0)","v":0},null,null,null,null,null,null,null,null,null,null,null,null,null,null,null,null,null,null,null,null,null,null,null,null,null,null,null,null,null,null,null,0,null,null,0,0,null,0,null,0,0,0,0,0,0,0,0,0,0,0]
[null,"MOD:Y92",null,"VS:C","BCV:0390",null,null,null,null,null,null,null,null,null,null,null,null,null,null,"YA_9200_0225",null,0,"39 Bypass Cv ","Do Not Use",0,0,0,0,0,0,0,{"$f":"ROUNDUP($V687*FX!$G$2*CF!$B$3,0)","v":0},{"$f":"ROUNDUP($V687*FX!$G$10*CF!$B$4,0)","v":0},{"$f":"ROUNDUP($V687*FX!$G$35*CF!$B$5,0)","v":0},{"$f":"ROUNDUP($V687*FX!$G$3*CF!$B$6,0)","v":0},null,null,null,null,null,null,null,null,null,null,null,null,null,null,null,null,null,null,null,null,null,null,null,null,null,null,null,null,null,null,null,0,null,null,0,0,null,0,null,0,0,0,0,0,0,0,0,0,0,0]
[null,"MOD:Y92",null,"VS:E","BCV:0450",null,null,null,null,null,null,null,null,null,null,null,null,null,null,"YA_9200_0226",null,0,"45  Bypass Cv ","Do Not Use",0,0,0,0,0,0,0,{"$f":"ROUNDUP($V688*FX!$G$2*CF!$B$3,0)","v":0},{"$f":"ROUNDUP($V688*FX!$G$10*CF!$B$4,0)","v":0},{"$f":"ROUNDUP($V688*FX!$G$35*CF!$B$5,0)","v":0},{"$f":"ROUNDUP($V688*FX!$G$3*CF!$B$6,0)","v":0},null,null,null,null,null,null,null,null,null,null,null,null,null,null,null,null,null,null,null,null,null,null,null,null,null,null,null,null,null,null,null,0,null,null,0,0,null,0,null,0,0,0,0,0,0,0,0,0,0,0]
[null,"MOD:Y92",null,"VS:D","BCV:0530",null,null,null,null,null,null,null,null,null,null,null,null,null,null,"YA_9200_0227",null,0,"53 Bypass Cv ","Do Not Use",0,0,0,0,0,0,0,{"$f":"ROUNDUP($V689*FX!$G$2*CF!$B$3,0)","v":0},{"$f":"ROUNDUP($V689*FX!$G$10*CF!$B$4,0)","v":0},{"$f":"ROUNDUP($V689*FX!$G$35*CF!$B$5,0)","v":0},{"$f":"ROUNDUP($V689*FX!$G$3*CF!$B$6,0)","v":0},null,null,null,null,null,null,null,null,null,null,null,null,null,null,null,null,null,null,null,null,null,null,null,null,null,null,null,null,null,null,null,0,null,null,0,0,null,0,null,0,0,0,0,0,0,0,0,0,0,0]
[null,"MOD:Y92",null,"VS:E","BCV:0600",null,null,null,null,null,null,null,null,null,null,null,null,null,null,"YA_9200_0228",null,0,"60  Bypass Cv ","Do Not Use",0,0,0,0,0,0,0,{"$f":"ROUNDUP($V690*FX!$G$2*CF!$B$3,0)","v":0},{"$f":"ROUNDUP($V690*FX!$G$10*CF!$B$4,0)","v":0},{"$f":"ROUNDUP($V690*FX!$G$35*CF!$B$5,0)","v":0},{"$f":"ROUNDUP($V690*FX!$G$3*CF!$B$6,0)","v":0},null,null,null,null,null,null,null,null,null,null,null,null,null,null,null,null,null,null,null,null,null,null,null,null,null,null,null,null,null,null,null,0,null,null,0,0,null,0,null,0,0,0,0,0,0,0,0,0,0,0]
[null,"MOD:Y92",null,"VS:E","BCV:0700",null,null,null,null,null,null,null,null,null,null,null,null,null,null,"YA_9200_0229",null,0,"70  Bypass Cv ","Do Not Use",0,0,0,0,0,0,0,{"$f":"ROUNDUP($V691*FX!$G$2*CF!$B$3,0)","v":0},{"$f":"ROUNDUP($V691*FX!$G$10*CF!$B$4,0)","v":0},{"$f":"ROUNDUP($V691*FX!$G$35*CF!$B$5,0)","v":0},{"$f":"ROUNDUP($V691*FX!$G$3*CF!$B$6,0)","v":0},null,null,null,null,null,null,null,null,null,null,null,null,null,null,null,null,null,null,null,null,null,null,null,null,null,null,null,null,null,null,null,0,null,null,0,0,null,0,null,0,0,0,0,0,0,0,0,0,0,0]
[null,"MOD:Y92",null,"VS:D","BCV:0710",null,null,null,null,null,null,null,null,null,null,null,null,null,null,"YA_9200_0230",null,0,"71 Bypass Cv ","Do Not Use",0,0,0,0,0,0,0,{"$f":"ROUNDUP($V692*FX!$G$2*CF!$B$3,0)","v":0},{"$f":"ROUNDUP($V692*FX!$G$10*CF!$B$4,0)","v":0},{"$f":"ROUNDUP($V692*FX!$G$35*CF!$B$5,0)","v":0},{"$f":"ROUNDUP($V692*FX!$G$3*CF!$B$6,0)","v":0},null,null,null,null,null,null,null,null,null,null,null,null,null,null,null,null,null,null,null,null,null,null,null,null,null,null,null,null,null,null,null,0,null,null,0,0,null,0,null,0,0,0,0,0,0,0,0,0,0,0]
[null,"MOD:Y92",null,"VS:F","BCV:0900",null,null,null,null,null,null,null,null,null,null,null,null,null,null,"YA_9200_0231",null,0,"90 Bypass Cv","Do Not Use",0,0,0,0,0,0,0,{"$f":"ROUNDUP($V693*FX!$G$2*CF!$B$3,0)","v":0},{"$f":"ROUNDUP($V693*FX!$G$10*CF!$B$4,0)","v":0},{"$f":"ROUNDUP($V693*FX!$G$35*CF!$B$5,0)","v":0},{"$f":"ROUNDUP($V693*FX!$G$3*CF!$B$6,0)","v":0},null,null,null,null,null,null,null,null,null,null,null,null,null,null,null,null,null,null,null,null,null,null,null,null,null,null,null,null,null,null,null,0,null,null,0,0,null,0,null,0,0,0,0,0,0,0,0,0,0,0]
[null,"MOD:Y92",null,"VS:D","BCV:0920",null,null,null,null,null,null,null,null,null,null,null,null,null,null,"YA_9200_0232",null,0,"92 Bypass Cv ","Do Not Use",0,0,0,0,0,0,0,{"$f":"ROUNDUP($V694*FX!$G$2*CF!$B$3,0)","v":0},{"$f":"ROUNDUP($V694*FX!$G$10*CF!$B$4,0)","v":0},{"$f":"ROUNDUP($V694*FX!$G$35*CF!$B$5,0)","v":0},{"$f":"ROUNDUP($V694*FX!$G$3*CF!$B$6,0)","v":0},null,null,null,null,null,null,null,null,null,null,null,null,null,null,null,null,null,null,null,null,null,null,null,null,null,null,null,null,null,null,null,0,null,null,0,0,null,0,null,0,0,0,0,0,0,0,0,0,0,0]
[null,"MOD:Y92",null,"VS:E","BCV:0950",null,null,null,null,null,null,null,null,null,null,null,null,null,null,"YA_9200_0233",null,0,"95  Bypass Cv ","Do Not Use",0,0,0,0,0,0,0,{"$f":"ROUNDUP($V695*FX!$G$2*CF!$B$3,0)","v":0},{"$f":"ROUNDUP($V695*FX!$G$10*CF!$B$4,0)","v":0},{"$f":"ROUNDUP($V695*FX!$G$35*CF!$B$5,0)","v":0},{"$f":"ROUNDUP($V695*FX!$G$3*CF!$B$6,0)","v":0},null,null,null,null,null,null,null,null,null,null,null,null,null,null,null,null,null,null,null,null,null,null,null,null,null,null,null,null,null,null,null,0,null,null,0,0,null,0,null,0,0,0,0,0,0,0,0,0,0,0]
[null,"MOD:Y92",null,"VS:E,F","BCV:1200",null,null,null,null,null,null,null,null,null,null,null,null,null,null,"YA_9200_0234",null,0,"120  Bypass Cv ","Do Not Use",0,0,0,0,0,0,0,{"$f":"ROUNDUP($V696*FX!$G$2*CF!$B$3,0)","v":0},{"$f":"ROUNDUP($V696*FX!$G$10*CF!$B$4,0)","v":0},{"$f":"ROUNDUP($V696*FX!$G$35*CF!$B$5,0)","v":0},{"$f":"ROUNDUP($V696*FX!$G$3*CF!$B$6,0)","v":0},null,null,null,null,null,null,null,null,null,null,null,null,null,null,null,null,null,null,null,null,null,null,null,null,null,null,null,null,null,null,null,0,null,null,0,0,null,0,null,0,0,0,0,0,0,0,0,0,0,0]
[null,"MOD:Y92",null,"VS:G","BCV:1350",null,null,null,null,null,null,null,null,null,null,null,null,null,null,"YA_9200_0235",null,0,"135 Bypass Cv","Do Not Use",0,0,0,0,0,0,0,{"$f":"ROUNDUP($V697*FX!$G$2*CF!$B$3,0)","v":0},{"$f":"ROUNDUP($V697*FX!$G$10*CF!$B$4,0)","v":0},{"$f":"ROUNDUP($V697*FX!$G$35*CF!$B$5,0)","v":0},{"$f":"ROUNDUP($V697*FX!$G$3*CF!$B$6,0)","v":0},null,null,null,null,null,null,null,null,null,null,null,null,null,null,null,null,null,null,null,null,null,null,null,null,null,null,null,null,null,null,null,0,null,null,0,0,null,0,null,0,0,0,0,0,0,0,0,0,0,0]
[null,"MOD:Y92",null,"VS:E","BCV:1450",null,null,null,null,null,null,null,null,null,null,null,null,null,null,"YA_9200_0236",null,0,"145  Bypass Cv ","Do Not Use",0,0,0,0,0,0,0,{"$f":"ROUNDUP($V698*FX!$G$2*CF!$B$3,0)","v":0},{"$f":"ROUNDUP($V698*FX!$G$10*CF!$B$4,0)","v":0},{"$f":"ROUNDUP($V698*FX!$G$35*CF!$B$5,0)","v":0},{"$f":"ROUNDUP($V698*FX!$G$3*CF!$B$6,0)","v":0},null,null,null,null,null,null,null,null,null,null,null,null,null,null,null,null,null,null,null,null,null,null,null,null,null,null,null,null,null,null,null,0,null,null,0,0,null,0,null,0,0,0,0,0,0,0,0,0,0,0]
[null,"MOD:Y92",null,"VS:F","BCV:1550",null,null,null,null,null,null,null,null,null,null,null,null,null,null,"YA_9200_0237",null,0,"155 Bypass Cv","Do Not Use",0,0,0,0,0,0,0,{"$f":"ROUNDUP($V699*FX!$G$2*CF!$B$3,0)","v":0},{"$f":"ROUNDUP($V699*FX!$G$10*CF!$B$4,0)","v":0},{"$f":"ROUNDUP($V699*FX!$G$35*CF!$B$5,0)","v":0},{"$f":"ROUNDUP($V699*FX!$G$3*CF!$B$6,0)","v":0},null,null,null,null,null,null,null,null,null,null,null,null,null,null,null,null,null,null,null,null,null,null,null,null,null,null,null,null,null,null,null,0,null,null,0,0,null,0,null,0,0,0,0,0,0,0,0,0,0,0]
[null,"MOD:Y92",null,"VS:E,G","BCV:1600",null,null,null,null,null,null,null,null,null,null,null,null,null,null,"YA_9200_0238",null,0,"160  Bypass Cv ","Do Not Use",0,0,0,0,0,0,0,{"$f":"ROUNDUP($V700*FX!$G$2*CF!$B$3,0)","v":0},{"$f":"ROUNDUP($V700*FX!$G$10*CF!$B$4,0)","v":0},{"$f":"ROUNDUP($V700*FX!$G$35*CF!$B$5,0)","v":0},{"$f":"ROUNDUP($V700*FX!$G$3*CF!$B$6,0)","v":0},null,null,null,null,null,null,null,null,null,null,null,null,null,null,null,null,null,null,null,null,null,null,null,null,null,null,null,null,null,null,null,0,null,null,0,0,null,0,null,0,0,0,0,0,0,0,0,0,0,0]
[null,"MOD:Y92",null,"VS:H","BCV:1750",null,null,null,null,null,null,null,null,null,null,null,null,null,null,"YA_9200_0239",null,0,"175 Bypass Cv","Do Not Use",0,0,0,0,0,0,0,{"$f":"ROUNDUP($V701*FX!$G$2*CF!$B$3,0)","v":0},{"$f":"ROUNDUP($V701*FX!$G$10*CF!$B$4,0)","v":0},{"$f":"ROUNDUP($V701*FX!$G$35*CF!$B$5,0)","v":0},{"$f":"ROUNDUP($V701*FX!$G$3*CF!$B$6,0)","v":0},null,null,null,null,null,null,null,null,null,null,null,null,null,null,null,null,null,null,null,null,null,null,null,null,null,null,null,null,null,null,null,0,null,null,0,0,null,0,null,0,0,0,0,0,0,0,0,0,0,0]
[null,"MOD:Y92",null,"VS:F","BCV:1850",null,null,null,null,null,null,null,null,null,null,null,null,null,null,"YA_9200_0240",null,0,"185 Bypass Cv","Do Not Use",0,0,0,0,0,0,0,{"$f":"ROUNDUP($V702*FX!$G$2*CF!$B$3,0)","v":0},{"$f":"ROUNDUP($V702*FX!$G$10*CF!$B$4,0)","v":0},{"$f":"ROUNDUP($V702*FX!$G$35*CF!$B$5,0)","v":0},{"$f":"ROUNDUP($V702*FX!$G$3*CF!$B$6,0)","v":0},null,null,null,null,null,null,null,null,null,null,null,null,null,null,null,null,null,null,null,null,null,null,null,null,null,null,null,null,null,null,null,0,null,null,0,0,null,0,null,0,0,0,0,0,0,0,0,0,0,0]
[null,"MOD:Y92",null,"VS:G","BCV:1900",null,null,null,null,null,null,null,null,null,null,null,null,null,null,"YA_9200_0241",null,0,"190 Bypass Cv","Do Not Use",0,0,0,0,0,0,0,{"$f":"ROUNDUP($V703*FX!$G$2*CF!$B$3,0)","v":0},{"$f":"ROUNDUP($V703*FX!$G$10*CF!$B$4,0)","v":0},{"$f":"ROUNDUP($V703*FX!$G$35*CF!$B$5,0)","v":0},{"$f":"ROUNDUP($V703*FX!$G$3*CF!$B$6,0)","v":0},null,null,null,null,null,null,null,null,null,null,null,null,null,null,null,null,null,null,null,null,null,null,null,null,null,null,null,null,null,null,null,0,null,null,0,0,null,0,null,0,0,0,0,0,0,0,0,0,0,0]
[null,"MOD:Y92",null,"VS:H","BCV:2100",null,null,null,null,null,null,null,null,null,null,null,null,null,null,"YA_9200_0242",null,0,"210 Bypass Cv","Do Not Use",0,0,0,0,0,0,0,{"$f":"ROUNDUP($V704*FX!$G$2*CF!$B$3,0)","v":0},{"$f":"ROUNDUP($V704*FX!$G$10*CF!$B$4,0)","v":0},{"$f":"ROUNDUP($V704*FX!$G$35*CF!$B$5,0)","v":0},{"$f":"ROUNDUP($V704*FX!$G$3*CF!$B$6,0)","v":0},null,null,null,null,null,null,null,null,null,null,null,null,null,null,null,null,null,null,null,null,null,null,null,null,null,null,null,null,null,null,null,0,null,null,0,0,null,0,null,0,0,0,0,0,0,0,0,0,0,0]
[null,"MOD:Y92",null,"VS:F","BCV:2150",null,null,null,null,null,null,null,null,null,null,null,null,null,null,"YA_9200_0243",null,0,"215 Bypass Cv","Do Not Use",0,0,0,0,0,0,0,{"$f":"ROUNDUP($V705*FX!$G$2*CF!$B$3,0)","v":0},{"$f":"ROUNDUP($V705*FX!$G$10*CF!$B$4,0)","v":0},{"$f":"ROUNDUP($V705*FX!$G$35*CF!$B$5,0)","v":0},{"$f":"ROUNDUP($V705*FX!$G$3*CF!$B$6,0)","v":0},null,null,null,null,null,null,null,null,null,null,null,null,null,null,null,null,null,null,null,null,null,null,null,null,null,null,null,null,null,null,null,0,null,null,0,0,null,0,null,0,0,0,0,0,0,0,0,0,0,0]
[null,"MOD:Y92",null,"VS:G","BCV:2250",null,null,null,null,null,null,null,null,null,null,null,null,null,null,"YA_9200_0244",null,{"$f":"AE706","v":0},"225 Bypass Cv","Do Not Use",0,0,0,0,0,0,0,{"$f":"ROUNDUP($V706*FX!$G$2*CF!$B$3,0)","v":0},{"$f":"ROUNDUP($V706*FX!$G$10*CF!$B$4,0)","v":0},{"$f":"ROUNDUP($V706*FX!$G$35*CF!$B$5,0)","v":0},{"$f":"ROUNDUP($V706*FX!$G$3*CF!$B$6,0)","v":0},null,null,null,null,null,null,null,null,null,null,null,null,null,null,null,null,null,null,null,null,null,null,null,null,null,null,null,null,null,null,null,0,null,null,0,0,null,0,null,0,0,0,0,0,0,0,0,0,{"$f":"IF(CE706=\"POA\",\"POA\", ROUNDUP(CE706*1.06,0))","v":0},0]
[null,"MOD:Y92",null,"VS:F","BCV:2450",null,null,null,null,null,null,null,null,null,null,null,null,null,null,"YA_9200_0245",null,0,"245 Bypass Cv","Do Not Use",{"$f":"IFERROR(Z707*1.02,\"POA\")","v":0},0,0,0,0,0,{"$f":"CG707","v":0},{"$f":"ROUNDUP($V707*FX!$G$2*CF!$B$3,0)","v":0},{"$f":"ROUNDUP($V707*FX!$G$10*CF!$B$4,0)","v":0},{"$f":"ROUNDUP($V707*FX!$G$35*CF!$B$5,0)","v":0},{"$f":"ROUNDUP($V707*FX!$G$3*CF!$B$6,0)","v":0},null,null,null,null,null,null,null,null,null,null,null,null,null,null,null,null,null,null,null,null,null,null,null,null,null,null,null,null,null,null,null,{"$f":"ROUNDUP(($AE707+($AE707*$BO$1)),0)","v":0},null,null,0,0,null,{"$f":"ROUNDUP(BT707,0)","v":0},null,0,0,0,0,0,{"$f":"ROUNDUP(CA707,0)","v":0},{"$f":"CB707+(CB707*$CC$1)","v":0},0,0,0,{"$f":"IF(CF707=\"POA\",\"POA\", ROUNDUP(CF707*1.043,0))","v":0}]
[null,"MOD:Y92",null,"VS:H","BCV:2500",null,null,null,null,null,null,null,null,null,null,null,null,null,null,"YA_9200_0246",null,0,"250 Bypass Cv","Do Not Use",0,0,0,0,0,0,0,{"$f":"ROUNDUP($V708*FX!$G$2*CF!$B$3,0)","v":0},{"$f":"ROUNDUP($V708*FX!$G$10*CF!$B$4,0)","v":0},{"$f":"ROUNDUP($V708*FX!$G$35*CF!$B$5,0)","v":0},{"$f":"ROUNDUP($V708*FX!$G$3*CF!$B$6,0)","v":0},null,null,null,null,null,null,null,null,null,null,null,null,null,null,null,null,null,null,null,null,null,null,null,null,null,null,null,null,null,null,null,0,null,null,0,0,null,0,null,0,0,0,0,0,0,0,0,0,0,0]
[null,"MOD:Y92",null,"VS:G","BCV:2700",null,null,null,null,null,null,null,null,null,null,null,null,null,null,"YA_9200_0247",null,0,"270 Bypass Cv","Do Not Use",0,0,0,0,0,0,0,{"$f":"ROUNDUP($V709*FX!$G$2*CF!$B$3,0)","v":0},{"$f":"ROUNDUP($V709*FX!$G$10*CF!$B$4,0)","v":0},{"$f":"ROUNDUP($V709*FX!$G$35*CF!$B$5,0)","v":0},{"$f":"ROUNDUP($V709*FX!$G$3*CF!$B$6,0)","v":0},null,null,null,null,null,null,null,null,null,null,null,null,null,null,null,null,null,null,null,null,null,null,null,null,null,null,null,null,null,null,null,0,null,null,0,0,null,0,null,0,0,0,0,0,0,0,0,0,0,0]
[null,"MOD:Y92",null,"VS:H","BCV:3000",null,null,null,null,null,null,null,null,null,null,null,null,null,null,"YA_9200_0248",null,0,"300 Bypass Cv","Do Not Use",0,0,0,0,0,0,0,{"$f":"ROUNDUP($V710*FX!$G$2*CF!$B$3,0)","v":0},{"$f":"ROUNDUP($V710*FX!$G$10*CF!$B$4,0)","v":0},{"$f":"ROUNDUP($V710*FX!$G$35*CF!$B$5,0)","v":0},{"$f":"ROUNDUP($V710*FX!$G$3*CF!$B$6,0)","v":0},null,null,null,null,null,null,null,null,null,null,null,null,null,null,null,null,null,null,null,null,null,null,null,null,null,null,null,null,null,null,null,0,null,null,0,0,null,0,null,0,0,0,0,0,0,0,0,0,0,0]
[null,"MOD:Y92",null,"VS:G","BCV:3200",null,null,null,null,null,null,null,null,null,null,null,null,null,null,"YA_9200_0249",null,0,"320 Bypass Cv","Do Not Use",0,0,0,0,0,0,0,{"$f":"ROUNDUP($V711*FX!$G$2*CF!$B$3,0)","v":0},{"$f":"ROUNDUP($V711*FX!$G$10*CF!$B$4,0)","v":0},{"$f":"ROUNDUP($V711*FX!$G$35*CF!$B$5,0)","v":0},{"$f":"ROUNDUP($V711*FX!$G$3*CF!$B$6,0)","v":0},null,null,null,null,null,null,null,null,null,null,null,null,null,null,null,null,null,null,null,null,null,null,null,null,null,null,null,null,null,null,null,0,null,null,0,0,null,0,null,0,0,0,0,0,0,0,0,0,0,0]
[null,"MOD:Y92",null,"VS:H","BCV:3550",null,null,null,null,null,null,null,null,null,null,null,null,null,null,"YA_9200_0250",null,0,"355 Bypass Cv","Do Not Use",0,0,0,0,0,0,0,{"$f":"ROUNDUP($V712*FX!$G$2*CF!$B$3,0)","v":0},{"$f":"ROUNDUP($V712*FX!$G$10*CF!$B$4,0)","v":0},{"$f":"ROUNDUP($V712*FX!$G$35*CF!$B$5,0)","v":0},{"$f":"ROUNDUP($V712*FX!$G$3*CF!$B$6,0)","v":0},null,null,null,null,null,null,null,null,null,null,null,null,null,null,null,null,null,null,null,null,null,null,null,null,null,null,null,null,null,null,null,0,null,null,0,0,null,0,null,0,0,0,0,0,0,0,0,0,0,0]
[null,"MOD:Y92",null,"VS:G","BCV:3850",null,null,null,null,null,null,null,null,null,null,null,null,null,null,"YA_9200_0251",null,0,"385 Bypass Cv","Do Not Use",0,0,0,0,0,0,0,{"$f":"ROUNDUP($V713*FX!$G$2*CF!$B$3,0)","v":0},{"$f":"ROUNDUP($V713*FX!$G$10*CF!$B$4,0)","v":0},{"$f":"ROUNDUP($V713*FX!$G$35*CF!$B$5,0)","v":0},{"$f":"ROUNDUP($V713*FX!$G$3*CF!$B$6,0)","v":0},null,null,null,null,null,null,null,null,null,null,null,null,null,null,null,null,null,null,null,null,null,null,null,null,null,null,null,null,null,null,null,0,null,null,0,0,null,0,null,0,0,0,0,0,0,0,0,0,0,0]
[null,"MOD:Y92",null,"VS:H","BCV:4250",null,null,null,null,null,null,null,null,null,null,null,null,null,null,"YA_9200_0252",null,0,"425 Bypass Cv","Do Not Use",0,0,0,0,0,0,0,{"$f":"ROUNDUP($V714*FX!$G$2*CF!$B$3,0)","v":0},{"$f":"ROUNDUP($V714*FX!$G$10*CF!$B$4,0)","v":0},{"$f":"ROUNDUP($V714*FX!$G$35*CF!$B$5,0)","v":0},{"$f":"ROUNDUP($V714*FX!$G$3*CF!$B$6,0)","v":0},null,null,null,null,null,null,null,null,null,null,null,null,null,null,null,null,null,null,null,null,null,null,null,null,null,null,null,null,null,null,null,0,null,null,0,0,null,0,null,0,0,0,0,0,0,0,0,0,0,0]
[null,"MOD:Y92",null,"VS:G","BCV:4600",null,null,null,null,null,null,null,null,null,null,null,null,null,null,"YA_9200_0253",null,0,"460 Bypass Cv","Do Not Use",0,0,0,0,0,0,0,{"$f":"ROUNDUP($V715*FX!$G$2*CF!$B$3,0)","v":0},{"$f":"ROUNDUP($V715*FX!$G$10*CF!$B$4,0)","v":0},{"$f":"ROUNDUP($V715*FX!$G$35*CF!$B$5,0)","v":0},{"$f":"ROUNDUP($V715*FX!$G$3*CF!$B$6,0)","v":0},null,null,null,null,null,null,null,null,null,null,null,null,null,null,null,null,null,null,null,null,null,null,null,null,null,null,null,null,null,null,null,0,null,null,0,0,null,0,null,0,0,0,0,0,0,0,0,0,0,0]
[null,"MOD:Y92",null,"VS:H","BCV:5100",null,null,null,null,null,null,null,null,null,null,null,null,null,null,"YA_9200_0254",null,0,"510 Bypass Cv","Do Not Use",0,0,0,0,0,0,0,{"$f":"ROUNDUP($V716*FX!$G$2*CF!$B$3,0)","v":0},{"$f":"ROUNDUP($V716*FX!$G$10*CF!$B$4,0)","v":0},{"$f":"ROUNDUP($V716*FX!$G$35*CF!$B$5,0)","v":0},{"$f":"ROUNDUP($V716*FX!$G$3*CF!$B$6,0)","v":0},null,null,null,null,null,null,null,null,null,null,null,null,null,null,null,null,null,null,null,null,null,null,null,null,null,null,null,null,null,null,null,0,null,null,0,0,null,0,null,0,0,0,0,0,0,0,0,0,0,0]
[null,"MOD:Y92",null,"VS:H","BCV:6000",null,null,null,null,null,null,null,null,null,null,null,null,null,null,"YA_9200_0255",null,0,"600 Bypass Cv","Do Not Use",0,0,0,0,0,0,0,{"$f":"ROUNDUP($V717*FX!$G$2*CF!$B$3,0)","v":0},{"$f":"ROUNDUP($V717*FX!$G$10*CF!$B$4,0)","v":0},{"$f":"ROUNDUP($V717*FX!$G$35*CF!$B$5,0)","v":0},{"$f":"ROUNDUP($V717*FX!$G$3*CF!$B$6,0)","v":0},null,null,null,null,null,null,null,null,null,null,null,null,null,null,null,null,null,null,null,null,null,null,null,null,null,null,null,null,null,null,null,0,null,null,0,0,null,0,null,0,0,0,0,0,0,0,0,0,0,0]
["YA9200","MOD:Y92",null,"VS:G","BM:0,1","SM:D","LT:N","NC:N,Y",null,null,null,null,null,null,null,null,null,null,null,"YA_9200_0256",null,2702,"Viton / Turcon 10","Soft Goods",2062.44,2022,1963,1963,1906,1850,2702,{"$f":"ROUNDUP($V718*FX!$G$2*CF!$B$3,0)","v":2702},{"$f":"ROUNDUP($V718*FX!$G$10*CF!$B$4,0)","v":3728},{"$f":"ROUNDUP($V718*FX!$G$35*CF!$B$5,0)","v":1816},{"$f":"ROUNDUP($V718*FX!$G$3*CF!$B$6,0)","v":3758},null,null,null,null,null,null,null,null,null,null,null,null,null,null,null,null,null,null,null,null,null,null,null,null,null,null,null,null,null,null,null,2816,null,null,2149.6460000000002,2150,null,0,null,2062.3278,2149,2149,2234.96,2234.96,2235,2442.855,2442.855,2443,2590,2702]
["YA9200","MOD:Y92",null,"VS:H","BM:0,1","SM:D","LT:N","NC:N,Y",null,null,null,null,null,null,null,null,null,null,null,"YA_9200_0257",null,2812,"Viton / Turcon 10","Soft Goods",2145.06,2103,2042,2042,1983,1925,2812,{"$f":"ROUNDUP($V719*FX!$G$2*CF!$B$3,0)","v":2812},{"$f":"ROUNDUP($V719*FX!$G$10*CF!$B$4,0)","v":3880},{"$f":"ROUNDUP($V719*FX!$G$35*CF!$B$5,0)","v":1890},{"$f":"ROUNDUP($V719*FX!$G$3*CF!$B$6,0)","v":3911},null,null,null,null,null,null,null,null,null,null,null,null,null,null,null,null,null,null,null,null,null,null,null,null,null,null,null,null,null,null,null,2931,null,null,2236.1320000000001,2237,null,0,null,2145.3252000000002,2236,2236,2325.44,2325.44,2326,2542.3180000000002,2542.3180000000002,2543,2696,2812]
["YA9200","MOD:Y92",null,"VS:G","BM:0,1","SM:F","LT:N","NC:N,Y",null,null,null,null,null,null,null,null,null,null,null,"YA_9200_0258",null,2046,"EPDM / Turcon 10","Soft Goods",1560.6000000000001,1530,1485,1485,1442,1400,2046,{"$f":"ROUNDUP($V720*FX!$G$2*CF!$B$3,0)","v":2046},{"$f":"ROUNDUP($V720*FX!$G$10*CF!$B$4,0)","v":2823},{"$f":"ROUNDUP($V720*FX!$G$35*CF!$B$5,0)","v":1375},{"$f":"ROUNDUP($V720*FX!$G$3*CF!$B$6,0)","v":2845},null,null,null,null,null,null,null,null,null,null,null,null,null,null,null,null,null,null,null,null,null,null,null,null,null,null,null,null,null,null,null,2132,null,null,1626.5619999999999,1627,null,0,null,1560.1410000000001,1626,1626,1691.04,1691.04,1692,1849.356,1849.356,1850,1961,2046]
["YA9200","MOD:Y92",null,"VS:H","BM:0,1","SM:F","LT:N","NC:N,Y",null,null,null,null,null,null,null,null,null,null,null,"YA_9200_0259",null,2155,"EPDM / Turcon 10","Soft Goods",1644.24,{"$f":"ROUND(IFERROR(AA721*1.03,\"POA\"),0)","v":1612},1565,1565,1519,1475,2155,{"$f":"ROUNDUP($V721*FX!$G$2*CF!$B$3,0)","v":2155},{"$f":"ROUNDUP($V721*FX!$G$10*CF!$B$4,0)","v":2973},{"$f":"ROUNDUP($V721*FX!$G$35*CF!$B$5,0)","v":1449},{"$f":"ROUNDUP($V721*FX!$G$3*CF!$B$6,0)","v":2997},null,null,null,null,null,null,null,null,null,null,null,null,null,null,null,null,null,null,null,null,null,null,null,null,null,null,null,null,null,null,null,2246,null,null,1714.09,{"$f":"ROUNDUP(BR721,0)","v":1715},null,0,null,1644.1890000000001,{"$f":"ROUNDUP(($BW721+($BX$1*$BW721)),0)","v":1714},1714,{"$f":"BY721+(BY721*$BZ$1)","v":1782.56},1782.56,1783,1948.819,1948.819,{"$f":"ROUNDUP(CD721,0)","v":1949},2066,2155]
["YA9200","MOD:Y92",null,"VS:B","BM:2,3 ","SM:B","LT:Y,N","NC:N,Y",null,null,null,null,null,null,null,null,null,null,null,"YA_9200_0260",null,0,"Graph / Turc 1","Soft Goods",0,0,0,0,0,0,0,{"$f":"ROUNDUP($V722*FX!$G$2*CF!$B$3,0)","v":0},{"$f":"ROUNDUP($V722*FX!$G$10*CF!$B$4,0)","v":0},{"$f":"ROUNDUP($V722*FX!$G$35*CF!$B$5,0)","v":0},{"$f":"ROUNDUP($V722*FX!$G$3*CF!$B$6,0)","v":0},null,null,null,null,null,null,null,null,null,null,null,null,null,null,null,null,null,null,null,null,null,null,null,null,null,null,null,null,null,null,null,0,null,null,0,0,null,0,null,0,0,0,0,0,0,0,0,0,0,0]
["YA9200","MOD:Y92",null,"VS:C","BM:2,3 ","SM:B","LT:Y,N","NC:N,Y",null,null,null,null,null,null,null,null,null,null,null,"YA_9200_0261",null,0,"Graph / Turc 1","Soft Goods",0,0,0,0,0,0,0,{"$f":"ROUNDUP($V723*FX!$G$2*CF!$B$3,0)","v":0},{"$f":"ROUNDUP($V723*FX!$G$10*CF!$B$4,0)","v":0},{"$f":"ROUNDUP($V723*FX!$G$35*CF!$B$5,0)","v":0},{"$f":"ROUNDUP($V723*FX!$G$3*CF!$B$6,0)","v":0},null,null,null,null,null,null,null,null,null,null,null,null,null,null,null,null,null,null,null,null,null,null,null,null,null,null,null,null,null,null,null,0,null,null,0,0,null,0,null,0,0,0,0,0,0,0,0,0,0,0]
["YA9200","MOD:Y92",null,"VS:D","BM:2,3 ","SM:B","LT:Y,N","NC:N,Y",null,null,null,null,null,null,null,null,null,null,null,"YA_9200_0262",null,0,"Graph / Turc 1","Soft Goods",0,0,0,0,0,0,0,{"$f":"ROUNDUP($V724*FX!$G$2*CF!$B$3,0)","v":0},{"$f":"ROUNDUP($V724*FX!$G$10*CF!$B$4,0)","v":0},{"$f":"ROUNDUP($V724*FX!$G$35*CF!$B$5,0)","v":0},{"$f":"ROUNDUP($V724*FX!$G$3*CF!$B$6,0)","v":0},null,null,null,null,null,null,null,null,null,null,null,null,null,null,null,null,null,null,null,null,null,null,null,null,null,null,null,null,null,null,null,0,null,null,0,0,null,0,null,0,0,0,0,0,0,0,0,0,0,0]
["YA9200","MOD:Y92",null,"VS:E","BM:2,3 ","SM:B","LT:Y,N","NC:N,Y",null,null,null,null,null,null,null,null,null,null,null,"YA_9200_0263",null,0,"Graph / Turc 1","Soft Goods",0,0,0,0,0,0,0,{"$f":"ROUNDUP($V725*FX!$G$2*CF!$B$3,0)","v":0},{"$f":"ROUNDUP($V725*FX!$G$10*CF!$B$4,0)","v":0},{"$f":"ROUNDUP($V725*FX!$G$35*CF!$B$5,0)","v":0},{"$f":"ROUNDUP($V725*FX!$G$3*CF!$B$6,0)","v":0},null,null,null,null,null,null,null,null,null,null,null,null,null,null,null,null,null,null,null,null,null,null,null,null,null,null,null,null,null,null,null,0,null,null,0,0,null,0,null,0,0,0,0,0,0,0,0,0,0,0]
["YA9200","MOD:Y92",null,"VS:B","BM:5,6,7,8","SM:C","LT:Y,N","NC:N,Y",null,null,null,null,null,null,null,null,null,null,null,"YA_9200_0264",null,987,"Vrg TFE / Turc 1","Soft Goods",751.74,737,716,716,695,675,987,{"$f":"ROUNDUP($V726*FX!$G$2*CF!$B$3,0)","v":987},{"$f":"ROUNDUP($V726*FX!$G$10*CF!$B$4,0)","v":1362},{"$f":"ROUNDUP($V726*FX!$G$35*CF!$B$5,0)","v":664},{"$f":"ROUNDUP($V726*FX!$G$3*CF!$B$6,0)","v":1373},null,null,null,null,null,null,null,null,null,null,null,null,null,null,null,null,null,null,null,null,null,null,null,null,null,null,null,null,null,null,null,1029,null,null,784.62599999999998,785,null,0,null,752.2296,784,784,815.36,815.36,816,891.88800000000003,891.88800000000003,892,946,987]
["YA9200","MOD:Y92",null,"VS:C","BM:5,6,7,8","SM:C","LT:Y,N","NC:N,Y",null,null,null,null,null,null,null,null,null,null,null,"YA_9200_0265",null,1313,"Vrg TFE / Turc 1","Soft Goods",1000.62,981,952,952,924,897,1313,{"$f":"ROUNDUP($V727*FX!$G$2*CF!$B$3,0)","v":1313},{"$f":"ROUNDUP($V727*FX!$G$10*CF!$B$4,0)","v":1812},{"$f":"ROUNDUP($V727*FX!$G$35*CF!$B$5,0)","v":883},{"$f":"ROUNDUP($V727*FX!$G$3*CF!$B$6,0)","v":1826},null,null,null,null,null,null,null,null,null,null,null,null,null,null,null,null,null,null,null,null,null,null,null,null,null,null,null,null,null,null,null,1369,null,null,1043.0419999999999,1044,null,0,null,1000.1712000000001,1043,1043,1084.72,1084.72,1085,1185.905,1185.905,1186,1258,1313]
["YA9200","MOD:Y92",null,"VS:D","BM:5,6,7,8","SM:C","LT:Y,N","NC:N,Y",null,null,null,null,null,null,null,null,null,null,null,"YA_9200_0266",null,1639,"Vrg TFE / Turc 1","Soft Goods",1249.5,1225,1189,1189,1154,1120,1639,{"$f":"ROUNDUP($V728*FX!$G$2*CF!$B$3,0)","v":1639},{"$f":"ROUNDUP($V728*FX!$G$10*CF!$B$4,0)","v":2262},{"$f":"ROUNDUP($V728*FX!$G$35*CF!$B$5,0)","v":1102},{"$f":"ROUNDUP($V728*FX!$G$3*CF!$B$6,0)","v":2280},null,null,null,null,null,null,null,null,null,null,null,null,null,null,null,null,null,null,null,null,null,null,null,null,null,null,null,null,null,null,null,1708,null,null,1302.5,1303,null,0,null,1249.1634000000001,1302,1302,1354.08,1354.08,1355,1481.0150000000001,1481.0150000000001,1482,1571,1639]
["YA9200","MOD:Y92",null,"VS:E","BM:5,6,7,8","SM:C","LT:Y,N","NC:N,Y",null,null,null,null,null,null,null,null,null,null,null,"YA_9200_0267",null,1639,"Vrg TFE / Turc 1","Soft Goods",1249.5,1225,1189,1189,1154,1120,1639,{"$f":"ROUNDUP($V729*FX!$G$2*CF!$B$3,0)","v":1639},{"$f":"ROUNDUP($V729*FX!$G$10*CF!$B$4,0)","v":2262},{"$f":"ROUNDUP($V729*FX!$G$35*CF!$B$5,0)","v":1102},{"$f":"ROUNDUP($V729*FX!$G$3*CF!$B$6,0)","v":2280},null,null,null,null,null,null,null,null,null,null,null,null,null,null,null,null,null,null,null,null,null,null,null,null,null,null,null,null,null,null,null,1708,null,null,1302.5,1303,null,0,null,1249.1634000000001,1302,1302,1354.08,1354.08,1355,1481.0150000000001,1481.0150000000001,1482,1571,1639]
["YA9200","MOD:Y92",null,"VS:G","BM:2,3,5,6,7,8","SM:I","LT:Y,N","NC:N,Y",null,null,null,null,null,null,null,null,null,null,null,"YA_9200_0268",null,0,"TFEP  / Turcon 1","Soft Goods",0,0,0,0,0,0,0,{"$f":"ROUNDUP($V730*FX!$G$2*CF!$B$3,0)","v":0},{"$f":"ROUNDUP($V730*FX!$G$10*CF!$B$4,0)","v":0},{"$f":"ROUNDUP($V730*FX!$G$35*CF!$B$5,0)","v":0},{"$f":"ROUNDUP($V730*FX!$G$3*CF!$B$6,0)","v":0},null,null,null,null,null,null,null,null,null,null,null,null,null,null,null,null,null,null,null,null,null,null,null,null,null,null,null,null,null,null,null,0,null,null,0,0,null,0,null,0,0,0,0,0,0,0,0,0,0,0]
["YA9200","MOD:Y92",null,"VS:H","BM:2,3,5,6,7,8","SM:I","LT:Y,N","NC:N,Y",null,null,null,null,null,null,null,null,null,null,null,"YA_9200_0269",null,0,"TFEP  / Turcon 1","Soft Goods",0,0,0,0,0,0,0,{"$f":"ROUNDUP($V731*FX!$G$2*CF!$B$3,0)","v":0},{"$f":"ROUNDUP($V731*FX!$G$10*CF!$B$4,0)","v":0},{"$f":"ROUNDUP($V731*FX!$G$35*CF!$B$5,0)","v":0},{"$f":"ROUNDUP($V731*FX!$G$3*CF!$B$6,0)","v":0},null,null,null,null,null,null,null,null,null,null,null,null,null,null,null,null,null,null,null,null,null,null,null,null,null,null,null,null,null,null,null,0,null,null,0,0,null,0,null,0,0,0,0,0,0,0,0,0,0,0]
["YA9200","MOD:Y92",null,"VS:G","BM:2,3,5,6,7,8","SM:E","LT:Y,N","NC:N,Y",null,null,null,null,null,null,null,null,null,null,null,"YA_9200_0270",null,2702,"Viton / Turcon 1","Soft Goods",2062.44,2022,1963,1963,1906,1850,2702,{"$f":"ROUNDUP($V732*FX!$G$2*CF!$B$3,0)","v":2702},{"$f":"ROUNDUP($V732*FX!$G$10*CF!$B$4,0)","v":3728},{"$f":"ROUNDUP($V732*FX!$G$35*CF!$B$5,0)","v":1816},{"$f":"ROUNDUP($V732*FX!$G$3*CF!$B$6,0)","v":3758},null,null,null,null,null,null,null,null,null,null,null,null,null,null,null,null,null,null,null,null,null,null,null,null,null,null,null,null,null,null,null,2816,null,null,2149.6460000000002,2150,null,0,null,2062.3278,2149,2149,2234.96,2234.96,2235,2442.855,2442.855,2443,2590,2702]
["YA9200","MOD:Y92",null,"VS:H","BM:2,3,5,6,7,8","SM:E","LT:Y,N","NC:N,Y",null,null,null,null,null,null,null,null,null,null,null,"YA_9200_0271",null,2812,"Viton / Turcon 1","Soft Goods",2145.06,2103,2042,2042,1983,1925,2812,{"$f":"ROUNDUP($V733*FX!$G$2*CF!$B$3,0)","v":2812},{"$f":"ROUNDUP($V733*FX!$G$10*CF!$B$4,0)","v":3880},{"$f":"ROUNDUP($V733*FX!$G$35*CF!$B$5,0)","v":1890},{"$f":"ROUNDUP($V733*FX!$G$3*CF!$B$6,0)","v":3911},null,null,null,null,null,null,null,null,null,null,null,null,null,null,null,null,null,null,null,null,null,null,null,null,null,null,null,null,null,null,null,2931,null,null,2236.1320000000001,2237,null,0,null,2145.3252000000002,2236,2236,2325.44,2325.44,2326,2542.3180000000002,2542.3180000000002,2543,2696,2812]
["YA9200","MOD:Y92",null,"VS:G","BM:5,6","SM:G","LT:N","NC:N,Y",null,null,null,null,null,null,null,null,null,null,null,"YA_9200_0272",null,2046,"EPDM / Turcon 1","Soft Goods",1560.6000000000001,1530,1485,1485,1442,1400,2046,{"$f":"ROUNDUP($V734*FX!$G$2*CF!$B$3,0)","v":2046},{"$f":"ROUNDUP($V734*FX!$G$10*CF!$B$4,0)","v":2823},{"$f":"ROUNDUP($V734*FX!$G$35*CF!$B$5,0)","v":1375},{"$f":"ROUNDUP($V734*FX!$G$3*CF!$B$6,0)","v":2845},null,null,null,null,null,null,null,null,null,null,null,null,null,null,null,null,null,null,null,null,null,null,null,null,null,null,null,null,null,null,null,2132,null,null,1626.5619999999999,1627,null,0,null,1560.1410000000001,1626,1626,1691.04,1691.04,1692,1849.356,1849.356,1850,1961,2046]
["YA9200","MOD:Y92",null,"VS:H","BM:5,6","SM:G","LT:N","NC:N,Y",null,null,null,null,null,null,null,null,null,null,null,"YA_9200_0273",null,2155,"EPDM / Turcon 1","Soft Goods",1644.24,1612,1565,1565,1519,1475,2155,{"$f":"ROUNDUP($V735*FX!$G$2*CF!$B$3,0)","v":2155},{"$f":"ROUNDUP($V735*FX!$G$10*CF!$B$4,0)","v":2973},{"$f":"ROUNDUP($V735*FX!$G$35*CF!$B$5,0)","v":1449},{"$f":"ROUNDUP($V735*FX!$G$3*CF!$B$6,0)","v":2997},null,null,null,null,null,null,null,null,null,null,null,null,null,null,null,null,null,null,null,null,null,null,null,null,null,null,null,null,null,null,null,2246,null,null,1714.09,1715,null,0,null,1644.1890000000001,1714,1714,1782.56,1782.56,1783,1948.819,1948.819,1949,2066,2155]
[null,"MOD:Y92",null,"FF:X",null,null,null,null,null,null,null,null,null,null,null,null,null,null,null,"YA_9200_0274",null,"POA","Cust Flange Face","Do Not Use","POA",{"$f":"IFERROR(AA736*1.03,\"POA\")","v":"POA"},"POA","POA","POA","POA","POA",{"$f":"ROUNDUP($V736*FX!$G$2*CF!$B$3,0)","v":{"$error":"#VALUE!"}},{"$f":"ROUNDUP($V736*FX!$G$10*CF!$B$4,0)","v":{"$error":"#VALUE!"}},{"$f":"ROUNDUP($V736*FX!$G$35*CF!$B$5,0)","v":{"$error":"#VALUE!"}},{"$f":"ROUNDUP($V736*FX!$G$3*CF!$B$6,0)","v":{"$error":"#VALUE!"}},null,null,null,null,null,null,null,null,null,null,null,null,null,null,null,null,null,null,null,null,null,null,null,null,null,null,null,null,null,null,null,{"$error":"#VALUE!"},null,null,{"$error":"#VALUE!"},{"$f":"AE736","v":"POA"},null,0,null,"POA","POA","POA","POA","POA","POA","POA","POA","POA","POA","POA"]
[null,"MOD:Y92",null,"MCV:X",null,null,null,null,null,null,null,null,null,null,null,null,null,null,null,"YA_9200_0275",null,"POA","Cust Main Cv","Do Not Use","POA","POA","POA","POA","POA","POA","POA",{"$f":"ROUNDUP($V737*FX!$G$2*CF!$B$3,0)","v":{"$error":"#VALUE!"}},{"$f":"ROUNDUP($V737*FX!$G$10*CF!$B$4,0)","v":{"$error":"#VALUE!"}},{"$f":"ROUNDUP($V737*FX!$G$35*CF!$B$5,0)","v":{"$error":"#VALUE!"}},{"$f":"ROUNDUP($V737*FX!$G$3*CF!$B$6,0)","v":{"$error":"#VALUE!"}},null,null,null,null,null,null,null,null,null,null,null,null,null,null,null,null,null,null,null,null,null,null,null,null,null,null,null,null,null,null,null,{"$error":"#VALUE!"},null,null,{"$error":"#VALUE!"},{"$f":"AE737","v":"POA"},null,0,null,"POA","POA","POA","POA","POA","POA","POA","POA","POA","POA","POA"]
[null,"MOD:Y92",null,"BCV:X",null,null,null,null,null,null,null,null,null,null,null,null,null,null,null,"YA_9200_0276",null,"POA","CustBypass Cv","Do Not Use","POA","POA","POA","POA","POA","POA","POA",{"$f":"ROUNDUP($V738*FX!$G$2*CF!$B$3,0)","v":{"$error":"#VALUE!"}},{"$f":"ROUNDUP($V738*FX!$G$10*CF!$B$4,0)","v":{"$error":"#VALUE!"}},{"$f":"ROUNDUP($V738*FX!$G$35*CF!$B$5,0)","v":{"$error":"#VALUE!"}},{"$f":"ROUNDUP($V738*FX!$G$3*CF!$B$6,0)","v":{"$error":"#VALUE!"}},null,null,null,null,null,null,null,null,null,null,null,null,null,null,null,null,null,null,null,null,null,null,null,null,null,null,null,null,null,null,null,{"$error":"#VALUE!"},null,null,{"$error":"#VALUE!"},{"$f":"AE738","v":"POA"},null,0,null,"POA","POA","POA","POA","POA","POA","POA","POA","POA","POA","POA"]
[null,"MOD:Y92",null,"SM:X",null,null,null,null,null,null,null,null,null,null,null,null,null,null,null,"YA_9200_0277",null,"POA","Cust Seal Matl","Custom Soft Goods","POA","POA","POA","POA","POA","POA","POA",{"$f":"ROUNDUP($V739*FX!$G$2*CF!$B$3,0)","v":{"$error":"#VALUE!"}},{"$f":"ROUNDUP($V739*FX!$G$10*CF!$B$4,0)","v":{"$error":"#VALUE!"}},{"$f":"ROUNDUP($V739*FX!$G$35*CF!$B$5,0)","v":{"$error":"#VALUE!"}},{"$f":"ROUNDUP($V739*FX!$G$3*CF!$B$6,0)","v":{"$error":"#VALUE!"}},null,null,null,null,null,null,null,null,null,null,null,null,null,null,null,null,null,null,null,null,null,null,null,null,null,null,null,null,null,null,null,{"$error":"#VALUE!"},null,null,{"$error":"#VALUE!"},{"$f":"AE739","v":"POA"},null,0,null,"POA","POA","POA","POA","POA","POA","POA","POA","POA","POA","POA"]
[null,"MOD:Y92",null,"DT:X",null,null,null,null,null,null,null,null,null,null,null,null,null,null,null,"YA_9200_0278",null,"POA","Cust Disc Trim St","Do Not Use","POA","POA","POA","POA","POA","POA","POA",{"$f":"ROUNDUP($V740*FX!$G$2*CF!$B$3,0)","v":{"$error":"#VALUE!"}},{"$f":"ROUNDUP($V740*FX!$G$10*CF!$B$4,0)","v":{"$error":"#VALUE!"}},{"$f":"ROUNDUP($V740*FX!$G$35*CF!$B$5,0)","v":{"$error":"#VALUE!"}},{"$f":"ROUNDUP($V740*FX!$G$3*CF!$B$6,0)","v":{"$error":"#VALUE!"}},null,null,null,null,null,null,null,null,null,null,null,null,null,null,null,null,null,null,null,null,null,null,null,null,null,null,null,null,null,null,null,{"$error":"#VALUE!"},null,null,{"$error":"#VALUE!"},{"$f":"AE740","v":"POA"},null,0,null,"POA","POA","POA","POA","POA","POA","POA","POA","POA","POA","POA"]
[null,"MOD:BPR",null,"VS:B","BM:0,3","BPRpr:1",null,null,null,null,null,null,null,null,null,null,null,null,null,"YA_BPR_0001",null,17777,"CS (WCB)",null,13533.36,{"$f":"ROUND(IFERROR(AA741*1.03,\"POA\"),0)","v":13268},12882,12882,12507,12143,17777,{"$f":"ROUNDUP($V741*FX!$G$2*CF!$B$3,0)","v":17777},{"$f":"ROUNDUP($V741*FX!$G$10*CF!$B$4,0)","v":24524},{"$f":"ROUNDUP($V741*FX!$G$35*CF!$B$5,0)","v":11947},{"$f":"ROUNDUP($V741*FX!$G$3*CF!$B$6,0)","v":24719},null,null,null,null,null,null,null,null,null,null,null,null,null,null,null,null,null,null,null,null,null,null,null,null,null,null,null,null,null,null,null,null,{"$f":"ROUNDUP(($AE741+($AE741*$BP$1)),0)","v":18577},null,null,{"$f":"ROUNDUP(BR741,0)","v":0},14143.03,14144,null,13533.829200000002,{"$f":"ROUNDUP(($BW741+($BX$1*$BW741)),0)","v":14103},14103,{"$f":"BU741+(BU741*$BZ$1)","v":14709.76},14709.76,14710,16078.03,16078.03,{"$f":"ROUNDUP(CD741,0)","v":16079},17044,17777]
[null,"MOD:BPR",null,"VS:C","BM:0,3","BPRpr:1",null,null,null,null,null,null,null,null,null,null,null,null,null,"YA_BPR_0002",null,18403,"CS (WCB)",null,14010.72,13736,13336,13336,12948,12571,18403,{"$f":"ROUNDUP($V742*FX!$G$2*CF!$B$3,0)","v":18403},{"$f":"ROUNDUP($V742*FX!$G$10*CF!$B$4,0)","v":25387},{"$f":"ROUNDUP($V742*FX!$G$35*CF!$B$5,0)","v":12368},{"$f":"ROUNDUP($V742*FX!$G$3*CF!$B$6,0)","v":25590},null,null,null,null,null,null,null,null,null,null,null,null,null,null,null,null,null,null,null,null,null,null,null,null,null,null,null,null,null,null,null,null,{"$f":"ROUNDUP(($AE742+($AE742*$BP$1)),0)","v":19232},null,null,0,14641.495000000001,14642,null,14010.801600000001,14600,{"$f":"ROUNDUP(BX742,0)","v":14600},{"$f":"BU742+(BU742*$BZ$1)","v":15227.68},15227.68,15228,16644.204000000002,16644.204000000002,16645,17644,18403]
[null,"MOD:BPR",null,"VS:D","BM:0,3","BPRpr:1",null,null,null,null,null,null,null,null,null,null,null,null,null,"YA_BPR_0003",null,20498,"CS (WCB)",null,15604.98,15299,14853,14853,14420,14000,20498,{"$f":"ROUNDUP($V743*FX!$G$2*CF!$B$3,0)","v":20498},{"$f":"ROUNDUP($V743*FX!$G$10*CF!$B$4,0)","v":28278},{"$f":"ROUNDUP($V743*FX!$G$35*CF!$B$5,0)","v":13776},{"$f":"ROUNDUP($V743*FX!$G$3*CF!$B$6,0)","v":28503},null,null,null,null,null,null,null,null,null,null,null,null,null,null,null,null,null,null,null,null,null,null,null,null,null,null,null,null,null,null,null,null,21421,null,null,0,16307.225,16308,null,15604.561800000001,16260,16260,16960.32,16960.32,16961,18538.373,18538.373,18539,19652,20498]
[null,"MOD:BPR",null,"VS:E","BM:0,3","BPRpr:1",null,null,null,null,null,null,null,null,null,null,null,null,null,"YA_BPR_0004",null,26586,"CS (WCB)",null,20241.900000000001,19845,19267,19267,18706,18161,26586,{"$f":"ROUNDUP($V744*FX!$G$2*CF!$B$3,0)","v":26586},{"$f":"ROUNDUP($V744*FX!$G$10*CF!$B$4,0)","v":36676},{"$f":"ROUNDUP($V744*FX!$G$35*CF!$B$5,0)","v":17867},{"$f":"ROUNDUP($V744*FX!$G$3*CF!$B$6,0)","v":36968},null,null,null,null,null,null,null,null,null,null,null,null,null,null,null,null,null,null,null,null,null,null,null,null,null,null,null,null,null,null,null,null,27783,null,null,0,21152.89,21153,null,20241.910200000002,21093,21093,21999.119999999999,21999.119999999999,22000,24046,24046,24046,25489,26586]
[null,"MOD:BPR",null,"VS:F","BM:0,3","BPRpr:1",null,null,null,null,null,null,null,null,null,null,null,null,null,"YA_BPR_0005",null,62634,"CS (WCB)",null,47689.08,46754,45392,45392,44070,42786,62634,{"$f":"ROUNDUP($V745*FX!$G$2*CF!$B$3,0)","v":62634},{"$f":"ROUNDUP($V745*FX!$G$10*CF!$B$4,0)","v":86404},{"$f":"ROUNDUP($V745*FX!$G$35*CF!$B$5,0)","v":42093},{"$f":"ROUNDUP($V745*FX!$G$3*CF!$B$6,0)","v":87093},null,null,null,null,null,null,null,null,null,null,null,null,null,null,null,null,null,null,null,null,null,null,null,null,null,null,null,null,null,null,null,null,65453,null,null,0,49835.004999999997,49836,null,47688.835200000001,49692,49692,51829.440000000002,51829.440000000002,51830,56650.19,56650.19,56651,60051,62634]
[null,"MOD:BPR",null,"VS:A","BM:1,2","BPRpr:1",null,null,null,null,null,null,null,null,null,null,null,null,null,"YA_BPR_0006",null,21489,"SS (CF8M)",null,16360.800000000001,16040,15573,15573,15119,14679,21489,{"$f":"ROUNDUP($V746*FX!$G$2*CF!$B$3,0)","v":21489},{"$f":"ROUNDUP($V746*FX!$G$10*CF!$B$4,0)","v":29645},{"$f":"ROUNDUP($V746*FX!$G$35*CF!$B$5,0)","v":14442},{"$f":"ROUNDUP($V746*FX!$G$3*CF!$B$6,0)","v":29881},null,null,null,null,null,null,null,null,null,null,null,null,null,null,null,null,null,null,null,null,null,null,null,null,null,null,null,null,null,null,null,null,22457,null,null,0,17097.244999999999,17098,null,16360.9938,17049,17049,17781.919999999998,17781.919999999998,17782,19435.725999999999,19435.725999999999,19436,20603,21489]
[null,"MOD:BPR",null,"VS:B","BM:1,2","BPRpr:1",null,null,null,null,null,null,null,null,null,null,null,null,null,"YA_BPR_0007",null,21594,"SS (CF8M)",null,16440.36,16118,15649,15649,15193,14750,21594,{"$f":"ROUNDUP($V747*FX!$G$2*CF!$B$3,0)","v":21594},{"$f":"ROUNDUP($V747*FX!$G$10*CF!$B$4,0)","v":29789},{"$f":"ROUNDUP($V747*FX!$G$35*CF!$B$5,0)","v":14513},{"$f":"ROUNDUP($V747*FX!$G$3*CF!$B$6,0)","v":30027},null,null,null,null,null,null,null,null,null,null,null,null,null,null,null,null,null,null,null,null,null,null,null,null,null,null,null,null,null,null,null,null,22566,null,null,0,17180.845000000001,17181,null,16440.839400000001,17132,17132,17868.240000000002,17868.240000000002,17869,19530.816999999999,19530.816999999999,19531,20703,21594]
[null,"MOD:BPR",null,"VS:C","BM:1,2","BPRpr:1",null,null,null,null,null,null,null,null,null,null,null,null,null,"YA_BPR_0008",null,22875,"SS (CF8M)",null,17415.48,17074,16577,16577,16094,15625,22875,{"$f":"ROUNDUP($V748*FX!$G$2*CF!$B$3,0)","v":22875},{"$f":"ROUNDUP($V748*FX!$G$10*CF!$B$4,0)","v":31557},{"$f":"ROUNDUP($V748*FX!$G$35*CF!$B$5,0)","v":15373},{"$f":"ROUNDUP($V748*FX!$G$3*CF!$B$6,0)","v":31808},null,null,null,null,null,null,null,null,null,null,null,null,null,null,null,null,null,null,null,null,null,null,null,null,null,null,null,null,null,null,null,null,23905,null,null,0,18199.72,18200,null,17415.796200000001,18148,18148,18928,18928,18928,20688.304,20688.304,20689,21931,22875]
[null,"MOD:BPR",null,"VS:D","BM:1,2","BPRpr:1",null,null,null,null,null,null,null,null,null,null,null,null,null,"YA_BPR_0009",null,26308,"SS (CF8M)",null,20029.740000000002,19637,19065,19065,18510,17971,26308,{"$f":"ROUNDUP($V749*FX!$G$2*CF!$B$3,0)","v":26308},{"$f":"ROUNDUP($V749*FX!$G$10*CF!$B$4,0)","v":36292},{"$f":"ROUNDUP($V749*FX!$G$35*CF!$B$5,0)","v":17681},{"$f":"ROUNDUP($V749*FX!$G$3*CF!$B$6,0)","v":36582},null,null,null,null,null,null,null,null,null,null,null,null,null,null,null,null,null,null,null,null,null,null,null,null,null,null,null,null,null,null,null,null,27492,null,null,0,20931.349999999999,20932,null,20029.689000000002,20871,20871,21769.279999999999,21769.279999999999,21770,23794.61,23794.61,23795,25223,26308]
[null,"MOD:BPR",null,"VS:E","BM:1,2","BPRpr:1",null,null,null,null,null,null,null,null,null,null,null,null,null,"YA_BPR_0010",null,34193,"SS (CF8M)",null,26033.46,25523,24780,24780,24058,23357,34193,{"$f":"ROUNDUP($V750*FX!$G$2*CF!$B$3,0)","v":34193},{"$f":"ROUNDUP($V750*FX!$G$10*CF!$B$4,0)","v":47170},{"$f":"ROUNDUP($V750*FX!$G$35*CF!$B$5,0)","v":22980},{"$f":"ROUNDUP($V750*FX!$G$3*CF!$B$6,0)","v":47546},null,null,null,null,null,null,null,null,null,null,null,null,null,null,null,null,null,null,null,null,null,null,null,null,null,null,null,null,null,null,null,null,35732,null,null,0,27205.53,27206,null,26033.868000000002,27128,27128,28294.240000000002,28294.240000000002,28295,30926.435000000001,30926.435000000001,30927,32783,34193]
[null,"MOD:BPR",null,"VS:F","BM:1,2","BPRpr:1",null,null,null,null,null,null,null,null,null,null,null,null,null,"YA_BPR_0011",null,68380,"SS (CF8M)",null,52065.9,51045,49558,49558,48115,46714,68380,{"$f":"ROUNDUP($V751*FX!$G$2*CF!$B$3,0)","v":68380},{"$f":"ROUNDUP($V751*FX!$G$10*CF!$B$4,0)","v":94331},{"$f":"ROUNDUP($V751*FX!$G$35*CF!$B$5,0)","v":45955},{"$f":"ROUNDUP($V751*FX!$G$3*CF!$B$6,0)","v":95083},null,null,null,null,null,null,null,null,null,null,null,null,null,null,null,null,null,null,null,null,null,null,null,null,null,null,null,null,null,null,null,null,71458,null,null,0,54408.97,54409,null,52065.6348,54253,54253,56585.36,56585.36,56586,61848.498,61848.498,61849,65560,68380]
[null,"MOD:BPR",null,"VS:B","BM:0,3","BPRpr:2",null,null,null,null,null,null,null,null,null,null,null,null,null,"YA_BPR_0012",null,18310,"CS (WCB)",null,13939.32,13666,13268,13268,12882,12507.142857142857,18310,{"$f":"ROUNDUP($V752*FX!$G$2*CF!$B$3,0)","v":18310},{"$f":"ROUNDUP($V752*FX!$G$10*CF!$B$4,0)","v":25259},{"$f":"ROUNDUP($V752*FX!$G$35*CF!$B$5,0)","v":12306},{"$f":"ROUNDUP($V752*FX!$G$3*CF!$B$6,0)","v":25461},null,null,null,null,null,null,null,null,null,null,null,null,null,null,null,null,null,null,null,null,null,null,null,null,null,null,null,null,null,null,null,null,19134,null,null,0,14567.3,14568,null,13939.3608,14525,14525,15150.72,15150.72,15151,16560.043000000001,16560.043000000001,16561,17555,18310]
[null,"MOD:BPR",null,"VS:C","BM:0,3","BPRpr:2",null,null,null,null,null,null,null,null,null,null,null,null,null,"YA_BPR_0013",null,18957,"CS (WCB)",null,14431.98,14149,13737,13737,13337,12948.571428571429,18957,{"$f":"ROUNDUP($V753*FX!$G$2*CF!$B$3,0)","v":18957},{"$f":"ROUNDUP($V753*FX!$G$10*CF!$B$4,0)","v":26152},{"$f":"ROUNDUP($V753*FX!$G$35*CF!$B$5,0)","v":12740},{"$f":"ROUNDUP($V753*FX!$G$3*CF!$B$6,0)","v":26360},null,null,null,null,null,null,null,null,null,null,null,null,null,null,null,null,null,null,null,null,null,null,null,null,null,null,null,null,null,null,null,null,19811,null,null,0,15082.485000000001,15083,null,14432.092200000001,15039,15039,15686.32,15686.32,15687,17145.891,17145.891,17146,18175,18957]
[null,"MOD:BPR",null,"VS:D","BM:0,3","BPRpr:2",null,null,null,null,null,null,null,null,null,null,null,null,null,"YA_BPR_0014",null,21112,"CS (WCB)",null,16073.16,15758,15299,15299,14853,14420,21112,{"$f":"ROUNDUP($V754*FX!$G$2*CF!$B$3,0)","v":21112},{"$f":"ROUNDUP($V754*FX!$G$10*CF!$B$4,0)","v":29125},{"$f":"ROUNDUP($V754*FX!$G$35*CF!$B$5,0)","v":14189},{"$f":"ROUNDUP($V754*FX!$G$3*CF!$B$6,0)","v":29357},null,null,null,null,null,null,null,null,null,null,null,null,null,null,null,null,null,null,null,null,null,null,null,null,null,null,null,null,null,null,null,null,22063,null,null,0,16797.330000000002,16798,null,16073.129400000002,16749,16749,17469.919999999998,17469.919999999998,17470,19094.71,19094.71,19095,20241,21112]
[null,"MOD:BPR",null,"VS:E","BM:0,3","BPRpr:2",null,null,null,null,null,null,null,null,null,null,null,null,null,"YA_BPR_0015",null,27386,"CS (WCB)",null,20848.8,20440,19845,19845,19267,18705.535714285714,27386,{"$f":"ROUNDUP($V755*FX!$G$2*CF!$B$3,0)","v":27386},{"$f":"ROUNDUP($V755*FX!$G$10*CF!$B$4,0)","v":37780},{"$f":"ROUNDUP($V755*FX!$G$35*CF!$B$5,0)","v":18405},{"$f":"ROUNDUP($V755*FX!$G$3*CF!$B$6,0)","v":38081},null,null,null,null,null,null,null,null,null,null,null,null,null,null,null,null,null,null,null,null,null,null,null,null,null,null,null,null,null,null,null,null,28619,null,null,0,21788.25,21789,null,20849.157000000003,21725,21725,22660.560000000001,22660.560000000001,22661,24768.472999999998,24768.472999999998,24769,26256,27386]
[null,"MOD:BPR",null,"VS:F","BM:0,3","BPRpr:2",null,null,null,null,null,null,null,null,null,null,null,null,null,"YA_BPR_0016",null,64510,"CS (WCB)",null,49119.12,48156,46753,46753,45391,44069.285714285717,64510,{"$f":"ROUNDUP($V756*FX!$G$2*CF!$B$3,0)","v":64510},{"$f":"ROUNDUP($V756*FX!$G$10*CF!$B$4,0)","v":88992},{"$f":"ROUNDUP($V756*FX!$G$35*CF!$B$5,0)","v":43354},{"$f":"ROUNDUP($V756*FX!$G$3*CF!$B$6,0)","v":89702},null,null,null,null,null,null,null,null,null,null,null,null,null,null,null,null,null,null,null,null,null,null,null,null,null,null,null,null,null,null,null,null,67413,null,null,0,51329.355000000003,51330,null,49118.701800000003,51182,51182,53383.199999999997,53383.199999999997,53384,58348.712,58348.712,58349,61850,64510]
[null,"MOD:BPR",null,"VS:A","BM:1,2","BPRpr:2",null,null,null,null,null,null,null,null,null,null,null,null,null,"YA_BPR_0017",null,22134,"SS (CF8M)",null,16850.400000000001,16520,16039,16039,15572,15118.928571428572,22134,{"$f":"ROUNDUP($V757*FX!$G$2*CF!$B$3,0)","v":22134},{"$f":"ROUNDUP($V757*FX!$G$10*CF!$B$4,0)","v":30534},{"$f":"ROUNDUP($V757*FX!$G$35*CF!$B$5,0)","v":14875},{"$f":"ROUNDUP($V757*FX!$G$3*CF!$B$6,0)","v":30778},null,null,null,null,null,null,null,null,null,null,null,null,null,null,null,null,null,null,null,null,null,null,null,null,null,null,null,null,null,null,null,null,23131,null,null,0,17609.294999999998,17610,null,16850.573400000001,17559,17559,18314.400000000001,18314.400000000001,18315,20018.294999999998,20018.294999999998,20019,21221,22134]
[null,"MOD:BPR",null,"VS:B","BM:1,2","BPRpr:2",null,null,null,null,null,null,null,null,null,null,null,null,null,"YA_BPR_0018",null,22239,"SS (CF8M)",null,16933.02,16601,16117,16117,15648,15192.500000000002,22239,{"$f":"ROUNDUP($V758*FX!$G$2*CF!$B$3,0)","v":22239},{"$f":"ROUNDUP($V758*FX!$G$10*CF!$B$4,0)","v":30679},{"$f":"ROUNDUP($V758*FX!$G$35*CF!$B$5,0)","v":14946},{"$f":"ROUNDUP($V758*FX!$G$3*CF!$B$6,0)","v":30924},null,null,null,null,null,null,null,null,null,null,null,null,null,null,null,null,null,null,null,null,null,null,null,null,null,null,null,null,null,null,null,null,23240,null,null,0,17694.985000000001,17695,null,16932.520200000003,17644,17644,18402.8,18402.8,18403,20114.478999999999,20114.478999999999,20115,21322,22239]
[null,"MOD:BPR",null,"VS:C","BM:1,2","BPRpr:2",null,null,null,null,null,null,null,null,null,null,null,null,null,"YA_BPR_0019",null,23561,"SS (CF8M)",null,17937.72,17586,17074,17074,16577,16093.750000000002,23561,{"$f":"ROUNDUP($V759*FX!$G$2*CF!$B$3,0)","v":23561},{"$f":"ROUNDUP($V759*FX!$G$10*CF!$B$4,0)","v":32503},{"$f":"ROUNDUP($V759*FX!$G$35*CF!$B$5,0)","v":15835},{"$f":"ROUNDUP($V759*FX!$G$3*CF!$B$6,0)","v":32762},null,null,null,null,null,null,null,null,null,null,null,null,null,null,null,null,null,null,null,null,null,null,null,null,null,null,null,null,null,null,null,null,24622,null,null,0,18745.21,18746,null,17937.9444,18692,18692,19495.84,19495.84,19496,21309.128000000001,21309.128000000001,21310,22589,23561]
[null,"MOD:BPR",null,"VS:D","BM:1,2","BPRpr:2",null,null,null,null,null,null,null,null,null,null,null,null,null,"YA_BPR_0020",null,27099,"SS (CF8M)",null,20631.54,20227,19638,19638,19066,18510.571428571431,27099,{"$f":"ROUNDUP($V760*FX!$G$2*CF!$B$3,0)","v":27099},{"$f":"ROUNDUP($V760*FX!$G$10*CF!$B$4,0)","v":37384},{"$f":"ROUNDUP($V760*FX!$G$35*CF!$B$5,0)","v":18212},{"$f":"ROUNDUP($V760*FX!$G$3*CF!$B$6,0)","v":37682},null,null,null,null,null,null,null,null,null,null,null,null,null,null,null,null,null,null,null,null,null,null,null,null,null,null,null,null,null,null,null,null,28319,null,null,0,21560.44,21561,null,20631.682799999999,21499,21499,22423.439999999999,22423.439999999999,22424,24509.432000000001,24509.432000000001,24510,25981,27099]
[null,"MOD:BPR",null,"VS:E","BM:1,2","BPRpr:2",null,null,null,null,null,null,null,null,null,null,null,null,null,"YA_BPR_0021",null,35218,"SS (CF8M)",null,26814.78,26289,25523,25523,24780,24057.857142857145,35218,{"$f":"ROUNDUP($V761*FX!$G$2*CF!$B$3,0)","v":35218},{"$f":"ROUNDUP($V761*FX!$G$10*CF!$B$4,0)","v":48584},{"$f":"ROUNDUP($V761*FX!$G$35*CF!$B$5,0)","v":23669},{"$f":"ROUNDUP($V761*FX!$G$3*CF!$B$6,0)","v":48971},null,null,null,null,null,null,null,null,null,null,null,null,null,null,null,null,null,null,null,null,null,null,null,null,null,null,null,null,null,null,null,null,36803,null,null,0,28021.674999999999,28022,null,26814.463800000001,27941,27941,29142.880000000001,29142.880000000001,29143,31853.298999999999,31853.298999999999,31854,33766,35218]
[null,"MOD:BPR",null,"VS:F","BM:1,2","BPRpr:2",null,null,null,null,null,null,null,null,null,null,null,null,null,"YA_BPR_0022",null,70433,"SS (CF8M)",null,53628.54,52577,51046,51046,49559,48115.71428571429,70433,{"$f":"ROUNDUP($V762*FX!$G$2*CF!$B$3,0)","v":70433},{"$f":"ROUNDUP($V762*FX!$G$10*CF!$B$4,0)","v":97163},{"$f":"ROUNDUP($V762*FX!$G$35*CF!$B$5,0)","v":47335},{"$f":"ROUNDUP($V762*FX!$G$3*CF!$B$6,0)","v":97938},null,null,null,null,null,null,null,null,null,null,null,null,null,null,null,null,null,null,null,null,null,null,null,null,null,null,null,null,null,null,null,null,73603,null,null,0,56042.305,56043,null,53628.927600000003,55882,55882,58284.72,58284.72,58285,63705.504999999997,63705.504999999997,63706,67529,70433]
[null,"MOD:BPR",null,"VS:B","BM:0,3","BPRpr:3",null,null,null,null,null,null,null,null,null,null,null,null,null,"YA_BPR_0023",null,18676,"CS (WCB)",null,14218.800000000001,13940,13534,13534,13140,12757.285714285714,18676,{"$f":"ROUNDUP($V763*FX!$G$2*CF!$B$3,0)","v":18676},{"$f":"ROUNDUP($V763*FX!$G$10*CF!$B$4,0)","v":25764},{"$f":"ROUNDUP($V763*FX!$G$35*CF!$B$5,0)","v":12552},{"$f":"ROUNDUP($V763*FX!$G$3*CF!$B$6,0)","v":25969},null,null,null,null,null,null,null,null,null,null,null,null,null,null,null,null,null,null,null,null,null,null,null,null,null,null,null,null,null,null,null,null,19517,null,null,0,14858.855,14859,null,14218.820400000001,14817,14817,15453.36,15453.36,15454,16891.222000000002,16891.222000000002,16892,17906,18676]
[null,"MOD:BPR",null,"VS:C","BM:0,3","BPRpr:3",null,null,null,null,null,null,null,null,null,null,null,null,null,"YA_BPR_0024",null,19338,"CS (WCB)",null,14720.64,14432,14012,14012,13604,13207.542857142858,19338,{"$f":"ROUNDUP($V764*FX!$G$2*CF!$B$3,0)","v":19338},{"$f":"ROUNDUP($V764*FX!$G$10*CF!$B$4,0)","v":26677},{"$f":"ROUNDUP($V764*FX!$G$35*CF!$B$5,0)","v":12996},{"$f":"ROUNDUP($V764*FX!$G$3*CF!$B$6,0)","v":26890},null,null,null,null,null,null,null,null,null,null,null,null,null,null,null,null,null,null,null,null,null,null,null,null,null,null,null,null,null,null,null,null,20209,null,null,0,15384.49,15385,null,14721.0072,15340,15340,16000.4,16000.4,16001,17489.093000000001,17489.093000000001,17490,18540,19338]
[null,"MOD:BPR",null,"VS:D","BM:0,3","BPRpr:3",null,null,null,null,null,null,null,null,null,null,null,null,null,"YA_BPR_0025",null,21534,"CS (WCB)",null,16394.46,16073,15605,15605,15150,14708.4,21534,{"$f":"ROUNDUP($V765*FX!$G$2*CF!$B$3,0)","v":21534},{"$f":"ROUNDUP($V765*FX!$G$10*CF!$B$4,0)","v":29707},{"$f":"ROUNDUP($V765*FX!$G$35*CF!$B$5,0)","v":14472},{"$f":"ROUNDUP($V765*FX!$G$3*CF!$B$6,0)","v":29944},null,null,null,null,null,null,null,null,null,null,null,null,null,null,null,null,null,null,null,null,null,null,null,null,null,null,null,null,null,null,null,null,22504,null,null,0,17132.775000000001,17133,null,16394.613000000001,17084,17084,17818.32,17818.32,17819,19476.167000000001,19476.167000000001,19477,20646,21534]
[null,"MOD:BPR",null,"VS:E","BM:0,3","BPRpr:3",null,null,null,null,null,null,null,null,null,null,null,null,null,"YA_BPR_0026",null,27932,"CS (WCB)",null,21265.98,20849,20242,20242,19652,19079.646428571428,27932,{"$f":"ROUNDUP($V766*FX!$G$2*CF!$B$3,0)","v":27932},{"$f":"ROUNDUP($V766*FX!$G$10*CF!$B$4,0)","v":38533},{"$f":"ROUNDUP($V766*FX!$G$35*CF!$B$5,0)","v":18772},{"$f":"ROUNDUP($V766*FX!$G$3*CF!$B$6,0)","v":38840},null,null,null,null,null,null,null,null,null,null,null,null,null,null,null,null,null,null,null,null,null,null,null,null,null,null,null,null,null,null,null,null,29189,null,null,{"$f":"ROUNDUP(AE766,0)","v":27932},22224.014999999999,22225,null,21266.245200000001,22160,22160,23114,23114,23114,25263.601999999999,25263.601999999999,25264,26780,27932]
[null,"MOD:BPR",null,"VS:F","BM:0,3","BPRpr:3",null,null,null,null,null,null,null,null,null,null,null,null,null,"YA_BPR_0027",null,65802,"CS (WCB)",null,50101.38,49119,47688,47688,46299,44950.671428571433,65802,{"$f":"ROUNDUP($V767*FX!$G$2*CF!$B$3,0)","v":65802},{"$f":"ROUNDUP($V767*FX!$G$10*CF!$B$4,0)","v":90774},{"$f":"ROUNDUP($V767*FX!$G$35*CF!$B$5,0)","v":44222},{"$f":"ROUNDUP($V767*FX!$G$3*CF!$B$6,0)","v":91498},null,null,null,null,null,null,null,null,null,null,null,null,null,null,null,null,null,null,null,null,null,null,null,null,null,null,null,null,null,null,null,null,68764,null,null,65802,52356.59,52357,null,50101.012799999997,52206,52206,54451.28,54451.28,54452,59516.036,59516.036,59517,63089,65802]
[null,"MOD:BPR",null,"VS:A","BM:1,2","BPRpr:3",null,null,null,null,null,null,null,null,null,null,null,null,null,"YA_BPR_0028",null,22577,"SS (CF8M)",null,17189.04,16852,16361,16361,15884,15421.307142857144,22577,{"$f":"ROUNDUP($V768*FX!$G$2*CF!$B$3,0)","v":22577},{"$f":"ROUNDUP($V768*FX!$G$10*CF!$B$4,0)","v":31145},{"$f":"ROUNDUP($V768*FX!$G$35*CF!$B$5,0)","v":15173},{"$f":"ROUNDUP($V768*FX!$G$3*CF!$B$6,0)","v":31394},null,null,null,null,null,null,null,null,null,null,null,null,null,null,null,null,null,null,null,null,null,null,null,null,null,null,null,null,null,null,null,null,23593,null,null,22577,17962.505000000001,17963,null,17188.866600000001,17911,17911,18681.52,18681.52,18682,20419.425999999999,20419.425999999999,20420,21646,22577]
[null,"MOD:BPR",null,"VS:B","BM:1,2","BPRpr:3",null,null,null,null,null,null,null,null,null,null,null,null,null,"YA_BPR_0029",null,22686,"SS (CF8M)",null,17271.66,16933,16440,16440,15961,15496.350000000002,22686,{"$f":"ROUNDUP($V769*FX!$G$2*CF!$B$3,0)","v":22686},{"$f":"ROUNDUP($V769*FX!$G$10*CF!$B$4,0)","v":31296},{"$f":"ROUNDUP($V769*FX!$G$35*CF!$B$5,0)","v":15246},{"$f":"ROUNDUP($V769*FX!$G$3*CF!$B$6,0)","v":31545},null,null,null,null,null,null,null,null,null,null,null,null,null,null,null,null,null,null,null,null,null,null,null,null,null,null,null,null,null,null,null,null,23707,null,null,22686,18049.240000000002,18050,null,17271.864000000001,17998,17998,18772,18772,18772,20517.795999999998,20517.795999999998,20518,21750,22686]
[null,"MOD:BPR",null,"VS:C","BM:1,2","BPRpr:3",null,null,null,null,null,null,null,null,null,null,null,null,null,"YA_BPR_0030",null,{"$f":"AE770","v":24032},"SS (CF8M)",null,18295.740000000002,17937,17415,17415,16908,16415.625000000004,24032,{"$f":"ROUNDUP($V770*FX!$G$2*CF!$B$3,0)","v":24032},{"$f":"ROUNDUP($V770*FX!$G$10*CF!$B$4,0)","v":33153},{"$f":"ROUNDUP($V770*FX!$G$35*CF!$B$5,0)","v":16151},{"$f":"ROUNDUP($V770*FX!$G$3*CF!$B$6,0)","v":33417},null,null,null,null,null,null,null,null,null,null,null,null,null,null,null,null,null,null,null,null,null,null,null,null,null,null,null,null,null,null,null,null,25114,null,null,24032,19120.365000000002,19121,null,18296.199000000001,19065,19065,19885.84,19885.84,19886,21735.398000000001,21735.398000000001,21736,{"$f":"IF(CE770=\"POA\",\"POA\", ROUNDUP(CE770*1.06,0))","v":23041},24032]
[null,"MOD:BPR",null,"VS:D","BM:1,2","BPRpr:3",null,null,null,null,null,null,null,null,null,null,null,null,null,"YA_BPR_0031",null,27639,"SS (CF8M)",null,{"$f":"IFERROR(Z771*1.02,\"POA\")","v":21043.62},20631,20030,20030,19447,18880.782857142862,{"$f":"CG771","v":27639},{"$f":"ROUNDUP($V771*FX!$G$2*CF!$B$3,0)","v":27639},{"$f":"ROUNDUP($V771*FX!$G$10*CF!$B$4,0)","v":38129},{"$f":"ROUNDUP($V771*FX!$G$35*CF!$B$5,0)","v":18575},{"$f":"ROUNDUP($V771*FX!$G$3*CF!$B$6,0)","v":38433},null,null,null,null,null,null,null,null,null,null,null,null,null,null,null,null,null,null,null,null,null,null,null,null,null,null,null,null,null,null,null,null,28883,null,null,27639,21990.98,{"$f":"ROUNDUP(BT771,0)","v":21991},null,21043.518000000004,21928,21928,22870.639999999999,22870.639999999999,{"$f":"ROUNDUP(CA771,0)","v":22871},{"$f":"CB771+(CB771*$CC$1)","v":24998.003000000001},24998.003000000001,24999,26499,{"$f":"IF(CF771=\"POA\",\"POA\", ROUNDUP(CF771*1.043,0))","v":27639}]
[null,"MOD:BPR",null,"VS:E","BM:1,2","BPRpr:3",null,null,null,null,null,null,null,null,null,null,null,null,null,"YA_BPR_0032",null,35922,"SS (CF8M)",null,27350.28,26814,26033,26033,25275,24539.014285714289,35922,{"$f":"ROUNDUP($V772*FX!$G$2*CF!$B$3,0)","v":35922},{"$f":"ROUNDUP($V772*FX!$G$10*CF!$B$4,0)","v":49555},{"$f":"ROUNDUP($V772*FX!$G$35*CF!$B$5,0)","v":24142},{"$f":"ROUNDUP($V772*FX!$G$3*CF!$B$6,0)","v":49950},null,null,null,null,null,null,null,null,null,null,null,null,null,null,null,null,null,null,null,null,null,null,null,null,null,null,null,null,null,null,null,null,37539,null,null,35922,28581.794999999998,28582,null,27350.269800000002,28499,28499,29725.279999999999,29725.279999999999,29726,32490.518,32490.518,32491,34441,35922]
[null,"MOD:BPR",null,"VS:F","BM:1,2","BPRpr:3",null,null,null,null,null,null,null,null,null,null,null,null,null,"YA_BPR_0033",null,71841,"SS (CF8M)",null,54701.58,53629,52067,52067,50550,49078.028571428578,71841,{"$f":"ROUNDUP($V773*FX!$G$2*CF!$B$3,0)","v":71841},{"$f":"ROUNDUP($V773*FX!$G$10*CF!$B$4,0)","v":99105},{"$f":"ROUNDUP($V773*FX!$G$35*CF!$B$5,0)","v":48281},{"$f":"ROUNDUP($V773*FX!$G$3*CF!$B$6,0)","v":99895},null,null,null,null,null,null,null,null,null,null,null,null,null,null,null,null,null,null,null,null,null,null,null,null,null,null,null,null,null,null,null,null,75074,null,null,71841,57163.59,57164,null,54701.590200000006,57000,57000,59450.559999999998,59450.559999999998,59451,64979.942999999999,64979.942999999999,64980,68879,71841]
[null,"MOD:BPR",null,"VS:B","BM:0,3","BPRpr:4",null,null,null,null,null,null,null,null,null,null,null,null,null,"YA_BPR_0034",null,18863,"CS (WCB)",null,14360.58,14079,13669,13669,13271,12884.858571428571,18863,{"$f":"ROUNDUP($V774*FX!$G$2*CF!$B$3,0)","v":18863},{"$f":"ROUNDUP($V774*FX!$G$10*CF!$B$4,0)","v":26022},{"$f":"ROUNDUP($V774*FX!$G$35*CF!$B$5,0)","v":12677},{"$f":"ROUNDUP($V774*FX!$G$3*CF!$B$6,0)","v":26230},null,null,null,null,null,null,null,null,null,null,null,null,null,null,null,null,null,null,null,null,null,null,null,null,null,null,null,null,null,null,null,null,19712,null,null,18863,15007.245000000001,15008,null,14360.651400000001,14964,14964,15608.32,15608.32,15609,17060.636999999999,17060.636999999999,17061,18085,18863]
[null,"MOD:BPR",null,"VS:C","BM:0,3","BPRpr:4",null,null,null,null,null,null,null,null,null,null,null,null,null,"YA_BPR_0035",null,19530,"CS (WCB)",null,14868.54,14577,14152,14152,13740,13339.618285714287,19530,{"$f":"ROUNDUP($V775*FX!$G$2*CF!$B$3,0)","v":19530},{"$f":"ROUNDUP($V775*FX!$G$10*CF!$B$4,0)","v":26942},{"$f":"ROUNDUP($V775*FX!$G$35*CF!$B$5,0)","v":13125},{"$f":"ROUNDUP($V775*FX!$G$3*CF!$B$6,0)","v":27157},null,null,null,null,null,null,null,null,null,null,null,null,null,null,null,null,null,null,null,null,null,null,null,null,null,null,null,null,null,null,null,null,20409,null,null,19530,15538.105,15539,null,14868.091199999999,15493,15493,16160.56,16160.56,16161,17663.972999999998,17663.972999999998,17664,18724,19530]
[null,"MOD:BPR",null,"VS:D","BM:0,3","BPRpr:4",null,null,null,null,null,null,null,null,null,null,null,null,null,"YA_BPR_0036",null,21749,"CS (WCB)",null,16557.66,16233,15760,15760,15301,14855.484,21749,{"$f":"ROUNDUP($V776*FX!$G$2*CF!$B$3,0)","v":21749},{"$f":"ROUNDUP($V776*FX!$G$10*CF!$B$4,0)","v":30003},{"$f":"ROUNDUP($V776*FX!$G$35*CF!$B$5,0)","v":14617},{"$f":"ROUNDUP($V776*FX!$G$3*CF!$B$6,0)","v":30242},null,null,null,null,null,null,null,null,null,null,null,null,null,null,null,null,null,null,null,null,null,null,null,null,null,null,null,null,null,null,null,null,22728,null,null,21749,17303.11,17304,null,16557.456000000002,17253,17253,17996.16,17996.16,17997,19670.721000000001,19670.721000000001,19671,20852,21749]
[null,"MOD:BPR",null,"VS:E","BM:0,3","BPRpr:4",null,null,null,null,null,null,null,null,null,null,null,null,null,"YA_BPR_0037",null,28209,"CS (WCB)",null,21478.14,21057,20444,20444,19849,19270.442892857143,28209,{"$f":"ROUNDUP($V777*FX!$G$2*CF!$B$3,0)","v":28209},{"$f":"ROUNDUP($V777*FX!$G$10*CF!$B$4,0)","v":38915},{"$f":"ROUNDUP($V777*FX!$G$35*CF!$B$5,0)","v":18958},{"$f":"ROUNDUP($V777*FX!$G$3*CF!$B$6,0)","v":39225},null,null,null,null,null,null,null,null,null,null,null,null,null,null,null,null,null,null,null,null,null,null,null,null,null,null,null,null,null,null,null,null,29479,null,null,28209,22445.555,22446,null,21478.466400000001,22381,22381,23343.84,23343.84,23344,25514.991999999998,25514.991999999998,25515,27046,28209]
[null,"MOD:BPR",null,"VS:F","BM:0,3","BPRpr:4",null,null,null,null,null,null,null,null,null,null,null,null,null,"YA_BPR_0038",null,66459,"CS (WCB)",null,50602.200000000004,49610,48165,48165,46762,45400.178142857148,66459,{"$f":"ROUNDUP($V778*FX!$G$2*CF!$B$3,0)","v":66459},{"$f":"ROUNDUP($V778*FX!$G$10*CF!$B$4,0)","v":91681},{"$f":"ROUNDUP($V778*FX!$G$35*CF!$B$5,0)","v":44664},{"$f":"ROUNDUP($V778*FX!$G$3*CF!$B$6,0)","v":92412},null,null,null,null,null,null,null,null,null,null,null,null,null,null,null,null,null,null,null,null,null,null,null,null,null,null,null,null,null,null,null,null,69450,null,null,66459,52880.135000000002,52881,null,50602.149000000005,52728,52728,54996.24,54996.24,54997,60111.720999999998,60111.720999999998,60112,63719,66459]
[null,"MOD:BPR",null,"VS:A","BM:1,2","BPRpr:4",null,null,null,null,null,null,null,null,null,null,null,null,null,"YA_BPR_0039",null,22803,"SS (CF8M)",null,17360.400000000001,17020,16524,16524,16043,15575.520214285716,22803,{"$f":"ROUNDUP($V779*FX!$G$2*CF!$B$3,0)","v":22803},{"$f":"ROUNDUP($V779*FX!$G$10*CF!$B$4,0)","v":31457},{"$f":"ROUNDUP($V779*FX!$G$35*CF!$B$5,0)","v":15325},{"$f":"ROUNDUP($V779*FX!$G$3*CF!$B$6,0)","v":31708},null,null,null,null,null,null,null,null,null,null,null,null,null,null,null,null,null,null,null,null,null,null,null,null,null,null,null,null,null,null,null,null,23830,null,null,22803,18142.244999999999,18143,null,17360.114400000002,18090,18090,18868.72,18868.72,18869,20623.816999999999,20623.816999999999,20624,21862,22803]
[null,"MOD:BPR",null,"VS:B","BM:1,2","BPRpr:4",null,null,null,null,null,null,null,null,null,null,null,null,null,"YA_BPR_0040",null,22915,"SS (CF8M)",null,17445.060000000001,17103,16605,16605,16121,15651.313500000002,22915,{"$f":"ROUNDUP($V780*FX!$G$2*CF!$B$3,0)","v":22915},{"$f":"ROUNDUP($V780*FX!$G$10*CF!$B$4,0)","v":31612},{"$f":"ROUNDUP($V780*FX!$G$35*CF!$B$5,0)","v":15400},{"$f":"ROUNDUP($V780*FX!$G$3*CF!$B$6,0)","v":31864},null,null,null,null,null,null,null,null,null,null,null,null,null,null,null,null,null,null,null,null,null,null,null,null,null,null,null,null,null,null,null,null,23947,null,null,22915,18231.07,18232,null,17445.213000000003,18178,18178,18961.28,18961.28,18962,20725.466,20725.466,20726,21970,22915]
[null,"MOD:BPR",null,"VS:C","BM:1,2","BPRpr:4",null,null,null,null,null,null,null,null,null,null,null,null,null,"YA_BPR_0041",null,24272,"SS (CF8M)",null,18479.34,18117,17589,17589,17077,16579.781250000004,24272,{"$f":"ROUNDUP($V781*FX!$G$2*CF!$B$3,0)","v":24272},{"$f":"ROUNDUP($V781*FX!$G$10*CF!$B$4,0)","v":33484},{"$f":"ROUNDUP($V781*FX!$G$35*CF!$B$5,0)","v":16312},{"$f":"ROUNDUP($V781*FX!$G$3*CF!$B$6,0)","v":33751},null,null,null,null,null,null,null,null,null,null,null,null,null,null,null,null,null,null,null,null,null,null,null,null,null,null,null,null,null,null,null,null,25365,null,null,24272,19311.599999999999,19312,null,18479.003400000001,19256,19256,20084.48,20084.48,20085,21952.904999999999,21952.904999999999,21953,23271,24272]
[null,"MOD:BPR",null,"VS:D","BM:1,2","BPRpr:4",null,null,null,null,null,null,null,null,null,null,null,null,null,"YA_BPR_0042",null,27916,"SS (CF8M)",null,21254.760000000002,20838,20231,20231,19642,19069.590685714291,27916,{"$f":"ROUNDUP($V782*FX!$G$2*CF!$B$3,0)","v":27916},{"$f":"ROUNDUP($V782*FX!$G$10*CF!$B$4,0)","v":38511},{"$f":"ROUNDUP($V782*FX!$G$35*CF!$B$5,0)","v":18761},{"$f":"ROUNDUP($V782*FX!$G$3*CF!$B$6,0)","v":38818},null,null,null,null,null,null,null,null,null,null,null,null,null,null,null,null,null,null,null,null,null,null,null,null,null,null,null,null,null,null,null,null,29173,null,null,27916,22211.474999999999,22212,null,21254.688600000001,22148,22148,23100.48,23100.48,23101,25249.393,25249.393,25250,26765,27916]
[null,"MOD:BPR",null,"VS:E","BM:1,2","BPRpr:4",null,null,null,null,null,null,null,null,null,null,null,null,null,"YA_BPR_0043",null,36283,"SS (CF8M)",null,27624.66,27083,26294,26294,25528,24784.404428571434,36283,{"$f":"ROUNDUP($V783*FX!$G$2*CF!$B$3,0)","v":36283},{"$f":"ROUNDUP($V783*FX!$G$10*CF!$B$4,0)","v":50053},{"$f":"ROUNDUP($V783*FX!$G$35*CF!$B$5,0)","v":24384},{"$f":"ROUNDUP($V783*FX!$G$3*CF!$B$6,0)","v":50452},null,null,null,null,null,null,null,null,null,null,null,null,null,null,null,null,null,null,null,null,null,null,null,null,null,null,null,null,null,null,null,null,37916,null,null,36283,28868.125,28869,null,27624.4764,28785,28785,30023.759999999998,30023.759999999998,30024,32816.232000000004,32816.232000000004,32817,34787,36283]
[null,"MOD:BPR",null,"VS:F","BM:1,2","BPRpr:4",null,null,null,null,null,null,null,null,null,null,null,null,null,"YA_BPR_0044",null,72561,"SS (CF8M)",null,55249.32,54166,52588,52588,51056,49568.808857142867,72561,{"$f":"ROUNDUP($V784*FX!$G$2*CF!$B$3,0)","v":72561},{"$f":"ROUNDUP($V784*FX!$G$10*CF!$B$4,0)","v":100098},{"$f":"ROUNDUP($V784*FX!$G$35*CF!$B$5,0)","v":48765},{"$f":"ROUNDUP($V784*FX!$G$3*CF!$B$6,0)","v":100897},null,null,null,null,null,null,null,null,null,null,null,null,null,null,null,null,null,null,null,null,null,null,null,null,null,null,null,null,null,null,null,null,75827,null,null,72561,57735.205000000002,57736,null,55248.952799999999,57570,57570,60045.440000000002,60045.440000000002,60046,65630.278000000006,65630.278000000006,65631,69569,72561]
[null,"MOD:BPR",null,"VS:B","BM:0,3","BPRpr:5",null,null,null,null,null,null,null,null,null,null,null,null,null,"YA_BPR_0045",null,19052,"CS (WCB)",null,14504.4,14220,13806,13806,13404,13013.707157142857,19052,{"$f":"ROUNDUP($V785*FX!$G$2*CF!$B$3,0)","v":19052},{"$f":"ROUNDUP($V785*FX!$G$10*CF!$B$4,0)","v":26283},{"$f":"ROUNDUP($V785*FX!$G$35*CF!$B$5,0)","v":12804},{"$f":"ROUNDUP($V785*FX!$G$3*CF!$B$6,0)","v":26492},null,null,null,null,null,null,null,null,null,null,null,null,null,null,null,null,null,null,null,null,null,null,null,null,null,null,null,null,null,null,null,null,19910,null,null,19052,15157.725,15158,null,14504.5836,15114,15114,15764.32,15764.32,15765,17231.145,17231.145,17232,18266,19052]
[null,"MOD:BPR",null,"VS:C","BM:0,3","BPRpr:5",null,null,null,null,null,null,null,null,null,null,null,null,null,"YA_BPR_0046",null,19724,"CS (WCB)",null,15016.44,14722,14293,14293,13877,13473.014468571429,19724,{"$f":"ROUNDUP($V786*FX!$G$2*CF!$B$3,0)","v":19724},{"$f":"ROUNDUP($V786*FX!$G$10*CF!$B$4,0)","v":27210},{"$f":"ROUNDUP($V786*FX!$G$35*CF!$B$5,0)","v":13256},{"$f":"ROUNDUP($V786*FX!$G$3*CF!$B$6,0)","v":27427},null,null,null,null,null,null,null,null,null,null,null,null,null,null,null,null,null,null,null,null,null,null,null,null,null,null,null,null,null,null,null,null,20612,null,null,19724,15692.764999999999,15693,null,15016.225800000002,15647,15647,16320.72,16320.72,16321,17838.852999999999,17838.852999999999,17839,18910,19724]
[null,"MOD:BPR",null,"VS:D","BM:0,3","BPRpr:5",null,null,null,null,null,null,null,null,null,null,null,null,null,"YA_BPR_0047",null,21967,"CS (WCB)",null,16723.920000000002,16396,15918,15918,15454,15004.038840000001,21967,{"$f":"ROUNDUP($V787*FX!$G$2*CF!$B$3,0)","v":21967},{"$f":"ROUNDUP($V787*FX!$G$10*CF!$B$4,0)","v":30304},{"$f":"ROUNDUP($V787*FX!$G$35*CF!$B$5,0)","v":14763},{"$f":"ROUNDUP($V787*FX!$G$3*CF!$B$6,0)","v":30546},null,null,null,null,null,null,null,null,null,null,null,null,null,null,null,null,null,null,null,null,null,null,null,null,null,null,null,null,null,null,null,null,22956,null,null,21967,17476.580000000002,17477,null,16723.450800000002,17426,17426,18176.080000000002,18176.080000000002,18177,19867.460999999999,19867.460999999999,19868,21061,21967]
[null,"MOD:BPR",null,"VS:E","BM:0,3","BPRpr:5",null,null,null,null,null,null,null,null,null,null,null,null,null,"YA_BPR_0048",null,28492,"CS (WCB)",null,21692.34,21267,20648,20648,20047,19463.147321785716,28492,{"$f":"ROUNDUP($V788*FX!$G$2*CF!$B$3,0)","v":28492},{"$f":"ROUNDUP($V788*FX!$G$10*CF!$B$4,0)","v":39305},{"$f":"ROUNDUP($V788*FX!$G$35*CF!$B$5,0)","v":19148},{"$f":"ROUNDUP($V788*FX!$G$3*CF!$B$6,0)","v":39619},null,null,null,null,null,null,null,null,null,null,null,null,null,null,null,null,null,null,null,null,null,null,null,null,null,null,null,null,null,null,null,null,29775,null,null,28492,22669.185000000001,22670,null,21692.788800000002,22604,22604,23576.799999999999,23576.799999999999,23577,25769.661,25769.661,25770,27317,28492]
[null,"MOD:BPR",null,"VS:F","BM:0,3","BPRpr:5",null,null,null,null,null,null,null,null,null,null,null,null,null,"YA_BPR_0049",null,67123,"CS (WCB)",null,51108.12,50106,48647,48647,47230,45854.179924285723,67123,{"$f":"ROUNDUP($V789*FX!$G$2*CF!$B$3,0)","v":67123},{"$f":"ROUNDUP($V789*FX!$G$10*CF!$B$4,0)","v":92597},{"$f":"ROUNDUP($V789*FX!$G$35*CF!$B$5,0)","v":45110},{"$f":"ROUNDUP($V789*FX!$G$3*CF!$B$6,0)","v":93335},null,null,null,null,null,null,null,null,null,null,null,null,null,null,null,null,null,null,null,null,null,null,null,null,null,null,null,null,null,null,null,null,70144,null,null,67123,53408.904999999999,53409,null,51108.538200000003,53256,53256,55545.36,55545.36,55546,60711.777999999998,60711.777999999998,60712,64355,67123]
[null,"MOD:BPR",null,"VS:A","BM:1,2","BPRpr:5",null,null,null,null,null,null,null,null,null,null,null,null,null,"YA_BPR_0050",null,23030,"SS (CF8M)",null,17533.8,17190,16689,16689,16203,15731.275416428572,23030,{"$f":"ROUNDUP($V790*FX!$G$2*CF!$B$3,0)","v":23030},{"$f":"ROUNDUP($V790*FX!$G$10*CF!$B$4,0)","v":31770},{"$f":"ROUNDUP($V790*FX!$G$35*CF!$B$5,0)","v":15478},{"$f":"ROUNDUP($V790*FX!$G$3*CF!$B$6,0)","v":32024},null,null,null,null,null,null,null,null,null,null,null,null,null,null,null,null,null,null,null,null,null,null,null,null,null,null,null,null,null,null,null,null,24067,null,null,23030,18323.03,18324,null,17533.463400000001,18270,18270,19056.96,19056.96,19057,20829.300999999999,20829.300999999999,20830,22080,23030]
[null,"MOD:BPR",null,"VS:B","BM:1,2","BPRpr:5",null,null,null,null,null,null,null,null,null,null,null,null,null,"YA_BPR_0051",null,23140,"SS (CF8M)",null,17618.46,17273,16770,16770,16282,15807.826635000003,23140,{"$f":"ROUNDUP($V791*FX!$G$2*CF!$B$3,0)","v":23140},{"$f":"ROUNDUP($V791*FX!$G$10*CF!$B$4,0)","v":31922},{"$f":"ROUNDUP($V791*FX!$G$35*CF!$B$5,0)","v":15552},{"$f":"ROUNDUP($V791*FX!$G$3*CF!$B$6,0)","v":32177},null,null,null,null,null,null,null,null,null,null,null,null,null,null,null,null,null,null,null,null,null,null,null,null,null,null,null,null,null,null,null,null,24182,null,null,23140,18411.855,18412,null,17618.562000000002,18359,18359,19148.48,19148.48,19149,20929.857,20929.857,20930,22186,23140]
[null,"MOD:BPR",null,"VS:C","BM:1,2","BPRpr:5",null,null,null,null,null,null,null,null,null,null,null,null,null,"YA_BPR_0052",null,24514,"SS (CF8M)",null,18663.96,18298,17765,17765,17248,16745.579062500005,24514,{"$f":"ROUNDUP($V792*FX!$G$2*CF!$B$3,0)","v":24514},{"$f":"ROUNDUP($V792*FX!$G$10*CF!$B$4,0)","v":33818},{"$f":"ROUNDUP($V792*FX!$G$35*CF!$B$5,0)","v":16475},{"$f":"ROUNDUP($V792*FX!$G$3*CF!$B$6,0)","v":34087},null,null,null,null,null,null,null,null,null,null,null,null,null,null,null,null,null,null,null,null,null,null,null,null,null,null,null,null,null,null,null,null,25618,null,null,24514,19503.88,19504,null,18663.909,19448,19448,20284.16,20284.16,20285,22171.505000000001,22171.505000000001,22172,23503,24514]
[null,"MOD:BPR",null,"VS:D","BM:1,2","BPRpr:5",null,null,null,null,null,null,null,null,null,null,null,null,null,"YA_BPR_0053",null,28196,"SS (CF8M)",null,21466.920000000002,21046,20433,20433,19838,19260.286592571432,28196,{"$f":"ROUNDUP($V793*FX!$G$2*CF!$B$3,0)","v":28196},{"$f":"ROUNDUP($V793*FX!$G$10*CF!$B$4,0)","v":38897},{"$f":"ROUNDUP($V793*FX!$G$35*CF!$B$5,0)","v":18949},{"$f":"ROUNDUP($V793*FX!$G$3*CF!$B$6,0)","v":39207},null,null,null,null,null,null,null,null,null,null,null,null,null,null,null,null,null,null,null,null,null,null,null,null,null,null,null,null,null,null,null,null,29465,null,null,28196,22433.014999999999,22434,null,21466.909800000001,22369,22369,23331.360000000001,23331.360000000001,23332,25501.876,25501.876,25502,27033,28196]
[null,"MOD:BPR",null,"VS:E","BM:1,2","BPRpr:5",null,null,null,null,null,null,null,null,null,null,null,null,null,"YA_BPR_0054",null,36644,"SS (CF8M)",null,27900.06,27353,26556,26556,25783,25032.248472857147,36644,{"$f":"ROUNDUP($V794*FX!$G$2*CF!$B$3,0)","v":36644},{"$f":"ROUNDUP($V794*FX!$G$10*CF!$B$4,0)","v":50551},{"$f":"ROUNDUP($V794*FX!$G$35*CF!$B$5,0)","v":24627},{"$f":"ROUNDUP($V794*FX!$G$3*CF!$B$6,0)","v":50954},null,null,null,null,null,null,null,null,null,null,null,null,null,null,null,null,null,null,null,null,null,null,null,null,null,null,null,null,null,null,null,null,38293,null,null,36644,29155.5,29156,null,27899.7336,29072,29072,30322.240000000002,30322.240000000002,30323,33143.038999999997,33143.038999999997,33144,35133,36644]
[null,"MOD:BPR",null,"VS:F","BM:1,2","BPRpr:5",null,null,null,null,null,null,null,null,null,null,null,null,null,"YA_BPR_0055",null,73287,"SS (CF8M)",null,55800.12,54706,53113,53113,51566,50064.496945714294,73287,{"$f":"ROUNDUP($V795*FX!$G$2*CF!$B$3,0)","v":73287},{"$f":"ROUNDUP($V795*FX!$G$10*CF!$B$4,0)","v":101100},{"$f":"ROUNDUP($V795*FX!$G$35*CF!$B$5,0)","v":49253},{"$f":"ROUNDUP($V795*FX!$G$3*CF!$B$6,0)","v":101906},null,null,null,null,null,null,null,null,null,null,null,null,null,null,null,null,null,null,null,null,null,null,null,null,null,null,null,null,null,null,null,null,76585,null,null,73287,58312.044999999998,58313,null,55800.517800000001,58145,58145,60645.52,60645.52,60646,66286.077999999994,66286.077999999994,66287,70265,73287]
[null,"MOD:BPR",null,"PC:5",null,null,null,null,null,null,null,null,null,null,null,null,null,null,null,"YA_BPR_0056",null,0,"1500#",null,0,0,0,0,0,0,0,{"$f":"ROUNDUP($V796*FX!$G$2*CF!$B$3,0)","v":0},{"$f":"ROUNDUP($V796*FX!$G$10*CF!$B$4,0)","v":0},{"$f":"ROUNDUP($V796*FX!$G$35*CF!$B$5,0)","v":0},{"$f":"ROUNDUP($V796*FX!$G$3*CF!$B$6,0)","v":0},null,null,null,null,null,null,null,null,null,null,null,null,null,null,null,null,null,null,null,null,null,null,null,null,null,null,null,null,null,null,null,null,0,null,null,0,0,0,null,0,0,0,0,0,0,0,0,0,0,0]
[null,"MOD:BPR",null,"SM:P",null,null,null,null,null,null,null,null,null,null,null,null,null,null,null,"YA_BPR_0057",null,0,"PTFE  (Af/Flz)STD",null,0,0,0,0,0,0,0,{"$f":"ROUNDUP($V797*FX!$G$2*CF!$B$3,0)","v":0},{"$f":"ROUNDUP($V797*FX!$G$10*CF!$B$4,0)","v":0},{"$f":"ROUNDUP($V797*FX!$G$35*CF!$B$5,0)","v":0},{"$f":"ROUNDUP($V797*FX!$G$3*CF!$B$6,0)","v":0},null,null,null,null,null,null,null,null,null,null,null,null,null,null,null,null,null,null,null,null,null,null,null,null,null,null,null,null,null,null,null,null,0,null,null,0,0,0,null,0,0,0,0,0,0,0,0,0,0,0]
[null,"MOD:BPR",null,"SM:V","VS:A",null,null,null,null,null,null,null,null,null,null,null,null,null,null,"YA_BPR_0058",null,334,"Viton","Soft Goods",250.92000000000002,246,239,239,232,225,334,{"$f":"ROUNDUP($V798*FX!$G$2*CF!$B$3,0)","v":334},{"$f":"ROUNDUP($V798*FX!$G$10*CF!$B$4,0)","v":461},{"$f":"ROUNDUP($V798*FX!$G$35*CF!$B$5,0)","v":225},{"$f":"ROUNDUP($V798*FX!$G$3*CF!$B$6,0)","v":465},null,null,null,null,null,null,null,null,null,null,null,null,null,null,null,null,null,null,null,null,null,null,null,null,null,null,null,null,null,null,null,null,350,null,null,{"$f":"ROUNDUP(AE798,0)","v":334},263.33999999999997,264,null,251.09340000000003,262,262,274.56,274.56,275,300.57499999999999,300.57499999999999,301,320,334]
[null,"MOD:BPR",null,"SM:V","VS:B",null,null,null,null,null,null,null,null,null,null,null,null,null,null,"YA_BPR_0059",null,334,"Viton","Soft Goods",250.92000000000002,246,239,239,232,225,334,{"$f":"ROUNDUP($V799*FX!$G$2*CF!$B$3,0)","v":334},{"$f":"ROUNDUP($V799*FX!$G$10*CF!$B$4,0)","v":461},{"$f":"ROUNDUP($V799*FX!$G$35*CF!$B$5,0)","v":225},{"$f":"ROUNDUP($V799*FX!$G$3*CF!$B$6,0)","v":465},null,null,null,null,null,null,null,null,null,null,null,null,null,null,null,null,null,null,null,null,null,null,null,null,null,null,null,null,null,null,null,null,350,null,null,334,263.33999999999997,264,null,251.09340000000003,262,262,274.56,274.56,275,300.57499999999999,300.57499999999999,301,320,334]
[null,"MOD:BPR",null,"SM:V","VS:C",null,null,null,null,null,null,null,null,null,null,null,null,null,null,"YA_BPR_0060",null,496,"Viton","Soft Goods",375.36,368,357,357,347,337,496,{"$f":"ROUNDUP($V800*FX!$G$2*CF!$B$3,0)","v":496},{"$f":"ROUNDUP($V800*FX!$G$10*CF!$B$4,0)","v":685},{"$f":"ROUNDUP($V800*FX!$G$35*CF!$B$5,0)","v":334},{"$f":"ROUNDUP($V800*FX!$G$3*CF!$B$6,0)","v":690},null,null,null,null,null,null,null,null,null,null,null,null,null,null,null,null,null,null,null,null,null,null,null,null,null,null,null,null,null,null,null,null,519,null,null,496,392.92,393,null,375.06420000000003,391,391,408.72,408.72,409,447.03699999999998,447.03699999999998,448,475,496]
[null,"MOD:BPR",null,"SM:V","VS:D",null,null,null,null,null,null,null,null,null,null,null,null,null,null,"YA_BPR_0061",null,496,"Viton","Soft Goods",375.36,368,357,357,347,337,496,{"$f":"ROUNDUP($V801*FX!$G$2*CF!$B$3,0)","v":496},{"$f":"ROUNDUP($V801*FX!$G$10*CF!$B$4,0)","v":685},{"$f":"ROUNDUP($V801*FX!$G$35*CF!$B$5,0)","v":334},{"$f":"ROUNDUP($V801*FX!$G$3*CF!$B$6,0)","v":690},null,null,null,null,null,null,null,null,null,null,null,null,null,null,null,null,null,null,null,null,null,null,null,null,null,null,null,null,null,null,null,null,519,null,null,496,392.92,393,null,375.06420000000003,391,391,408.72,408.72,409,447.03699999999998,447.03699999999998,448,475,496]
[null,"MOD:BPR",null,"SM:V","VS:E",null,null,null,null,null,null,null,null,null,null,null,null,null,null,"YA_BPR_0062",null,663,"Viton","Soft Goods",501.84000000000003,492,478,478,464,450,663,{"$f":"ROUNDUP($V802*FX!$G$2*CF!$B$3,0)","v":663},{"$f":"ROUNDUP($V802*FX!$G$10*CF!$B$4,0)","v":915},{"$f":"ROUNDUP($V802*FX!$G$35*CF!$B$5,0)","v":446},{"$f":"ROUNDUP($V802*FX!$G$3*CF!$B$6,0)","v":922},null,null,null,null,null,null,null,null,null,null,null,null,null,null,null,null,null,null,null,null,null,null,null,null,null,null,null,null,null,null,null,null,693,null,null,663,525.63499999999999,526,null,502.18680000000006,524,524,547.04,547.04,548,598.96399999999994,598.96399999999994,599,635,663]
[null,"MOD:BPR",null,"SM:V","VS:F",null,null,null,null,null,null,null,null,null,null,null,null,null,null,"YA_BPR_0063",null,663,"Viton","Soft Goods",501.84000000000003,492,478,478,464,450,663,{"$f":"ROUNDUP($V803*FX!$G$2*CF!$B$3,0)","v":663},{"$f":"ROUNDUP($V803*FX!$G$10*CF!$B$4,0)","v":915},{"$f":"ROUNDUP($V803*FX!$G$35*CF!$B$5,0)","v":446},{"$f":"ROUNDUP($V803*FX!$G$3*CF!$B$6,0)","v":922},null,null,null,null,null,null,null,null,null,null,null,null,null,null,null,null,null,null,null,null,null,null,null,null,null,null,null,null,null,null,null,null,693,null,null,663,525.63499999999999,526,null,502.18680000000006,524,524,547.04,547.04,548,598.96399999999994,598.96399999999994,599,635,663]
[null,"MOD:BPR",null,"SM:E","VS:A",null,null,null,null,null,null,null,null,null,null,null,null,null,null,"YA_BPR_0064",null,268,"EPDM",null,200.94,197,191,191,185,180,268,{"$f":"ROUNDUP($V804*FX!$G$2*CF!$B$3,0)","v":268},{"$f":"ROUNDUP($V804*FX!$G$10*CF!$B$4,0)","v":370},{"$f":"ROUNDUP($V804*FX!$G$35*CF!$B$5,0)","v":181},{"$f":"ROUNDUP($V804*FX!$G$3*CF!$B$6,0)","v":373},null,null,null,null,null,null,null,null,null,null,null,null,null,null,null,null,null,null,null,null,null,null,null,null,null,null,null,null,null,null,null,null,281,null,null,268,210.04499999999999,211,null,200.66460000000004,210,210,219.44,219.44,220,240.46,240.46,241,256,268]
[null,"MOD:BPR",null,"SM:E","VS:B",null,null,null,null,null,null,null,null,null,null,null,null,null,null,"YA_BPR_0065",null,268,"EPDM",null,200.94,{"$f":"ROUND(IFERROR(AA805*1.03,\"POA\"),0)","v":197},191,191,185,180,268,{"$f":"ROUNDUP($V805*FX!$G$2*CF!$B$3,0)","v":268},{"$f":"ROUNDUP($V805*FX!$G$10*CF!$B$4,0)","v":370},{"$f":"ROUNDUP($V805*FX!$G$35*CF!$B$5,0)","v":181},{"$f":"ROUNDUP($V805*FX!$G$3*CF!$B$6,0)","v":373},null,null,null,null,null,null,null,null,null,null,null,null,null,null,null,null,null,null,null,null,null,null,null,null,null,null,null,null,null,null,null,null,281,null,null,268,210.04499999999999,211,null,200.66460000000004,{"$f":"ROUNDUP(($BW805+($BX$1*$BW805)),0)","v":210},210,219.44,219.44,220,240.46,240.46,{"$f":"ROUNDUP(CD805,0)","v":241},256,268]
[null,"MOD:BPR",null,"SM:E","VS:C",null,null,null,null,null,null,null,null,null,null,null,null,null,null,"YA_BPR_0066",null,334,"EPDM",null,250.92000000000002,246,239,239,232,225,334,{"$f":"ROUNDUP($V806*FX!$G$2*CF!$B$3,0)","v":334},{"$f":"ROUNDUP($V806*FX!$G$10*CF!$B$4,0)","v":461},{"$f":"ROUNDUP($V806*FX!$G$35*CF!$B$5,0)","v":225},{"$f":"ROUNDUP($V806*FX!$G$3*CF!$B$6,0)","v":465},null,null,null,null,null,null,null,null,null,null,null,null,null,null,null,null,null,null,null,null,null,null,null,null,null,null,null,null,null,null,null,null,{"$f":"ROUNDUP(($AE806+($AE806*$BP$1)),0)","v":350},null,null,334,263.33999999999997,264,null,251.09340000000003,262,{"$f":"ROUNDUP(BX806,0)","v":262},{"$f":"BU806+(BU806*$BZ$1)","v":274.56},274.56,275,300.57499999999999,300.57499999999999,301,320,334]
[null,"MOD:BPR",null,"SM:E","VS:D",null,null,null,null,null,null,null,null,null,null,null,null,null,null,"YA_BPR_0067",null,334,"EPDM",null,250.92000000000002,246,239,239,232,225,334,{"$f":"ROUNDUP($V807*FX!$G$2*CF!$B$3,0)","v":334},{"$f":"ROUNDUP($V807*FX!$G$10*CF!$B$4,0)","v":461},{"$f":"ROUNDUP($V807*FX!$G$35*CF!$B$5,0)","v":225},{"$f":"ROUNDUP($V807*FX!$G$3*CF!$B$6,0)","v":465},null,null,null,null,null,null,null,null,null,null,null,null,null,null,null,null,null,null,null,null,null,null,null,null,null,null,null,null,null,null,null,null,350,null,null,334,263.33999999999997,264,null,251.09340000000003,262,262,274.56,274.56,275,300.57499999999999,300.57499999999999,301,320,334]
[null,"MOD:BPR",null,"SM:E","VS:E",null,null,null,null,null,null,null,null,null,null,null,null,null,null,"YA_BPR_0068",null,450,"EPDM",null,339.66,333,323,323,314,305,450,{"$f":"ROUNDUP($V808*FX!$G$2*CF!$B$3,0)","v":450},{"$f":"ROUNDUP($V808*FX!$G$10*CF!$B$4,0)","v":621},{"$f":"ROUNDUP($V808*FX!$G$35*CF!$B$5,0)","v":303},{"$f":"ROUNDUP($V808*FX!$G$3*CF!$B$6,0)","v":626},null,null,null,null,null,null,null,null,null,null,null,null,null,null,null,null,null,null,null,null,null,null,null,null,null,null,null,null,null,null,null,null,471,null,null,450,355.3,356,null,339.34379999999999,354,354,370.24,370.24,371,405.50299999999999,405.50299999999999,406,431,450]
[null,"MOD:BPR",null,"SM:E","VS:F",null,null,null,null,null,null,null,null,null,null,null,null,null,null,"YA_BPR_0069",null,450,"EPDM",null,339.66,333,323,323,314,305,450,{"$f":"ROUNDUP($V809*FX!$G$2*CF!$B$3,0)","v":450},{"$f":"ROUNDUP($V809*FX!$G$10*CF!$B$4,0)","v":621},{"$f":"ROUNDUP($V809*FX!$G$35*CF!$B$5,0)","v":303},{"$f":"ROUNDUP($V809*FX!$G$3*CF!$B$6,0)","v":626},null,null,null,null,null,null,null,null,null,null,null,null,null,null,null,null,null,null,null,null,null,null,null,null,null,null,null,null,null,null,null,null,471,null,null,450,355.3,356,null,339.34379999999999,354,354,370.24,370.24,371,405.50299999999999,405.50299999999999,406,431,450]
[null,"MOD:BPR",null,null,"NC:N","BM:0,1",null,null,null,null,null,null,null,null,null,null,null,null,null,"YA_BPR_0070",null,0,"NACE not req(STD)",null,0,0,0,0,0,0,0,{"$f":"ROUNDUP($V810*FX!$G$2*CF!$B$3,0)","v":0},{"$f":"ROUNDUP($V810*FX!$G$10*CF!$B$4,0)","v":0},{"$f":"ROUNDUP($V810*FX!$G$35*CF!$B$5,0)","v":0},{"$f":"ROUNDUP($V810*FX!$G$3*CF!$B$6,0)","v":0},null,null,null,null,null,null,null,null,null,null,null,null,null,null,null,null,null,null,null,null,null,null,null,null,null,null,null,null,null,null,null,null,0,null,null,0,0,0,null,0,0,0,0,0,0,0,0,0,0,0]
[null,"MOD:BPR",null,"VS:A","NC:Y","BM:2,3",null,null,null,null,null,null,null,null,null,null,null,null,null,"YA_BPR_0071",null,663,"NACE",null,501.84000000000003,492,478,478,464,450,663,{"$f":"ROUNDUP($V811*FX!$G$2*CF!$B$3,0)","v":663},{"$f":"ROUNDUP($V811*FX!$G$10*CF!$B$4,0)","v":915},{"$f":"ROUNDUP($V811*FX!$G$35*CF!$B$5,0)","v":446},{"$f":"ROUNDUP($V811*FX!$G$3*CF!$B$6,0)","v":922},null,null,null,null,null,null,null,null,null,null,null,null,null,null,null,null,null,null,null,null,null,null,null,null,null,null,null,null,null,null,null,null,693,null,null,663,525.63499999999999,526,null,502.18680000000006,524,524,547.04,547.04,548,598.96399999999994,598.96399999999994,599,635,663]
[null,"MOD:BPR",null,"VS:B","NC:Y","BM:2,3",null,null,null,null,null,null,null,null,null,null,null,null,null,"YA_BPR_0072",null,663,"NACE",null,501.84000000000003,492,478,478,464,450,663,{"$f":"ROUNDUP($V812*FX!$G$2*CF!$B$3,0)","v":663},{"$f":"ROUNDUP($V812*FX!$G$10*CF!$B$4,0)","v":915},{"$f":"ROUNDUP($V812*FX!$G$35*CF!$B$5,0)","v":446},{"$f":"ROUNDUP($V812*FX!$G$3*CF!$B$6,0)","v":922},null,null,null,null,null,null,null,null,null,null,null,null,null,null,null,null,null,null,null,null,null,null,null,null,null,null,null,null,null,null,null,null,693,null,null,663,525.63499999999999,526,null,502.18680000000006,524,524,547.04,547.04,548,598.96399999999994,598.96399999999994,599,635,663]
[null,"MOD:BPR",null,"VS:C","NC:Y","BM:2,3",null,null,null,null,null,null,null,null,null,null,null,null,null,"YA_BPR_0073",null,663,"NACE",null,501.84000000000003,492,478,478,464,450,663,{"$f":"ROUNDUP($V813*FX!$G$2*CF!$B$3,0)","v":663},{"$f":"ROUNDUP($V813*FX!$G$10*CF!$B$4,0)","v":915},{"$f":"ROUNDUP($V813*FX!$G$35*CF!$B$5,0)","v":446},{"$f":"ROUNDUP($V813*FX!$G$3*CF!$B$6,0)","v":922},null,null,null,null,null,null,null,null,null,null,null,null,null,null,null,null,null,null,null,null,null,null,null,null,null,null,null,null,null,null,null,null,693,null,null,663,525.63499999999999,526,null,502.18680000000006,524,524,547.04,547.04,548,598.96399999999994,598.96399999999994,599,635,663]
[null,"MOD:BPR",null,"VS:D","NC:Y","BM:2,3",null,null,null,null,null,null,null,null,null,null,null,null,null,"YA_BPR_0074",null,663,"NACE",null,501.84000000000003,492,478,478,464,450,663,{"$f":"ROUNDUP($V814*FX!$G$2*CF!$B$3,0)","v":663},{"$f":"ROUNDUP($V814*FX!$G$10*CF!$B$4,0)","v":915},{"$f":"ROUNDUP($V814*FX!$G$35*CF!$B$5,0)","v":446},{"$f":"ROUNDUP($V814*FX!$G$3*CF!$B$6,0)","v":922},null,null,null,null,null,null,null,null,null,null,null,null,null,null,null,null,null,null,null,null,null,null,null,null,null,null,null,null,null,null,null,null,693,null,null,663,525.63499999999999,526,null,502.18680000000006,524,524,547.04,547.04,548,598.96399999999994,598.96399999999994,599,635,663]
[null,"MOD:BPR",null,"VS:E","NC:Y","BM:2,3",null,null,null,null,null,null,null,null,null,null,null,null,null,"YA_BPR_0075",null,663,"NACE",null,501.84000000000003,492,478,478,464,450,663,{"$f":"ROUNDUP($V815*FX!$G$2*CF!$B$3,0)","v":663},{"$f":"ROUNDUP($V815*FX!$G$10*CF!$B$4,0)","v":915},{"$f":"ROUNDUP($V815*FX!$G$35*CF!$B$5,0)","v":446},{"$f":"ROUNDUP($V815*FX!$G$3*CF!$B$6,0)","v":922},null,null,null,null,null,null,null,null,null,null,null,null,null,null,null,null,null,null,null,null,null,null,null,null,null,null,null,null,null,null,null,null,693,null,null,663,525.63499999999999,526,null,502.18680000000006,524,524,547.04,547.04,548,598.96399999999994,598.96399999999994,599,635,663]
[null,"MOD:BPR",null,"VS:F",null,"BM:2,3",null,null,null,null,null,null,null,null,null,null,null,null,null,"YA_BPR_0076",null,843,"NACE",null,640.56000000000006,628,610,610,592,575,843,{"$f":"ROUNDUP($V816*FX!$G$2*CF!$B$3,0)","v":843},{"$f":"ROUNDUP($V816*FX!$G$10*CF!$B$4,0)","v":1163},{"$f":"ROUNDUP($V816*FX!$G$35*CF!$B$5,0)","v":567},{"$f":"ROUNDUP($V816*FX!$G$3*CF!$B$6,0)","v":1173},null,null,null,null,null,null,null,null,null,null,null,null,null,null,null,null,null,null,null,null,null,null,null,null,null,null,null,null,null,null,null,null,881,null,null,843,669.84500000000003,670,null,640.8660000000001,668,668,696.8,696.8,697,761.82100000000003,761.82100000000003,762,808,843]
[null,"MOD:BPR",null,"VS:A","BCV:0070",null,null,null,null,null,null,null,null,null,null,null,null,null,null,"YA_BPR_0077",null,0,"7 BPR Cv",null,0,0,0,0,0,0,0,{"$f":"ROUNDUP($V817*FX!$G$2*CF!$B$3,0)","v":0},{"$f":"ROUNDUP($V817*FX!$G$10*CF!$B$4,0)","v":0},{"$f":"ROUNDUP($V817*FX!$G$35*CF!$B$5,0)","v":0},{"$f":"ROUNDUP($V817*FX!$G$3*CF!$B$6,0)","v":0},null,null,null,null,null,null,null,null,null,null,null,null,null,null,null,null,null,null,null,null,null,null,null,null,null,null,null,null,null,null,null,null,0,null,null,0,0,0,null,0,0,0,0,0,0,0,0,0,0,0]
[null,"MOD:BPR",null,"VS:B","BCV:0090",null,null,null,null,null,null,null,null,null,null,null,null,null,null,"YA_BPR_0078",null,0,"9 BPR Cv",null,0,0,0,0,0,0,0,{"$f":"ROUNDUP($V818*FX!$G$2*CF!$B$3,0)","v":0},{"$f":"ROUNDUP($V818*FX!$G$10*CF!$B$4,0)","v":0},{"$f":"ROUNDUP($V818*FX!$G$35*CF!$B$5,0)","v":0},{"$f":"ROUNDUP($V818*FX!$G$3*CF!$B$6,0)","v":0},null,null,null,null,null,null,null,null,null,null,null,null,null,null,null,null,null,null,null,null,null,null,null,null,null,null,null,null,null,null,null,null,0,null,null,0,0,0,null,0,0,0,0,0,0,0,0,0,0,0]
[null,"MOD:BPR",null,"VS:C","BCV:0160",null,null,null,null,null,null,null,null,null,null,null,null,null,null,"YA_BPR_0079",null,0,"16 BPR Cv",null,0,0,0,0,0,0,0,{"$f":"ROUNDUP($V819*FX!$G$2*CF!$B$3,0)","v":0},{"$f":"ROUNDUP($V819*FX!$G$10*CF!$B$4,0)","v":0},{"$f":"ROUNDUP($V819*FX!$G$35*CF!$B$5,0)","v":0},{"$f":"ROUNDUP($V819*FX!$G$3*CF!$B$6,0)","v":0},null,null,null,null,null,null,null,null,null,null,null,null,null,null,null,null,null,null,null,null,null,null,null,null,null,null,null,null,null,null,null,null,0,null,null,0,0,0,null,0,0,0,0,0,0,0,0,0,0,0]
[null,"MOD:BPR",null,"VS:D","BCV:0360",null,null,null,null,null,null,null,null,null,null,null,null,null,null,"YA_BPR_0080",null,0,"36 BPR Cv",null,0,0,0,0,0,0,0,{"$f":"ROUNDUP($V820*FX!$G$2*CF!$B$3,0)","v":0},{"$f":"ROUNDUP($V820*FX!$G$10*CF!$B$4,0)","v":0},{"$f":"ROUNDUP($V820*FX!$G$35*CF!$B$5,0)","v":0},{"$f":"ROUNDUP($V820*FX!$G$3*CF!$B$6,0)","v":0},null,null,null,null,null,null,null,null,null,null,null,null,null,null,null,null,null,null,null,null,null,null,null,null,null,null,null,null,null,null,null,null,0,null,null,0,0,0,null,0,0,0,0,0,0,0,0,0,0,0]
[null,"MOD:BPR",null,"VS:E","BCV:0640",null,null,null,null,null,null,null,null,null,null,null,null,null,null,"YA_BPR_0081",null,0,"64 BPR Cv",null,0,0,0,0,0,0,0,{"$f":"ROUNDUP($V821*FX!$G$2*CF!$B$3,0)","v":0},{"$f":"ROUNDUP($V821*FX!$G$10*CF!$B$4,0)","v":0},{"$f":"ROUNDUP($V821*FX!$G$35*CF!$B$5,0)","v":0},{"$f":"ROUNDUP($V821*FX!$G$3*CF!$B$6,0)","v":0},null,null,null,null,null,null,null,null,null,null,null,null,null,null,null,null,null,null,null,null,null,null,null,null,null,null,null,null,null,null,null,null,0,null,null,0,0,0,null,0,0,0,0,0,0,0,0,0,0,0]
[null,"MOD:BPR",null,"VS:F","BCV:2240",null,null,null,null,null,null,null,null,null,null,null,null,null,null,"YA_BPR_0082",null,0,"224 BPR Cv",null,0,0,0,0,0,0,0,{"$f":"ROUNDUP($V822*FX!$G$2*CF!$B$3,0)","v":0},{"$f":"ROUNDUP($V822*FX!$G$10*CF!$B$4,0)","v":0},{"$f":"ROUNDUP($V822*FX!$G$35*CF!$B$5,0)","v":0},{"$f":"ROUNDUP($V822*FX!$G$3*CF!$B$6,0)","v":0},null,null,null,null,null,null,null,null,null,null,null,null,null,null,null,null,null,null,null,null,null,null,null,null,null,null,null,null,null,null,null,null,0,null,null,0,0,0,null,0,0,0,0,0,0,0,0,0,0,0]
[null,"MOD:BPR",null,"ST:W",null,null,null,null,null,null,null,null,null,null,null,null,null,null,null,"YA_BPR_0083",null,0,"Wafer",null,0,0,0,0,0,0,0,{"$f":"ROUNDUP($V823*FX!$G$2*CF!$B$3,0)","v":0},{"$f":"ROUNDUP($V823*FX!$G$10*CF!$B$4,0)","v":0},{"$f":"ROUNDUP($V823*FX!$G$35*CF!$B$5,0)","v":0},{"$f":"ROUNDUP($V823*FX!$G$3*CF!$B$6,0)","v":0},null,null,null,null,null,null,null,null,null,null,null,null,null,null,null,null,null,null,null,null,null,null,null,null,null,null,null,null,null,null,null,null,0,null,null,0,0,0,null,0,0,0,0,0,0,0,0,0,0,0]
[null,"MOD:BPR",null,"LOC:R",null,null,null,null,null,null,null,null,null,null,null,null,null,null,null,"YA_BPR_0084",null,0,"Remote",null,0,0,0,0,0,0,0,{"$f":"ROUNDUP($V824*FX!$G$2*CF!$B$3,0)","v":0},{"$f":"ROUNDUP($V824*FX!$G$10*CF!$B$4,0)","v":0},{"$f":"ROUNDUP($V824*FX!$G$35*CF!$B$5,0)","v":0},{"$f":"ROUNDUP($V824*FX!$G$3*CF!$B$6,0)","v":0},null,null,null,null,null,null,null,null,null,null,null,null,null,null,null,null,null,null,null,null,null,null,null,null,null,null,null,null,null,null,null,null,0,null,null,0,0,0,null,0,0,0,0,0,0,0,0,0,0,0]
[null,"MOD:BPR",null,"ST:X",null,null,null,null,null,null,null,null,null,null,null,null,null,null,null,"YA_BPR_0085",null,"POA","Custom Flange",null,"POA",{"$f":"IFERROR(AA825*1.03,\"POA\")","v":"POA"},"POA","POA","POA","POA","POA",{"$f":"ROUNDUP($V825*FX!$G$2*CF!$B$3,0)","v":{"$error":"#VALUE!"}},{"$f":"ROUNDUP($V825*FX!$G$10*CF!$B$4,0)","v":{"$error":"#VALUE!"}},{"$f":"ROUNDUP($V825*FX!$G$35*CF!$B$5,0)","v":{"$error":"#VALUE!"}},{"$f":"ROUNDUP($V825*FX!$G$3*CF!$B$6,0)","v":{"$error":"#VALUE!"}},null,null,null,null,null,null,null,null,null,null,null,null,null,null,null,null,null,null,null,null,null,null,null,null,null,null,null,null,null,null,null,null,{"$error":"#VALUE!"},null,null,{"$f":"AE825","v":"POA"},{"$error":"#VALUE!"},{"$error":"#VALUE!"},null,"POA","POA","POA",{"$error":"#VALUE!"},"POA","POA","POA","POA","POA","POA","POA"]
[null,"MOD:BPR",null,"SM:X",null,null,null,null,null,null,null,null,null,null,null,null,null,null,null,"YA_BPR_0086",null,"POA","Cust Seal Matl",null,"POA","POA","POA","POA","POA","POA","POA",{"$f":"ROUNDUP($V826*FX!$G$2*CF!$B$3,0)","v":{"$error":"#VALUE!"}},{"$f":"ROUNDUP($V826*FX!$G$10*CF!$B$4,0)","v":{"$error":"#VALUE!"}},{"$f":"ROUNDUP($V826*FX!$G$35*CF!$B$5,0)","v":{"$error":"#VALUE!"}},{"$f":"ROUNDUP($V826*FX!$G$3*CF!$B$6,0)","v":{"$error":"#VALUE!"}},null,null,null,null,null,null,null,null,null,null,null,null,null,null,null,null,null,null,null,null,null,null,null,null,null,null,null,null,null,null,null,null,{"$error":"#VALUE!"},null,null,{"$f":"AE826","v":"POA"},{"$error":"#VALUE!"},{"$error":"#VALUE!"},null,"POA","POA","POA",{"$error":"#VALUE!"},"POA","POA","POA","POA","POA","POA","POA"]
[null,"MOD:BPR",null,"BM:X",null,null,null,null,null,null,null,null,null,null,null,null,null,null,null,"YA_BPR_0087",null,"POA","Cust Body Matl",null,"POA","POA","POA","POA","POA","POA","POA",{"$f":"ROUNDUP($V827*FX!$G$2*CF!$B$3,0)","v":{"$error":"#VALUE!"}},{"$f":"ROUNDUP($V827*FX!$G$10*CF!$B$4,0)","v":{"$error":"#VALUE!"}},{"$f":"ROUNDUP($V827*FX!$G$35*CF!$B$5,0)","v":{"$error":"#VALUE!"}},{"$f":"ROUNDUP($V827*FX!$G$3*CF!$B$6,0)","v":{"$error":"#VALUE!"}},null,null,null,null,null,null,null,null,null,null,null,null,null,null,null,null,null,null,null,null,null,null,null,null,null,null,null,null,null,null,null,null,{"$error":"#VALUE!"},null,null,{"$f":"AE827","v":"POA"},{"$error":"#VALUE!"},{"$error":"#VALUE!"},null,"POA","POA","POA",{"$error":"#VALUE!"},"POA","POA","POA","POA","POA","POA","POA"]
[null,"MOD:Y92",null,"BM:X",null,null,null,null,null,null,null,null,null,null,null,null,null,null,null,"YA_9200_0279",null,"POA","Cust Material ","Custom Base Valve Price","POA","POA","POA","POA","POA","POA","POA",{"$f":"ROUNDUP($V828*FX!$G$2*CF!$B$3,0)","v":{"$error":"#VALUE!"}},{"$f":"ROUNDUP($V828*FX!$G$10*CF!$B$4,0)","v":{"$error":"#VALUE!"}},{"$f":"ROUNDUP($V828*FX!$G$35*CF!$B$5,0)","v":{"$error":"#VALUE!"}},{"$f":"ROUNDUP($V828*FX!$G$3*CF!$B$6,0)","v":{"$error":"#VALUE!"}},null,null,null,null,null,null,null,null,null,null,null,null,null,null,null,null,null,null,null,null,null,null,null,null,null,null,null,null,null,null,null,{"$f":"AE828+(AE828*$BO$1)","v":{"$error":"#VALUE!"}},null,null,{"$error":"#VALUE!"},{"$f":"AE828","v":"POA"},null,0,null,"POA","POA","POA",0,"POA","POA","POA","POA","POA","POA","POA"]
["YA9100","MOD:Y91",null,"VS:A","BM:2,3,7,8","SM:P,V,K,T","NC:Y",null,null,null,null,null,null,null,null,null,null,null,null,"YA_9100_0275",null,660,"NACE","NACE",501.84000000000003,{"$f":"ROUND(IFERROR(AA829*1.03,\"POA\"),0)","v":492},478,478,464,450,660,{"$f":"ROUNDUP($V829*FX!$G$2*CF!$B$3,0)","v":660},{"$f":"ROUNDUP($V829*FX!$G$10*CF!$B$4,0)","v":911},{"$f":"ROUNDUP($V829*FX!$G$35*CF!$B$5,0)","v":444},{"$f":"ROUNDUP($V829*FX!$G$3*CF!$B$6,0)","v":918},null,null,null,null,null,null,null,null,null,null,null,null,null,null,null,null,null,null,null,null,null,null,null,null,null,null,null,null,null,null,null,687.72,{"$f":"AF829+(AF829*$BP$1)","v":689.7},null,352.19600000000003,{"$f":"ROUND(AE829,0)","v":660},null,0,null,502.18680000000006,{"$f":"ROUNDUP(($BW829+($BX$1*$BW829)),0)","v":524},524,0,544.96,545,595.68499999999995,595.68499999999995,{"$f":"ROUNDUP(CD829,0)","v":596},632,660]
["YA9100","MOD:Y91",null,"VS:B","BM:2,3,7,8","SM:P,V,K,T","NC:Y",null,null,null,null,null,null,null,null,null,null,null,null,"YA_9100_0276",null,660,"NACE","NACE",501.84000000000003,492,478,478,464,450,660,{"$f":"ROUNDUP($V830*FX!$G$2*CF!$B$3,0)","v":660},{"$f":"ROUNDUP($V830*FX!$G$10*CF!$B$4,0)","v":911},{"$f":"ROUNDUP($V830*FX!$G$35*CF!$B$5,0)","v":444},{"$f":"ROUNDUP($V830*FX!$G$3*CF!$B$6,0)","v":918},null,null,null,null,null,null,null,null,null,null,null,null,null,null,null,null,null,null,null,null,null,null,null,null,null,null,null,null,null,null,null,687.72,{"$f":"AF830+(AF830*$BP$1)","v":689.7},null,352.19600000000003,660,null,0,null,502.18680000000006,524,524,0,544.96,545,595.68499999999995,595.68499999999995,596,632,660]
[null,"Models All",null,null,null,null,null,null,null,null,null,null,null,null,null,null,null,null,null,null,null,612,"Gauge Ports","Do Not Use",473.28000000000003,464,450,450,450,450,612,{"$f":"ROUNDUP($V831*FX!$G$2*CF!$B$3,0)","v":612},{"$f":"ROUNDUP($V831*FX!$G$10*CF!$B$4,0)","v":845},{"$f":"ROUNDUP($V831*FX!$G$35*CF!$B$5,0)","v":412},{"$f":"ROUNDUP($V831*FX!$G$3*CF!$B$6,0)","v":851},1,null,null,null,null,null,null,null,null,null,null,null,null,null,null,null,null,null,null,null,null,null,null,null,null,null,null,null,null,null,null,null,{"$f":"$AE831+($AE831*$BP$1)","v":639.54},null,null,612,484.88,485,null,463.5,483,483,504.4,504.4,505,551.96500000000003,551.96500000000003,552,586,612]
[null,"Models All",null,null,null,null,null,null,null,null,null,null,null,null,null,null,null,null,null,null,null,612,"Gauge Ports","Do Not Use",473.28000000000003,464,450,450,450,450,612,{"$f":"ROUNDUP($V832*FX!$G$2*CF!$B$3,0)","v":612},{"$f":"ROUNDUP($V832*FX!$G$10*CF!$B$4,0)","v":845},{"$f":"ROUNDUP($V832*FX!$G$35*CF!$B$5,0)","v":412},{"$f":"ROUNDUP($V832*FX!$G$3*CF!$B$6,0)","v":851},1.5,null,null,null,null,null,null,null,null,null,null,null,null,null,null,null,null,null,null,null,null,null,null,null,null,null,null,null,null,null,null,null,{"$f":"$AE832+($AE832*$BP$1)","v":639.54},null,null,612,484.88,485,null,463.5,483,483,504.4,504.4,505,551.96500000000003,551.96500000000003,552,586,612]
[null,"Models All",null,null,null,null,null,null,null,null,null,null,null,null,null,null,null,null,null,null,null,612,"Gauge Ports","Do Not Use",473.28000000000003,464,450,478,478,478,612,{"$f":"ROUNDUP($V833*FX!$G$2*CF!$B$3,0)","v":612},{"$f":"ROUNDUP($V833*FX!$G$10*CF!$B$4,0)","v":845},{"$f":"ROUNDUP($V833*FX!$G$35*CF!$B$5,0)","v":412},{"$f":"ROUNDUP($V833*FX!$G$3*CF!$B$6,0)","v":851},2,null,null,null,null,null,null,null,null,null,null,null,null,null,null,null,null,null,null,null,null,null,null,null,null,null,null,null,null,null,null,null,639.54,null,null,612,484.88,485,null,463.5,483,483,504.4,504.4,505,551.96500000000003,551.96500000000003,552,586,612]
[null,"Models All",null,null,null,null,null,null,null,null,null,null,null,null,null,null,null,null,null,null,null,{"$f":"AE834","v":612},"Gauge Ports","Do Not Use",473.28000000000003,464,450,478,478,478,612,{"$f":"ROUNDUP($V834*FX!$G$2*CF!$B$3,0)","v":612},{"$f":"ROUNDUP($V834*FX!$G$10*CF!$B$4,0)","v":845},{"$f":"ROUNDUP($V834*FX!$G$35*CF!$B$5,0)","v":412},{"$f":"ROUNDUP($V834*FX!$G$3*CF!$B$6,0)","v":851},3,null,null,null,null,null,null,null,null,null,null,null,null,null,null,null,null,null,null,null,null,null,null,null,null,null,null,null,null,null,null,null,639.54,null,null,{"$f":"ROUND(AE834,0)","v":612},484.88,485,null,463.5,483,483,504.4,504.4,505,551.96500000000003,551.96500000000003,552,{"$f":"IF(CE834=\"POA\",\"POA\", ROUNDUP(CE834*1.06,0))","v":586},612]
[null,"Models All",null,null,null,null,null,null,null,null,null,null,null,null,null,null,null,null,null,null,null,612,"Gauge Ports","Do Not Use",{"$f":"IFERROR(Z835*1.02,\"POA\")","v":473.28000000000003},464,450,1194,1194,1194,{"$f":"CG835","v":612},{"$f":"ROUNDUP($V835*FX!$G$2*CF!$B$3,0)","v":612},{"$f":"ROUNDUP($V835*FX!$G$10*CF!$B$4,0)","v":845},{"$f":"ROUNDUP($V835*FX!$G$35*CF!$B$5,0)","v":412},{"$f":"ROUNDUP($V835*FX!$G$3*CF!$B$6,0)","v":851},4,null,null,null,null,null,null,null,null,null,null,null,null,null,null,null,null,null,null,null,null,null,null,null,null,null,null,null,null,null,null,null,639.54,null,null,612,484.88,{"$f":"ROUNDUP(BT835,0)","v":485},null,463.5,483,483,504.4,504.4,{"$f":"ROUNDUP(CA835,0)","v":505},{"$f":"CB835+(CB835*$CC$1)","v":551.96500000000003},551.96500000000003,552,586,{"$f":"IF(CF835=\"POA\",\"POA\", ROUNDUP(CF835*1.043,0))","v":612}]
[null,"Models All",null,null,null,null,null,null,null,null,null,null,null,null,null,null,null,null,null,null,null,781,"Gauge Ports","Do Not Use",603.84,592,575,1910,1910,1910,781,{"$f":"ROUNDUP($V836*FX!$G$2*CF!$B$3,0)","v":781},{"$f":"ROUNDUP($V836*FX!$G$10*CF!$B$4,0)","v":1078},{"$f":"ROUNDUP($V836*FX!$G$35*CF!$B$5,0)","v":525},{"$f":"ROUNDUP($V836*FX!$G$3*CF!$B$6,0)","v":1086},6,null,null,null,null,null,null,null,null,null,null,null,null,null,null,null,null,null,null,null,null,null,null,null,null,null,null,null,null,null,null,null,816.14499999999998,null,null,781,619.68499999999995,620,null,592.25,618,618,644.79999999999995,644.79999999999995,645,704.98500000000001,704.98500000000001,705,748,781]
[null,"Models All",null,null,null,null,null,null,null,null,null,null,null,null,null,null,null,null,null,null,null,781,"Gauge Ports","Do Not Use",603.84,592,575,3358,3358,3358,781,{"$f":"ROUNDUP($V837*FX!$G$2*CF!$B$3,0)","v":781},{"$f":"ROUNDUP($V837*FX!$G$10*CF!$B$4,0)","v":1078},{"$f":"ROUNDUP($V837*FX!$G$35*CF!$B$5,0)","v":525},{"$f":"ROUNDUP($V837*FX!$G$3*CF!$B$6,0)","v":1086},8,null,null,null,null,null,null,null,null,null,null,null,null,null,null,null,null,null,null,null,null,null,null,null,null,null,null,null,null,null,null,null,816.14499999999998,null,null,781,619.68499999999995,620,null,592.25,618,618,644.79999999999995,644.79999999999995,645,704.98500000000001,704.98500000000001,705,748,781]
[null,"Models All",null,null,null,null,null,null,null,null,null,null,null,null,null,null,null,null,null,null,null,1207,"Gauge Ports","Do Not Use",935.34,917,890,5040,5040,5040,1207,{"$f":"ROUNDUP($V838*FX!$G$2*CF!$B$3,0)","v":1207},{"$f":"ROUNDUP($V838*FX!$G$10*CF!$B$4,0)","v":1666},{"$f":"ROUNDUP($V838*FX!$G$35*CF!$B$5,0)","v":812},{"$f":"ROUNDUP($V838*FX!$G$3*CF!$B$6,0)","v":1679},10,null,null,null,null,null,null,null,null,null,null,null,null,null,null,null,null,null,null,null,null,null,null,null,null,null,null,null,null,null,null,null,1261.3150000000001,null,null,1207,958.26499999999999,959,null,916.7,956,956,997.36,997.36,998,1090.8140000000001,1090.8140000000001,1091,1157,1207]
[null,"Models All",null,null,null,null,null,null,null,null,null,null,null,null,null,null,null,null,null,null,null,1207,"Gauge Ports","Do Not Use",935.34,917,890,5040,5040,5040,1207,{"$f":"ROUNDUP($V839*FX!$G$2*CF!$B$3,0)","v":1207},{"$f":"ROUNDUP($V839*FX!$G$10*CF!$B$4,0)","v":1666},{"$f":"ROUNDUP($V839*FX!$G$35*CF!$B$5,0)","v":812},{"$f":"ROUNDUP($V839*FX!$G$3*CF!$B$6,0)","v":1679},12,null,null,null,null,null,null,null,null,null,null,null,null,null,null,null,null,null,null,null,null,null,null,null,null,null,null,null,null,null,null,null,1261.3150000000001,null,null,1207,958.26499999999999,959,null,916.7,956,956,997.36,997.36,998,1090.8140000000001,1090.8140000000001,1091,1157,1207]
[null,"Models All",null,null,null,null,null,null,null,null,null,null,null,null,null,null,null,null,null,null,null,{"$f":"AE840","v":1207},"Gauge Ports","Do Not Use",935.34,917,890,5443,5443,5443,1207,{"$f":"ROUNDUP($V840*FX!$G$2*CF!$B$3,0)","v":1207},{"$f":"ROUNDUP($V840*FX!$G$10*CF!$B$4,0)","v":1666},{"$f":"ROUNDUP($V840*FX!$G$35*CF!$B$5,0)","v":812},{"$f":"ROUNDUP($V840*FX!$G$3*CF!$B$6,0)","v":1679},14,null,null,null,null,null,null,null,null,null,null,null,null,null,null,null,null,null,null,null,null,null,null,null,null,null,null,null,null,null,null,null,1261.3150000000001,null,null,1207,958.26499999999999,959,null,916.7,956,956,997.36,997.36,998,1090.8140000000001,1090.8140000000001,1091,1157,1207]
[]
[null,null,null,null,null,null,null,null,null,null,null,null,null,null,null,null,null,null,null,null,null,null,null,null,null,null,null,null,null,null,null,null,null,null,null,null,null,null,null,null,null,null,null,null,null,null,null,null,null,null,null,null,null,null,null,null,null,null,null,null,null,null,null,null,null,null,null,{"$f":"478+(478*BP1)","v":499.51}]

{"sheet":"Cover","index":4,"n_rows":58,"n_cols":48,"rows_kept":58,"cut":false,"hidden":false,"merged":[[0,0,5,43],[7,0,8,43],[23,0,24,43],[25,0,25,43],[26,0,26,43],[14,0,17,43],[10,22,12,26],[10,12,12,21],[29,0,29,43],[31,0,31,43],[32,0,32,43],[38,0,38,43],[28,0,28,43],[33,0,37,43],[53,0,56,43],[57,0,57,43],[39,0,39,43],[40,0,40,43]]}
["Bulletin(Rev): VCTDS-00817-EN 17/05\nEffective:  04/11/2025\nSupercedes Bulletin:  VCTDS-00817-EN 17/05\nOld Effective Date:  10/01/2024"]
[]
[]
[]
[]
[]
[]
["PRICE LIST"]
[]
[null,null,null,null,null,null,null,null,null,null,null,null,null,null,null,null,null,null,null,null,null,null,null,null,null,null,null,null,null,null,null,null,null,null,null,null,null,null,null,null,null,null,null,null,null,null,null,"Currency"]
[null,null,null,null,null,null,null,null,null,null,null,null,"Local Price:",null,null,null,null,null,null,null,null,null,"USA",null,null,null,null,null,null,null,null,null,null,null,null,null,null,null,null,null,null,null,null,null,null,null,null,"USA"]
[null,null,null,null,null,null,null,null,null,null,null,null,null,null,null,null,null,null,null,null,null,null,null,null,null,null,null,null,null,null,null,null,null,null,null,null,null,null,null,null,null,null,null,null,null,null,null,"AUS"]
[null,null,null,null,null,null,null,null,null,null,null,null,null,null,null,null,null,null,null,null,null,null,null,null,null,null,null,null,null,null,null,null,null,null,null,null,null,null,null,null,null,null,null,null,null,null,null,"UK"]
[null,null,null,null,null,null,null,null,null,null,null,null,null,null,null,null,null,null,null,null,null,null,null,null,null,null,null,null,null,null,null,null,null,null,null,null,null,null,null,null,null,null,null,null,null,null,null,"CAN"]
["CONFIDENTIAL AND PROPRIETARY INFORMATION\nNOT FOR GENERAL DISTRIBUTION"]
[]
[]
[]
[]
[]
[]
[]
[]
["Yarway"]
[]
["5300, 9100, 9200, BPR"]
["Centrifugal Pump Protection"]
[]
["Applying to Catalog No's:"]
["YAW-ARC-0817-US-1508"]
[]
["All Prices F.O.B. Shipping Point, No Freight Allowed"]
[]
["The prices shown in this price book are list price and are exclusive of any discounts or surcharges (including but not limited to any surcharges that Emerson may impose due to increased costs associated with the imposition of tariffs, duties and similar taxes) that Emerson may impose on the sale of the products or services listed herein.  Any purchase orders issued for products listed herein to which a surcharge applies will not be accepted by Emerson until reissued with the inclusion of the applicable surcharge in place at the time of issuance of the purchase order."]
[]
[]
[]
[]
[]
["All Prices are Subject to Change Without Notice. Errors are Subject to Correction"]
["Terms:  Net 30 Days"]
[]
[]
[]
[]
[]
[]
[]
[]
[]
[]
[]
[]
["Stafford Plant\n3950 Greenbriar Dr\nStafford, TX USA 77477\n281-274-4400\n"]
[]
[]
[]
["www.emerson.com"]

{"sheet":"Blank","index":5,"n_rows":29,"n_cols":15,"rows_kept":29,"cut":false,"hidden":false,"merged":[]}
[]
[]
[]
[]
[]
[]
[]
[]
[]
[]
[]
[]
[]
[]
[]
[]
[]
[]
[]
[]
[]
[]
[]
[]
[]
[]
[]
[]
[null,null,null,null,null,null,null,null,null,null,null,null,null,null,"This page left intentionally blank"]

{"sheet":"TOC","index":6,"n_rows":25,"n_cols":33,"rows_kept":25,"cut":false,"hidden":false,"merged":[[15,7,26,14],[0,0,5,43],[7,0,8,43],[13,32,14,36],[15,15,17,31],[15,32,17,36],[18,15,20,31],[18,32,20,36],[13,7,14,14],[13,15,14,31],[21,15,23,31],[21,32,23,36],[24,15,26,31],[24,32,26,36]]}
[]
[]
[]
[]
[]
[]
[]
["Table of Contents"]
[]
[]
[]
[]
[]
[null,null,null,null,null,null,null,"Section",null,null,null,null,null,null,null,"Description",null,null,null,null,null,null,null,null,null,null,null,null,null,null,null,null,"Page"]
[]
[null,null,null,null,null,null,null,"Valve and BPR List Prices",null,null,null,null,null,null,null,"5300"]
[]
[]
[null,null,null,null,null,null,null,null,null,null,null,null,null,null,null,"9100"]
[]
[]
[null,null,null,null,null,null,null,null,null,null,null,null,null,null,null,"9200"]
[]
[]
[null,null,null,null,null,null,null,null,null,null,null,null,null,null,null,"BPR"]

{"sheet":"ROC","index":7,"n_rows":28,"n_cols":17,"rows_kept":28,"cut":false,"hidden":false,"merged":[[32,5,32,8],[32,9,32,12],[32,13,32,15],[30,5,30,8],[30,9,30,12],[30,13,30,15],[31,5,31,8],[31,9,31,12],[31,13,31,15],[28,5,28,8],[28,9,28,12],[28,13,28,15],[29,5,29,8],[29,9,29,12],[29,13,29,15],[27,5,27,8],[27,9,27,12],[27,13,27,15],[26,16,26,38],[27,16,27,38],[24,16,24,38],[25,16,25,38],[26,5,26,8],[26,9,26,12],[26,13,26,15],[24,5,24,8],[24,9,24,12],[24,13,24,15],[25,5,25,8],[25,9,25,12],[25,13,25,15],[23,5,23,8],[23,9,23,12],[23,13,23,15],[22,16,22,38],[23,16,23,38],[20,16,20,38],[21,16,21,38],[22,5,22,8],[22,9,22,12],[22,13,22,15],[20,5,20,8],[20,9,20,12],[20,13,20,15],[21,5,21,8],[21,9,21,12],[21,13,21,15],[19,5,19,8],[19,9,19,12],[19,13,19,15],[18,16,18,38],[19,16,19,38],[16,16,16,38],[17,16,17,38],[18,5,18,8],[18,9,18,12],[18,13,18,15],[16,5,16,8],[16,9,16,12],[16,13,16,15],[17,5,17,8],[17,9,17,12],[17,13,17,15],[13,16,13,38],[14,5,14,8],[14,9,14,12],[14,13,14,15],[15,5,15,8],[15,9,15,12],[15,13,15,15],[14,16,14,38],[15,16,15,38],[13,5,13,8],[13,9,13,12],[13,13,13,15],[0,0,5,43],[7,0,8,43],[11,16,11,38],[12,5,12,8],[12,9,12,12],[12,13,12,15],[12,16,12,38],[11,5,11,8],[11,9,11,12],[11,13,11,15],[28,16,28,38],[29,16,29,38],[30,16,30,38],[31,16,31,38],[32,16,32,38]]}
[]
[]
[]
[]
[]
[]
[]
["Record of Change"]
[]
[]
[]
[null,null,null,null,null,"Date",null,null,null,"Bulletin",null,null,null,"Rev#",null,null,"Pricebook Changes"]
[null,null,null,null,null,"2014-01-01",null,null,null,"YARARC",null,null,null,"B.0",null,null,"All Models - Price Changes"]
[null,null,null,null,null,"2015-01-01",null,null,null,"YARARC",null,null,null,"C.0",null,null,"All Models - Price Changes"]
[null,null,null,null,null,"2015-01-05",null,null,null,"YARARC",null,null,null,"D.0",null,null,"All Models - Price Changes"]
[null,null,null,null,null,"2016-07-20",null,null,null,"YARARC",null,null,null,"E.0",null,null,"7100 Removed from pricebook - Discontinued"]
[null,null,null,null,null,"2016-07-20",null,null,null,"YARARC",null,null,null,"E.0",null,null,"Currency Selection added to Cover"]
[null,null,null,null,null,"2017-10-01",null,null,null,"YARARC",null,null,null,"F.0",null,null,"Price revsions in accordance with PMG 2017 notification letter"]
[null,null,null,null,null,"2018-03-07",null,null,null,"YARARC",null,null,null,"G.0",null,null,"Price revsions in accordance with PMG 2018 notification letter"]
[null,null,null,null,null,"2018-07-27",null,null,null,"YARARC",null,null,null,"H.0",null,null,"Price revsions in accordance with PMG 2019 notification letter"]
[null,null,null,null,null,"2019-07-10",null,null,null,"YARARC",null,null,null,"I.0",null,null,"Price revsions in accordance with PMG 2020 notification letter"]
[null,null,null,null,null,"2020-08-01",null,null,null,"YARARC",null,null,null,"K.0",null,null,"Price revsions in accordance with PMG 2021 notification letter"]
[null,null,null,null,null,"2021-10-01",null,null,null,"YARARC",null,null,null,"L.0",null,null,"2022 price increase"]
[null,null,null,null,null,"2022-02-01",null,null,null,"YARARC",null,null,null,"M.0",null,null,"2022 mid-year price increase"]
[null,null,null,null,null,"2022-10-01",null,null,null,"YARARC",null,null,null,"N.0",null,null,"2023 price increase"]
[null,null,null,null,null,"2023-10-01",null,null,null,"YARARC",null,null,null,"O.0",null,null,"FY24 price increase"]
[null,null,null,null,null,"2024-10-01",null,null,null,"YARARC",null,null,null,"P.0",null,null,"FY25 price increase"]
[null,null,null,null,null,"2024-04-11",null,null,null,"YARARC",null,null,null,"P.1",null,null,"Cover page terms"]

{"sheet":"Instructions","index":8,"n_rows":38,"n_cols":34,"rows_kept":38,"cut":false,"hidden":false,"merged":[[30,26,32,31],[28,5,28,11],[29,5,29,11],[29,13,29,17],[29,19,29,24],[29,26,29,31],[0,0,5,43],[7,0,9,43],[35,5,35,11],[36,5,36,11],[36,13,36,17],[36,19,36,24],[36,26,36,31],[15,5,17,11],[15,13,17,17],[15,19,17,24],[15,26,17,31],[21,13,21,17],[21,19,21,24],[21,26,21,31],[15,33,17,38],[30,5,32,11],[37,5,39,11],[37,13,39,17],[37,19,39,24],[37,26,39,31],[14,33,14,38],[14,13,14,17],[14,19,14,24],[14,26,14,31],[22,5,24,11],[22,13,24,17],[22,19,24,24],[22,26,24,31],[20,5,20,11],[21,5,21,11],[30,13,32,17],[30,19,32,24]]}
[]
[]
[]
[]
[]
[]
[]
["Pricebook Breakdown"]
[]
[]
[]
[]
[]
[]
[null,null,null,null,null,null,null,null,null,null,null,null,null,"Required",null,null,null,null,null,"Optional",null,null,null,null,null,null,"Optional",null,null,null,null,null,null,"Optional"]
[null,null,null,null,null,"Total Valve\nList Price*",null,null,null,null,null,null,null,"Body\nList Price",null,null,null,null,null,"Soft Goods\nList Price",null,null,null,null,null,null,"Flange\nList Price",null,null,null,null,null,null,"NACE\nList Price"]
[null,null,null,null,null,null,null,null,null,null,null,null,"=",null,null,null,null,null,"+",null,null,null,null,null,null,"+",null,null,null,null,null,null,"+"]
[]
[]
[]
[null,null,null,null,null,"Example 1:"]
[null,null,null,null,null,"5304-06",null,null,null,null,null,null,null,"WCB",null,null,null,null,null,"Viton",null,null,null,null,null,null,"RTJ Flange"]
[null,null,null,null,null,{"$f":"SUM(N23,T23,AA23)","v":124440},null,null,null,null,null,null,null,121186,null,null,null,null,null,510,null,null,null,null,null,null,2744]
[]
[]
[]
[]
[]
[null,null,null,null,null,"Example 2:"]
[null,null,null,null,null,"9212-02",null,null,null,null,null,null,null,"CF8M",null,null,null,null,null,"Graphite Std",null,null,null,null,null,null,"Pressure Port"]
[null,null,null,null,null,{"$f":"SUM(N31,T31,AA31)","v":30417},null,null,null,null,null,null,null,29967,null,null,null,null,null,0,null,null,null,null,null,null,450]
[]
[]
[]
[]
[null,null,null,null,null,"Example 3:"]
[null,null,null,null,null,"9160-02-R300",null,null,null,null,null,null,null,"WCB",null,null,null,null,null,"EPDM",null,null,null,null,null,null,"NACE"]
[null,null,null,null,null,{"$f":"SUM(N38,T38,AA38)","v":14022},null,null,null,null,null,null,null,13340,null,null,null,null,null,227,null,null,null,null,null,null,455]

{"sheet":"Calculator","index":9,"n_rows":89,"n_cols":81,"rows_kept":89,"cut":false,"hidden":true,"merged":[[46,59,46,61],[45,59,45,61],[44,59,44,61],[43,59,43,61],[42,59,42,61],[41,59,41,61],[40,59,40,61],[39,59,39,61],[15,40,15,44],[30,52,30,57],[38,52,38,58],[38,59,38,61],[37,59,37,61],[36,59,36,61],[35,59,35,61],[34,59,34,61],[33,59,33,61],[31,59,31,66],[39,52,39,53],[40,52,40,53],[16,66,16,67],[17,66,17,67],[27,52,27,54],[22,52,22,54],[17,1,17,6],[13,12,13,19],[13,20,13,26],[16,12,16,19],[16,20,16,26],[17,20,17,26],[16,1,16,6],[15,1,15,6],[13,1,13,6],[14,12,14,19],[14,20,14,26],[17,7,17,10],[9,80,9,85],[12,55,12,57],[9,59,9,60],[8,72,8,79],[8,80,8,85],[12,80,12,85],[15,52,15,54],[10,72,10,79],[10,80,10,85],[11,72,11,79],[11,80,11,85],[8,62,8,64],[12,72,12,79],[9,72,9,79],[14,66,14,67],[15,66,15,67],[10,52,10,53],[12,66,12,67],[13,66,13,67],[10,62,10,64],[11,62,11,64],[12,62,12,64],[9,69,9,70],[7,80,7,85],[6,52,6,53],[6,55,6,57],[6,59,6,60],[6,66,6,67],[6,69,6,70],[8,52,8,53],[8,55,8,57],[8,59,8,60],[6,62,6,64],[7,62,7,64],[7,72,7,79],[7,69,7,70],[7,66,7,67],[2,72,4,85],[5,72,5,79],[5,80,5,85],[27,12,27,19],[27,20,27,26],[28,12,28,19],[28,20,28,26],[29,12,29,19],[29,20,29,26],[21,28,21,34],[21,35,21,39],[21,40,21,44],[25,12,25,19],[25,20,25,26],[26,12,26,19],[26,20,26,26],[19,28,19,34],[19,35,19,39],[19,40,19,44],[24,12,24,19],[24,20,24,26],[6,72,6,79],[6,80,6,85],[7,52,7,53],[30,12,30,19],[30,20,30,26],[2,51,4,71],[7,55,7,57],[7,59,7,60],[8,66,8,67],[8,69,8,70],[11,52,11,53],[9,55,9,57],[10,66,10,67],[9,52,9,53],[10,55,10,57],[11,66,11,67],[11,55,11,57],[10,59,10,60],[19,52,19,54],[15,28,15,34],[15,35,15,39],[14,35,14,39],[14,40,14,44],[13,28,13,34],[13,35,13,39],[9,66,9,67],[0,1,5,44],[10,1,12,6],[10,12,12,19],[10,20,12,26],[15,12,15,19],[15,20,15,26],[10,7,12,10],[13,7,13,10],[14,7,14,10],[15,7,15,10],[14,1,14,6],[14,28,14,34],[20,62,20,64],[18,40,18,44],[21,62,21,64],[22,62,22,64],[19,12,19,19],[18,62,18,64],[19,62,19,64],[14,62,14,64],[15,62,15,64],[16,52,16,54],[21,12,21,19],[21,20,21,26],[17,62,17,64],[16,62,16,64],[16,28,16,34],[26,52,26,54],[23,62,23,64],[24,62,24,64],[10,28,12,34],[10,35,12,39],[10,40,12,44],[16,35,16,39],[16,40,16,44],[18,12,18,19],[18,20,18,26],[20,28,20,34],[20,35,20,39],[20,40,20,44],[17,28,17,34],[17,35,17,39],[20,12,20,19],[20,20,20,26],[13,40,13,44],[13,62,13,64],[17,52,17,54],[22,12,22,19],[17,40,17,44],[17,12,17,19],[22,20,22,26],[23,12,23,19],[23,20,23,26],[21,52,21,54],[23,52,23,54],[24,52,24,54],[25,52,25,54],[18,28,18,34],[18,35,18,39],[19,20,19,26],[18,52,18,54]]}
[null,"List Price Calculator(1)"]
[]
[null,null,null,null,null,null,null,null,null,null,null,null,null,null,null,null,null,null,null,null,null,null,null,null,null,null,null,null,null,null,null,null,null,null,null,null,null,null,null,null,null,null,null,null,null,null,null,null,null,null,null,"Table Lists & Inclusions",null,null,null,null,null,null,null,null,null,null,null,null,null,null,null,null,null,null,null,null,"Pricing ERP Codes"]
[]
[]
[null,null,null,null,null,null,null,null,null,null,null,null,null,null,null,null,null,null,null,null,null,null,null,null,null,null,null,null,null,null,null,null,null,null,null,null,null,null,null,null,null,null,null,null,null,null,null,null,null,null,null,null,null,null,null,null,null,null,null,null,null,null,null,null,null,null,null,null,null,null,null,null,"Base Price ERP:",null,null,null,null,null,null,null,{"$f":"CONCATENATE(U14,U15,U16,U17,U20)","v":"920011508"}]
[null,null,null,null,null,null,null,null,null,null,null,null,null,null,null,null,null,null,null,null,null,null,null,null,null,null,null,null,null,null,null,null,null,null,null,null,null,null,null,null,null,null,null,null,null,null,null,null,null,null,null,null,"Series",null,null,"Pressure Class",null,null,null,"Body Material",null,null,"Orientation",null,null,null,"Size",null,null,"Options",null,null,"Soft Goods ERP:",null,null,null,null,null,null,null,{"$f":"CONCATENATE(U14,U17,U18)","v":"92008Virgin TFE/Turcon 1"}]
[null,null,null,null,null,null,null,null,null,null,null,null,null,null,null,null,null,null,null,null,null,null,null,null,null,null,null,null,null,null,null,null,null,null,null,null,null,null,null,null,null,null,null,null,null,null,null,null,null,null,null,null,5300,null,null,150,null,null,null,0,null,null,"Horizontal",null,null,null,0.75,0.75,null,"None",null,null,"Flange Face ERP:",null,null,null,null,null,null,null,{"$f":"CONCATENATE(U14,U17,U19)","v":"92008RF (Std)"}]
[null,null,null,null,null,null,null,null,null,null,null,null,null,null,null,null,null,null,null,null,null,null,null,null,null,null,null,null,null,null,null,null,null,null,null,null,null,null,null,null,null,null,null,null,null,null,null,null,null,null,null,null,7100,null,null,300,null,null,null,1,null,null,"Vertical",null,null,null,1,null,null,"NACE",null,null,"Option 1:",null,null,null,null,null,null,null,{"$f":"CONCATENATE(U14,U17,U26)","v":"92008NACE"}]
[null,null,null,null,null,null,null,null,null,null,null,null,null,null,null,null,null,null,null,null,null,null,null,null,null,null,null,null,null,null,null,null,null,null,null,null,null,null,null,null,null,null,null,null,null,null,null,null,null,null,null,null,9100,null,null,600,null,null,null,5,null,null,null,null,null,null,1.5,null,null,"Pressure Port",null,null,"Option 2:",null,null,null,null,null,null,null,{"$f":"CONCATENATE(U14,U17,U27)","v":"92008Pressure Port"}]
[null,"Line Data",null,null,null,null,null,"Input",null,null,null,null,"Valve Data",null,null,null,null,null,null,null,"Selection",null,null,null,null,null,null,null,"Price Item",null,null,null,null,null,null,"Unit Price",null,null,null,null,"Total Price",null,null,null,null,null,null,null,null,null,null,null,9200,null,null,900,null,null,null,6,null,null,"Soft Goods",null,null,null,2,null,null,null,null,null,"Option 3:"]
[null,null,null,null,null,null,null,null,null,null,null,null,null,null,null,null,null,null,null,null,null,null,null,null,null,null,null,null,null,null,null,null,null,null,null,null,null,null,null,null,null,null,null,null,null,null,null,null,null,null,null,null,"BPR",null,null,1500,null,null,null,null,null,null,"Graphite/Turcon 10 (Std)",null,null,null,3,null,null,null,null,null,"Option 4:"]
[null,null,null,null,null,null,null,null,null,null,null,null,null,null,null,null,null,null,null,null,null,null,null,null,null,null,null,null,null,null,null,null,null,null,null,null,null,null,null,null,null,null,null,null,null,null,null,null,null,null,null,null,null,null,null,2500,null,null,null,null,null,null,"TFEP/Turcon 10 (Std)",null,null,null,4,null,null,null,null,null,"Option 5:"]
[null,"Line Item*:",null,null,null,null,null,1,null,null,null,null,"Series*:",null,null,null,null,null,null,null,9200,null,null,null,null,null,null,null,"Base Price",null,null,null,null,null,null,{"$f":"VLOOKUP(CC6,'SAP VC'!V:V,2,FALSE)","v":{"$error":"#N/A"}},null,null,null,null,{"$f":"$H$16*AJ14","v":{"$error":"#N/A"}},null,null,null,null,null,null,null,null,null,null,null,null,null,null,null,null,null,null,null,null,null,"PTFE (Flouraz) (Std)",null,null,null,6]
[null,"Customer Tag(s):",null,null,null,null,null,null,null,null,null,null,"Body Material:",null,null,null,null,null,null,null,1,null,null,null,null,null,null,null,"Soft Goods",null,null,null,null,null,null,{"$f":"IF(COUNTIF(SGSTD,U18)=1,0,VLOOKUP(CC7,'SAP VC'!V:V,2,FALSE))","v":{"$error":"#N/A"}},null,null,null,null,{"$f":"$H$16*AJ15","v":{"$error":"#N/A"}},null,null,null,null,null,null,null,null,null,null,null,null,null,null,null,null,null,null,null,null,null,"TFEP/Turcon 1 ",null,null,null,8]
[null,"Quantity*:",null,null,null,null,null,1,null,null,null,null,"Pressure Class",null,null,null,null,null,null,null,150,null,null,null,null,null,null,null,"Flange Face",null,null,null,null,null,null,{"$f":"IF(COUNTIF(BA17:BC18,U19)=1,0,VLOOKUP(CC8,'SAP VC'!V:V,2,FALSE))","v":0},null,null,null,null,0,null,null,null,null,null,null,null,null,null,null,null,"Flange Face",null,null,null,null,null,null,null,null,null,"Viton/Turcon 10",null,null,null,10]
[null,"Enter Model #:",null,null,null,null,null,null,null,null,null,null,"Valve Size:",null,null,null,null,null,null,null,8,null,null,null,null,null,null,null,{"$f":"U26","v":"NACE"},null,null,null,null,null,null,{"$f":"IF(AC17=\"None\",0,VLOOKUP(CC9,'SAP VC'!V:V,2,FALSE))","v":{"$error":"#N/A"}},null,null,null,null,{"$error":"#N/A"},null,null,null,null,null,null,null,null,null,null,null,"RF (Std)",null,null,null,null,null,null,null,null,null,"Viton/Turcon 1 ",null,null,null,12]
[null,"Discount %:",null,null,null,null,null,0.5,null,null,null,null,"Soft Goods:",null,null,null,null,null,null,null,"Virgin TFE/Turcon 1",null,null,null,null,null,null,null,{"$f":"U27","v":"Pressure Port"},null,null,null,null,null,null,{"$f":"IF(AC18=\"None\",0,VLOOKUP(CC10,'SAP VC'!V:V,2,FALSE))","v":{"$error":"#N/A"}},null,null,null,null,{"$error":"#N/A"},null,null,null,null,null,null,null,null,null,null,null,"Wafer BPR (Std)",null,null,null,null,null,null,null,null,null,"EPDM/Turcon 10",null,null,null,14]
[null,null,null,null,null,null,null,null,null,null,null,null,"Flange Face:",null,null,null,null,null,null,null,"RF (Std)",null,null,null,null,null,null,null,"None",null,null,null,null,null,null,{"$f":"IF(AC19=\"None\",0,VLOOKUP(CC11,'SAP VC'!V:V,2,FALSE))","v":0},null,null,null,null,0,null,null,null,null,null,null,null,null,null,null,null,"BWE",null,null,null,null,null,null,null,null,null,"EPDM/Turcon 1 "]
[null,null,null,null,null,null,null,null,null,null,null,null,"Back Pressure (BPR)",null,null,null,null,null,null,null,null,null,null,null,null,null,null,null,"None",null,null,null,null,null,null,{"$f":"IF(AC20=\"None\",0,VLOOKUP(CC12,'SAP VC'!V:V,2,FALSE))","v":0},null,null,null,null,0,null,null,null,null,null,null,null,null,null,null,null,"RTJ",null,null,null,null,null,null,null,null,null,"Graphite/Turcon 1 "]
[null,null,null,null,null,null,null,null,null,null,null,null,"Main Cv",null,null,null,null,null,null,null,null,null,null,null,null,null,null,null,"Custom Option:",null,null,null,null,null,null,0,null,null,null,null,0,null,null,null,null,null,null,null,null,null,null,null,null,null,null,null,null,null,null,null,null,null,"Virgin TFE/Turcon 1"]
[null,null,null,null,null,null,null,null,null,null,null,null,"Bypass Cv",null,null,null,null,null,null,null,null,null,null,null,null,null,null,null,"TOTAL",null,null,null,null,null,null,{"$f":"SUM(AJ14:AJ21)","v":{"$error":"#N/A"}},null,null,null,null,{"$f":"SUM(AO14:AO20)","v":{"$error":"#N/A"}},null,null,null,null,null,null,null,null,null,null,null,"Back Pressure",null,null,null,null,null,null,null,null,null,"Viton"]
[null,null,null,null,null,null,null,null,null,null,null,null,"Orientation",null,null,null,null,null,null,null,null,null,null,null,null,null,null,null,null,null,null,null,null,null,null,null,null,null,null,null,null,null,null,null,null,null,null,null,null,null,null,null,null,null,null,null,null,null,null,null,null,null,"EPDM"]
[null,"*","Required Fields",null,null,null,null,null,null,null,null,null,"Process Fluid",null,null,null,null,null,null,null,null,null,null,null,null,null,null,null,null,null,null,null,null,null,null,null,null,null,null,null,null,null,null,null,null,null,null,null,null,null,null,null,"R100",null,null,null,null,null,null,null,null,null,"Kalrez"]
[null,null,null,null,null,null,null,null,null,null,null,null,"Pipe Schedule (BWE)",null,null,null,null,null,null,null,null,null,null,null,null,null,null,null,null,null,null,null,null,null,null,null,null,null,null,null,null,null,null,null,null,null,null,null,null,null,null,null,"R200",null,null,null,null,null,null,null,null,null,"Variseal (Turcite)"]
[null,null,null,null,null,null,null,null,null,null,null,null,"Option 1:",null,null,null,null,null,null,null,"NACE",null,null,null,null,null,null,null,null,null,null,null,null,null,null,null,null,null,null,null,null,null,null,null,null,null,null,null,null,null,null,null,"R300"]
[null,null,null,null,null,null,null,null,null,null,null,null,"Option 2:",null,null,null,null,null,null,null,"Pressure Port",null,null,null,null,null,null,null,null,null,null,null,null,null,null,null,null,null,null,null,null,null,null,null,null,null,null,null,null,null,null,null,"R400"]
[null,null,null,null,null,null,null,null,null,null,null,null,"Option 3:",null,null,null,null,null,null,null,"None",null,null,null,null,null,null,null,null,null,null,null,null,null,null,null,null,null,null,null,null,null,null,null,null,null,null,null,null,null,null,null,"R500"]
[null,null,null,null,null,null,null,null,null,null,null,null,"Option 4:",null,null,null,null,null,null,null,"None"]
[null,null,null,null,null,null,null,null,null,null,null,null,"Option 5:",null,null,null,null,null,null,null,"None"]
[null,null,null,null,null,null,null,null,null,null,null,null,"Custom Option:",null,null,null,null,null,null,null,"None",null,null,null,null,null,null,null,null,null,null,null,null,null,null,null,null,null,null,null,null,null,null,null,null,null,null,null,null,null,null,null,"Pressure Class - C/I Table"]
[null,null,null,null,null,null,null,null,null,null,null,null,null,null,null,null,null,null,null,null,null,null,null,null,null,null,null,null,null,null,null,null,null,null,null,null,null,null,null,null,null,null,null,null,null,null,null,null,null,null,null,null,150,300,600,900,1500,2500,null,"Soft Goods - C/I Table"]
[null,null,null,null,null,null,null,null,null,null,null,null,null,null,null,null,null,null,null,null,null,null,null,null,null,null,null,null,null,null,null,null,null,null,null,null,null,null,null,null,null,null,null,null,null,null,null,null,null,null,null,null,9200,9200,null,null,null,null,null,null,null,null,5300,7100,9100,9200,"BPR"]
[null,null,null,null,null,null,null,null,null,null,null,null,null,null,null,null,null,null,null,null,null,null,null,null,null,null,null,null,null,null,null,null,null,null,null,null,null,null,null,null,null,null,null,null,null,null,null,null,null,null,null,null,null,9100,9100,null,null,null,null,"Graphite/Turcon 10 (Std)",null,null,null,null,null,9200]
[null,null,null,null,null,null,null,null,null,null,null,null,null,null,null,null,null,null,null,null,null,null,null,null,null,null,null,null,null,null,null,null,null,null,null,null,null,null,null,null,null,null,null,null,null,null,null,null,null,null,null,null,null,null,null,5300,5300,5300,null,"TFEP/Turcon 10 (Std)",null,null,null,null,null,9200]
[null,null,null,null,null,null,null,null,null,null,null,null,null,null,null,null,null,null,null,null,null,null,null,null,null,null,null,null,null,null,null,null,null,null,null,null,null,null,null,null,null,null,null,null,null,null,null,null,null,null,null,null,null,null,null,7100,7100,null,null,"PTFE (Flouraz) (Std)",null,null,5300,7100,9100,null,"BPR"]
[null,null,null,null,null,null,null,null,null,null,null,null,null,null,null,null,null,null,null,null,null,null,null,null,null,null,null,null,null,null,null,null,null,null,null,null,null,null,null,null,null,null,null,null,null,null,null,null,null,null,null,null,null,null,null,null,"BPR",null,null,"TFEP/Turcon 1 ",null,null,null,null,null,9200]
[null,null,null,null,null,null,null,null,null,null,null,null,null,null,null,null,null,null,null,null,null,null,null,null,null,null,null,null,null,null,null,null,null,null,null,null,null,null,null,null,null,null,null,null,null,null,null,null,null,null,null,null,null,null,null,null,null,null,null,"Viton/Turcon 10",null,null,null,null,null,9200]
[null,null,null,null,null,null,null,null,null,null,null,null,null,null,null,null,null,null,null,null,null,null,null,null,null,null,null,null,null,null,null,null,null,null,null,null,null,null,null,null,null,null,null,null,null,null,null,null,null,null,null,null,"Flange Face",null,null,null,null,null,null,"Viton/Turcon 1 ",null,null,null,null,null,9200]
[null,null,null,null,null,null,null,null,null,null,null,null,null,null,null,null,null,null,null,null,null,null,null,null,null,null,null,null,null,null,null,null,null,null,null,null,null,null,null,null,null,null,null,null,null,null,null,null,null,null,null,null,null,null,5300,7100,9100,9200,"BPR","EPDM/Turcon 10",null,null,null,null,null,9200]
[null,null,null,null,null,null,null,null,null,null,null,null,null,null,null,null,null,null,null,null,null,null,null,null,null,null,null,null,null,null,null,null,null,null,null,null,null,null,null,null,null,null,null,null,null,null,null,null,null,null,null,null,"RF (Std)",null,5300,7100,9100,9200,null,"EPDM/Turcon 1 ",null,null,null,null,null,9200]
[null,null,null,null,null,null,null,null,null,null,null,null,null,null,null,null,null,null,null,null,null,null,null,null,null,null,null,null,null,null,null,null,null,null,null,null,null,null,null,null,null,null,null,null,null,null,null,null,null,null,null,null,"Wafer BPR (Std)",null,null,null,null,null,"BPR","Graphite/Turcon 1 ",null,null,null,null,null,9200]
[null,null,null,null,null,null,null,null,null,null,null,null,null,null,null,null,null,null,null,null,null,null,null,null,null,null,null,null,null,null,null,null,null,null,null,null,null,null,null,null,null,null,null,null,null,null,null,null,null,null,null,null,"FF",null,5300,7000,9100,9200,null,"Virgin TFE/Turcon 1",null,null,null,null,null,9200]
[null,null,null,null,null,null,null,null,null,null,null,null,null,null,null,null,null,null,null,null,null,null,null,null,null,null,null,null,null,null,null,null,null,null,null,null,null,null,null,null,null,null,null,null,null,null,null,null,null,null,null,null,"BWE",null,5300,7100,null,null,null,"Viton",null,null,5300,7100,9100,null,"BPR"]
[null,null,null,null,null,null,null,null,null,null,null,null,null,null,null,null,null,null,null,null,null,null,null,null,null,null,null,null,null,null,null,null,null,null,null,null,null,null,null,null,null,null,null,null,null,null,null,null,null,null,null,null,"RTJ",null,5300,7100,null,null,null,"EPDM",null,null,5300,7100,9100,null,"BPR"]
[null,null,null,null,null,null,null,null,null,null,null,null,null,null,null,null,null,null,null,null,null,null,null,null,null,null,null,null,null,null,null,null,null,null,null,null,null,null,null,null,null,null,null,null,null,null,null,null,null,null,null,null,null,null,null,null,null,null,null,"Kalrez",null,null,5300,null,9100]
[null,null,null,null,null,null,null,null,null,null,null,null,null,null,null,null,null,null,null,null,null,null,null,null,null,null,null,null,null,null,null,null,null,null,null,null,null,null,null,null,null,null,null,null,null,null,null,null,null,null,null,null,null,null,null,null,null,null,null,"Variseal (Turcite)",null,null,null,null,9100]
[]
[]
[]
[]
[]
[]
[]
[]
[]
[]
[]
[]
[]
[]
[]
[]
[]
[]
[]
[]
[]
[]
[]
[]
[]
[]
[]
[]
[]
[]
[]
[]
[]
[]
[]
[]
[]
[]
["(1)","This list price calculator is to be used for pricing only."]
[null,"This tool is neither a sizing program nor configuration engine."]
[null,"All valves should be properly sized and configured before using this tool."]
[null,"Invalid selections are possible.  Consult factory for all Priced on Application (POA) pricing."]

{"sheet":"Quote","index":10,"n_rows":13,"n_cols":43,"rows_kept":13,"cut":false,"hidden":true,"merged":[[8,24,10,25],[8,39,10,39],[8,40,10,40],[8,41,10,41],[8,42,10,42],[8,28,10,29],[8,30,10,31],[8,32,10,33],[8,34,10,35],[8,36,10,37],[8,38,10,38],[8,14,10,15],[8,16,10,17],[8,18,10,19],[8,20,10,21],[8,22,10,23],[6,26,7,37],[6,38,7,42],[8,0,10,0],[8,1,10,1],[8,2,10,2],[8,3,10,3],[8,4,10,4],[8,5,10,5],[8,6,10,6],[8,7,10,7],[8,26,10,27],[8,8,10,8],[8,9,10,9],[8,10,10,10],[8,11,10,11],[8,12,10,13],[3,4,3,5],[3,6,3,8],[4,4,4,5],[4,6,4,8],[6,0,7,3],[6,4,7,25],[1,4,1,5],[1,6,1,8],[1,12,1,13],[1,14,1,16],[2,4,2,5],[2,6,2,8],[2,12,2,13],[2,14,2,16]]}
[]
[null,null,null,null,"Customer:",null,null,null,null,null,null,null,"Salesperson:"]
[null,null,null,null,"Project:",null,null,null,null,null,null,null,"Sales Office:"]
[null,null,null,null,"Quote:",null,null,null,null,"Rev:"]
[null,null,null,null,"Date:"]
[]
["LINE ITEM DATA",null,null,null,"VALVE DATA & LIST PRICES",null,null,null,null,null,null,null,null,null,null,null,null,null,null,null,null,null,null,null,null,null,"OPTIONS & LIST PRICES",null,null,null,null,null,null,null,null,null,null,null,"PRICING"]
[]
["Line","Customer Tag(s)","QTY","Model #","UOM Pressure","Set Pressure","Constant SP BP","UOM Temp","Relieving Temp","Service","Model","Inlet x Outlet","Base Model",null,"Seat",null,"Cap",null,"Material",null,"NACE",null,"Inlet Connection",null,"Outlet Connection",null,"Option 1",null,"Option 2",null,"Option 3",null,"Option 4",null,"Option 5",null,"Custom Option",null,"Unit List Price","Discount %","Unit Net Price","Net Adder(s)","TOTAL NET PRICE"]
[]
[]
[null,null,null,null,null,null,null,null,null,null,null,null,"Model","Price","Seat","Price","Cap Type","Price","Material","Price","NACE","Price","Type","Price","Type","Price","Option","Price","Option","Price","Option","Price","Option","Price","Option","Price","Option","Price"]
[0,1,0,1,0,5300,0,1500,6,"TFEP/Turcon 1 ",0," x ",0,0,0,192902,"None",{"$error":"#N/A"},0,0,0,{"$error":"#N/A"},"None",{"$error":"#N/A"},"None",0,"None",0,"Custom Option:",0,"TOTAL",{"$error":"#N/A"},0,0,0,0,0,0,{"$f":"SUM(N13,P13,R13,T13,V13,X13,Z13,AB13,AD13,AF13,AH13,AJ13,AL13)","v":{"$error":"#N/A"}},0,{"$f":"AM13*(1-AN13)","v":{"$error":"#N/A"}},null,{"$f":"(AO13+AP13)*C13","v":{"$error":"#N/A"}}]

{"sheet":"Page 1","index":11,"n_rows":35,"n_cols":41,"rows_kept":35,"cut":false,"hidden":false,"merged":[[13,36,17,37],[13,24,13,31],[14,8,14,23],[15,8,15,15],[15,16,15,23],[23,3,30,5],[23,6,30,7],[23,8,26,23],[16,20,17,23],[14,24,17,25],[14,26,17,27],[20,20,20,23],[21,20,21,23],[20,12,20,15],[21,12,21,15],[14,28,17,29],[14,30,17,31],[16,8,17,11],[16,12,17,15],[16,16,17,19],[23,24,25,31],[18,12,18,15],[19,12,19,15],[20,16,20,19],[34,6,34,7],[32,3,32,5],[33,3,33,5],[34,3,34,5],[10,3,17,5],[10,6,17,7],[32,6,32,7],[33,6,33,7],[20,6,20,7],[21,6,21,7],[31,6,31,7],[21,3,21,5],[18,24,18,25],[18,26,18,27],[31,3,31,5],[27,8,27,23],[19,30,19,31],[18,16,18,19],[19,16,19,19],[18,6,18,7],[19,6,19,7],[21,16,21,19],[21,24,21,25],[20,8,20,11],[21,8,21,11],[21,26,21,27],[21,28,21,29],[20,24,20,25],[20,26,20,27],[18,28,18,29],[18,30,18,31],[20,30,20,31],[20,28,20,29],[19,28,19,29],[31,20,31,23],[28,16,28,23],[29,8,30,11],[31,24,31,25],[31,26,31,27],[26,24,26,31],[27,24,30,25],[27,26,30,27],[27,28,30,29],[27,30,30,31],[28,8,28,15],[29,12,30,15],[29,16,30,19],[29,20,30,23],[31,8,31,11],[31,12,31,15],[31,16,31,19],[34,8,34,11],[34,12,34,15],[34,16,34,19],[34,20,34,23],[34,24,34,25],[34,26,34,27],[32,28,32,29],[32,30,32,31],[33,8,33,11],[33,12,33,15],[33,16,33,19],[33,20,33,23],[33,24,33,25],[33,26,33,27],[33,28,33,29],[33,30,33,31],[32,8,32,11],[32,12,32,15],[32,16,32,19],[32,20,32,23],[32,24,32,25],[32,26,32,27],[34,28,34,29],[34,30,34,31],[18,32,18,33],[18,34,18,35],[18,38,18,39],[19,32,19,33],[19,34,19,35],[19,36,19,37],[19,38,19,39],[20,32,20,33],[31,28,31,29],[31,30,31,31],[21,30,21,31],[26,32,30,33],[26,34,30,35],[26,36,30,37],[26,38,30,39],[21,32,21,33],[21,34,21,35],[21,36,21,37],[21,38,21,39],[0,0,5,43],[10,32,12,41],[13,40,17,41],[19,40,19,41],[18,40,18,41],[20,40,20,41],[18,36,18,37],[18,20,18,23],[19,20,19,23],[18,8,18,11],[18,3,18,5],[19,3,19,5],[20,3,20,5],[20,34,20,35],[20,36,20,37],[20,38,20,39],[19,8,19,11],[19,24,19,25],[19,26,19,27],[10,8,13,23],[10,24,12,31],[13,38,17,39],[13,32,17,33],[13,34,17,35],[21,40,21,41],[26,40,30,41],[31,40,31,41],[32,40,32,41],[33,40,33,41],[34,40,34,41],[23,32,25,41],[34,32,34,33],[34,34,34,35],[34,36,34,37],[34,38,34,39],[32,32,32,33],[32,34,32,35],[32,36,32,37],[32,38,32,39],[31,36,31,37],[33,32,33,33],[33,34,33,35],[33,36,33,37],[33,38,33,39],[31,32,31,33],[31,34,31,35],[31,38,31,39]]}
["ARC Series 5300"]
[]
[]
[]
[]
[]
[]
[]
[null,null,null,null,null,null,null,null,null,null,null,null,null,null,null,null,null,null,null,null,null,null,null,null,null,null,null,null,null,null,null,null,"TOC"]
[]
[null,null,null,"Valve Size (in.)",null,null,"Bypass Outlet Size (in.)",null,"Valve Assembly List Price (53)",null,null,null,null,null,null,null,null,null,null,null,null,null,null,null,"Soft Goods Adders",null,null,null,null,null,null,null,"Flange Adders & Options"]
[]
[]
[null,null,null,null,null,null,null,null,null,null,null,null,null,null,null,null,null,null,null,null,null,null,null,null,"Seal Material",null,null,null,null,null,null,null,"Raised Face (RF)  (STD)",null,"RTJ (RJ)",null,"BWE (BW)",null,"NACE (N)",null,"Pressure Gauge Port (Ea)"]
[null,null,null,null,null,null,null,null,"ANSI CLASS",null,null,null,null,null,null,null,null,null,null,null,null,null,null,null,"PTFE (P) (STD)",null,"Viton (V)",null,"EPDM (E)",null,"Kalrez (K)"]
[null,null,null,null,null,null,null,null,"900 # (4)",null,null,null,null,null,null,null,"1500 # (5)"]
[null,null,null,null,null,null,null,null,"WCB (0)",null,null,null,"CF8M (1)",null,null,null,"WCB (0)",null,null,null,"CF8M (1)"]
[]
[null,null,null,"3 (-03)",null,null,1,null,{"$f":"'SAP VC'!AE2","v":139862},null,null,null,{"$f":"'SAP VC'!AE6","v":"POA"},null,null,null,{"$f":"'SAP VC'!AE10","v":144524},null,null,null,{"$f":"'SAP VC'!AE14","v":"POA"},null,null,null,{"$f":"'SAP VC'!$V$433","v":0},null,{"$f":"'SAP VC'!$V$98","v":645},null,{"$f":"'SAP VC'!$V$96","v":451},null,{"$f":"'SAP VC'!$V$97","v":964},null,{"$f":"'SAP VC'!$V$166","v":0},null,{"$f":"'SAP VC'!AE167","v":2876},null,{"$f":"'SAP VC'!AE171","v":1919},null,{"$f":"'SAP VC'!$V$140","v":645},null,{"$f":"'SAP VC'!AE834","v":612}]
[null,null,null,"4 (-04)",null,null,"1.5",null,{"$f":"'SAP VC'!AE3","v":146106},null,null,null,{"$f":"'SAP VC'!AE7","v":"POA"},null,null,null,{"$f":"'SAP VC'!AE11","v":151144},null,null,null,{"$f":"'SAP VC'!AE15","v":"POA"},null,null,null,{"$f":"'SAP VC'!$V$433","v":0},null,{"$f":"'SAP VC'!$V$181","v":678},null,{"$f":"'SAP VC'!$V$175","v":502},null,{"$f":"'SAP VC'!$V$178","v":1000},null,{"$f":"'SAP VC'!$V$166","v":0},null,{"$f":"'SAP VC'!AE168","v":3196},null,{"$f":"'SAP VC'!AE172","v":2240},null,{"$f":"'SAP VC'!$V$141","v":645},null,{"$f":"'SAP VC'!AE835","v":612}]
[null,null,null,"6 (-06)",null,null,2,null,{"$f":"'SAP VC'!AE4","v":169212},null,null,null,{"$f":"'SAP VC'!AE8","v":"POA"},null,null,null,{"$f":"'SAP VC'!AE12","v":175045},null,null,null,{"$f":"'SAP VC'!AE16","v":"POA"},null,null,null,{"$f":"'SAP VC'!$V$433","v":0},null,{"$f":"'SAP VC'!$V$182","v":714},null,{"$f":"'SAP VC'!$V$176","v":538},null,{"$f":"'SAP VC'!$V$179","v":1035},null,{"$f":"'SAP VC'!$V$166","v":0},null,{"$f":"'SAP VC'!AE169","v":3835},null,{"$f":"'SAP VC'!AE173","v":2558},null,{"$f":"'SAP VC'!$V$142","v":962},null,{"$f":"'SAP VC'!AE836","v":781}]
[null,null,null,"8 (-08)",null,null,"2.5",null,{"$f":"'SAP VC'!AE5","v":203799},null,null,null,{"$f":"'SAP VC'!AE9","v":"POA"},null,null,null,{"$f":"'SAP VC'!AE13","v":210827},null,null,null,{"$f":"'SAP VC'!AE17","v":"POA"},null,null,null,{"$f":"'SAP VC'!$V$433","v":0},null,{"$f":"'SAP VC'!$V$183","v":749},null,{"$f":"'SAP VC'!$V$177","v":573},null,{"$f":"'SAP VC'!$V$180","v":1072},null,{"$f":"'SAP VC'!$V$166","v":0},null,{"$f":"'SAP VC'!AE170","v":4472},null,{"$f":"'SAP VC'!AE174","v":3196},null,{"$f":"'SAP VC'!$V$143","v":962},null,{"$f":"'SAP VC'!AE837","v":781}]
[]
[null,null,null,"Valve Size (in.)",null,null,"Bypass Outlet Size (in.)",null,"Valve Assembly List Price (53)",null,null,null,null,null,null,null,null,null,null,null,null,null,null,null,"Soft Goods Adders",null,null,null,null,null,null,null,"Flange Adders & Options"]
[]
[]
[null,null,null,null,null,null,null,null,null,null,null,null,null,null,null,null,null,null,null,null,null,null,null,null,"Seal Material",null,null,null,null,null,null,null,"Raised Face (RF)  (STD)",null,"RTJ (RJ)",null,"BWE (BW)",null,"NACE (N)",null,"Pressure Gauge Port (Ea)"]
[null,null,null,null,null,null,null,null,"ANSI CLASS",null,null,null,null,null,null,null,null,null,null,null,null,null,null,null,"PTFE (P) (STD)",null,"Viton (V)",null,"EPDM (E)",null,"Kalrez (K)"]
[null,null,null,null,null,null,null,null,"2500 # (6)",null,null,null,null,null,null,null,"--"]
[null,null,null,null,null,null,null,null,"WCB (0)",null,null,null,"CF8M (1)",null,null,null,"--",null,null,null,"--"]
[]
[null,null,null,"3 (-03)",null,null,1,null,{"$f":"'SAP VC'!AE18","v":146975},null,null,null,{"$f":"'SAP VC'!AE46","v":"POA"},null,null,null,"--",null,null,null,"--",null,null,null,{"$f":"'SAP VC'!$V$433","v":0},null,{"$f":"'SAP VC'!$V$98","v":645},null,{"$f":"'SAP VC'!$V$96","v":451},null,{"$f":"'SAP VC'!$V$97","v":964},null,{"$f":"AG19","v":0},null,{"$f":"AI19","v":2876},null,{"$f":"AK19","v":1919},null,{"$f":"AM19","v":645},null,{"$f":"AO19","v":612}]
[null,null,null,"4 (-04)",null,null,"1.5",null,{"$f":"'SAP VC'!AE19","v":153796},null,null,null,{"$f":"'SAP VC'!AE47","v":"POA"},null,null,null,"--",null,null,null,"--",null,null,null,{"$f":"'SAP VC'!$V$433","v":0},null,{"$f":"'SAP VC'!$V$181","v":678},null,{"$f":"'SAP VC'!$V$175","v":502},null,{"$f":"'SAP VC'!$V$178","v":1000},null,{"$f":"AG20","v":0},null,{"$f":"AI20","v":3196},null,{"$f":"AK20","v":2240},null,{"$f":"AM20","v":645},null,{"$f":"AO20","v":612}]
[null,null,null,"6 (-06)",null,null,2,null,{"$f":"'SAP VC'!AE20","v":178116},null,null,null,{"$f":"'SAP VC'!AE48","v":"POA"},null,null,null,"--",null,null,null,"--",null,null,null,{"$f":"'SAP VC'!$V$433","v":0},null,{"$f":"'SAP VC'!$V$182","v":714},null,{"$f":"'SAP VC'!$V$176","v":538},null,{"$f":"'SAP VC'!$V$179","v":1035},null,{"$f":"AG21","v":0},null,{"$f":"AI21","v":3835},null,{"$f":"AK21","v":2558},null,962,null,{"$f":"AO21","v":781}]
[null,null,null,"8 (-08)",null,null,"2.5",null,{"$f":"'SAP VC'!AE21","v":214525},null,null,null,{"$f":"'SAP VC'!AE49","v":"POA"},null,null,null,"--",null,null,null,"--",null,null,null,{"$f":"'SAP VC'!$V$433","v":0},null,{"$f":"'SAP VC'!$V$183","v":749},null,{"$f":"'SAP VC'!$V$177","v":573},null,{"$f":"'SAP VC'!$V$180","v":1072},null,{"$f":"AG22","v":0},null,{"$f":"AI22","v":4472},null,{"$f":"AK22","v":3196},null,962,null,{"$f":"AO22","v":781}]

{"sheet":"Page 2","index":12,"n_rows":42,"n_cols":40,"rows_kept":42,"cut":false,"hidden":false,"merged":[[21,37,21,38],[24,33,24,34],[22,33,22,34],[20,37,20,38],[20,35,20,36],[23,33,23,34],[24,25,24,26],[21,31,21,32],[21,29,21,30],[24,29,24,30],[24,31,24,32],[22,25,22,26],[22,27,22,28],[21,35,21,36],[20,33,20,34],[24,4,24,6],[24,9,24,12],[24,13,24,16],[24,17,24,20],[24,21,24,24],[19,25,19,26],[19,27,19,28],[18,21,18,24],[20,17,20,20],[20,21,20,24],[24,27,24,28],[23,7,23,8],[18,9,18,12],[22,9,22,12],[22,13,22,16],[20,13,20,16],[19,17,19,20],[18,13,18,16],[18,17,18,20],[24,7,24,8],[23,9,23,12],[20,9,20,12],[21,9,21,12],[21,13,21,16],[20,4,20,6],[21,4,21,6],[19,29,19,30],[22,4,22,6],[23,4,23,6],[22,17,22,20],[22,21,22,24],[16,17,17,20],[16,13,17,16],[19,9,19,12],[20,27,20,28],[20,29,20,30],[21,17,21,20],[19,21,19,24],[19,13,19,16],[21,21,21,24],[10,7,17,8],[18,7,18,8],[23,13,23,16],[16,21,17,24],[20,7,20,8],[21,7,21,8],[22,7,22,8],[23,17,23,20],[23,21,23,24],[19,7,19,8],[10,25,12,34],[13,25,13,34],[14,25,17,26],[14,27,17,28],[21,33,21,34],[19,33,19,34],[18,25,18,26],[23,25,23,26],[23,27,23,28],[23,29,23,30],[18,31,18,32],[20,25,20,26],[22,29,22,30],[21,25,21,26],[20,31,20,32],[22,31,22,32],[23,31,23,32],[21,27,21,28],[10,9,13,24],[14,9,14,24],[35,4,35,6],[35,7,35,8],[35,9,35,12],[35,13,35,16],[35,17,35,20],[35,21,35,24],[35,25,35,26],[35,27,35,28],[33,13,34,16],[33,17,34,20],[27,4,34,6],[27,7,34,8],[30,25,30,34],[31,9,31,24],[31,25,34,26],[31,27,34,28],[31,29,34,30],[31,31,34,32],[27,25,29,34],[27,9,30,24],[32,9,32,24],[33,9,34,12],[36,29,36,30],[36,31,36,32],[37,29,37,30],[37,31,37,32],[37,33,37,34],[36,33,36,34],[36,17,36,20],[31,33,34,34],[33,21,34,24],[35,29,35,30],[35,31,35,32],[35,33,35,34],[37,25,37,26],[37,27,37,28],[36,21,36,24],[36,25,36,26],[36,27,36,28],[37,4,37,6],[37,7,37,8],[37,9,37,12],[37,13,37,16],[37,17,37,20],[37,21,37,24],[36,4,36,6],[36,7,36,8],[36,9,36,12],[36,13,36,16],[40,7,40,8],[40,9,40,12],[40,13,40,16],[40,17,40,20],[38,35,38,36],[39,4,39,6],[39,7,39,8],[39,9,39,12],[39,13,39,16],[39,17,39,20],[39,21,39,24],[39,25,39,26],[39,27,39,28],[38,21,38,24],[38,25,38,26],[38,27,38,28],[38,29,38,30],[38,31,38,32],[38,33,38,34],[38,4,38,6],[38,7,38,8],[38,9,38,12],[38,13,38,16],[38,17,38,20],[21,39,21,40],[41,39,41,40],[27,35,29,40],[41,4,41,6],[41,7,41,8],[41,9,41,12],[41,13,41,16],[41,17,41,20],[41,21,41,24],[41,25,41,26],[40,21,40,24],[40,25,40,26],[40,27,40,28],[40,29,40,30],[40,31,40,32],[41,31,41,32],[40,33,40,34],[41,27,41,28],[41,29,41,30],[39,29,39,30],[39,31,39,32],[39,33,39,34],[41,33,41,34],[40,4,40,6],[0,0,5,43],[10,35,12,40],[13,39,17,40],[18,39,18,40],[19,39,19,40],[20,39,20,40],[19,31,19,32],[10,4,17,6],[18,4,18,6],[19,4,19,6],[13,35,17,36],[13,37,17,38],[18,35,18,36],[18,33,18,34],[18,37,18,38],[19,35,19,36],[19,37,19,38],[14,29,17,30],[15,9,15,24],[14,31,17,32],[14,33,17,34],[16,9,17,12],[18,29,18,30],[18,27,18,28],[38,39,38,40],[41,37,41,38],[39,35,39,36],[39,37,39,38],[38,37,38,38],[39,39,39,40],[40,39,40,40],[41,35,41,36],[40,35,40,36],[40,37,40,38],[22,39,22,40],[23,39,23,40],[24,39,24,40],[30,39,34,40],[37,35,37,36],[37,37,37,38],[35,39,35,40],[36,39,36,40],[37,39,37,40],[24,35,24,36],[35,35,35,36],[35,37,35,38],[36,37,36,38],[36,35,36,36],[30,35,34,36],[30,37,34,38],[24,37,24,38],[22,35,22,36],[22,37,22,38],[23,35,23,36],[23,37,23,38]]}
["ARC Series 9100"]
[]
[]
[]
[]
[]
[]
[]
[]
[]
[null,null,null,null,"Valve Size (in.)",null,null,"Bypass Outlet Size (in.)",null,"Valve Assembly List Price (91)",null,null,null,null,null,null,null,null,null,null,null,null,null,null,null,"Soft Goods Adders",null,null,null,null,null,null,null,null,null,"Options"]
[]
[]
[null,null,null,null,null,null,null,null,null,null,null,null,null,null,null,null,null,null,null,null,null,null,null,null,null,"Seals/Snubber Material",null,null,null,null,null,null,null,null,null,"Raised Face (RF)  (STD)",null,"NACE (N)",null,"Pressure Gauge Port (Ea)"]
[null,null,null,null,null,null,null,null,null,"ANSI CLASS",null,null,null,null,null,null,null,null,null,null,null,null,null,null,null,"PTFE (P) (STD)",null,"Viton (V)",null,"EPDM (E)",null,"Kalrez (K)",null,"Variseal (T)"]
[null,null,null,null,null,null,null,null,null,"300 # (2)"]
[null,null,null,null,null,null,null,null,null,"WCB (0)",null,null,null,"CF8M (1)",null,null,null,"Super  Duplex (5)",null,null,null,"6Mo (6)"]
[]
[null,null,null,null,"1 (-01)",null,null,".75",null,"--",null,null,null,{"$f":"'SAP VC'!AE215","v":65526},null,null,null,{"$f":"'SAP VC'!$V$229","v":"POA"},null,null,null,{"$f":"'SAP VC'!$V$234","v":"POA"},null,null,null,{"$f":"'SAP VC'!$AE$287","v":0},null,{"$f":"'SAP VC'!AE288","v":491},null,{"$f":"'SAP VC'!AE289","v":266},null,{"$f":"'SAP VC'!AE290","v":550},null,{"$f":"'SAP VC'!AE291","v":491},null,{"$f":"'SAP VC'!$AE$286","v":0},null,{"$f":"'SAP VC'!V829","v":660},null,{"$f":"'SAP VC'!AE831","v":612}]
[null,null,null,null,"1.5 (-15)",null,null,".75",null,"--",null,null,null,{"$f":"'SAP VC'!AE216","v":68784},null,null,null,{"$f":"'SAP VC'!$V$229","v":"POA"},null,null,null,{"$f":"'SAP VC'!$V$234","v":"POA"},null,null,null,{"$f":"'SAP VC'!$AE$287","v":0},null,{"$f":"'SAP VC'!AE434","v":491},null,{"$f":"'SAP VC'!AE440","v":266},null,{"$f":"'SAP VC'!AE446","v":550},null,{"$f":"'SAP VC'!AE452","v":491},null,{"$f":"'SAP VC'!$AE$286","v":0},null,500,null,{"$f":"'SAP VC'!AE832","v":612}]
[null,null,null,null,"2 (-02)",null,null,"1.5",null,{"$f":"'SAP VC'!AE198","v":54830},null,null,null,{"$f":"'SAP VC'!AE217","v":70975},null,null,null,{"$f":"'SAP VC'!$V$229","v":"POA"},null,null,null,{"$f":"'SAP VC'!$V$234","v":"POA"},null,null,null,{"$f":"'SAP VC'!$AE$287","v":0},null,{"$f":"'SAP VC'!AE435","v":515},null,{"$f":"'SAP VC'!AE441","v":295},null,{"$f":"'SAP VC'!AE447","v":587},null,{"$f":"'SAP VC'!AE453","v":515},null,{"$f":"'SAP VC'!$AE$286","v":0},null,{"$f":"'SAP VC'!AE303","v":660},null,{"$f":"'SAP VC'!AE833","v":612}]
[null,null,null,null,"3 (-03)",null,null,"2",null,{"$f":"'SAP VC'!AE199","v":62693},null,null,null,{"$f":"'SAP VC'!AE218","v":74139},null,null,null,{"$f":"'SAP VC'!$V$229","v":"POA"},null,null,null,{"$f":"'SAP VC'!$V$234","v":"POA"},null,null,null,{"$f":"'SAP VC'!$AE$287","v":0},null,{"$f":"'SAP VC'!AE436","v":515},null,{"$f":"'SAP VC'!AE442","v":295},null,{"$f":"'SAP VC'!AE448","v":587},null,{"$f":"'SAP VC'!AE454","v":515},null,{"$f":"'SAP VC'!$AE$286","v":0},null,{"$f":"'SAP VC'!AE304","v":660},null,{"$f":"'SAP VC'!AE834","v":612}]
[null,null,null,null,"4 (-04)",null,null,"3",null,{"$f":"'SAP VC'!AE200","v":68659},null,null,null,{"$f":"'SAP VC'!AE219","v":86896},null,null,null,{"$f":"'SAP VC'!$V$229","v":"POA"},null,null,null,{"$f":"'SAP VC'!$V$234","v":"POA"},null,null,null,{"$f":"'SAP VC'!$AE$287","v":0},null,{"$f":"'SAP VC'!AE437","v":550},null,{"$f":"'SAP VC'!AE443","v":331},null,{"$f":"'SAP VC'!AE449","v":622},null,{"$f":"'SAP VC'!AE455","v":550},null,{"$f":"'SAP VC'!$AE$286","v":0},null,{"$f":"'SAP VC'!AE305","v":1646},null,{"$f":"'SAP VC'!AE835","v":612}]
[null,null,null,null,"6 (-06)",null,null,"4",null,{"$f":"'SAP VC'!AE201","v":74177},null,null,null,{"$f":"'SAP VC'!AE220","v":90446},null,null,null,{"$f":"'SAP VC'!$V$229","v":"POA"},null,null,null,{"$f":"'SAP VC'!$V$234","v":"POA"},null,null,null,{"$f":"'SAP VC'!$AE$287","v":0},null,{"$f":"'SAP VC'!AE438","v":587},null,{"$f":"'SAP VC'!AE444","v":369},null,{"$f":"'SAP VC'!AE450","v":660},null,{"$f":"'SAP VC'!AE456","v":587},null,{"$f":"'SAP VC'!$AE$286","v":0},null,{"$f":"'SAP VC'!AE306","v":2630},null,{"$f":"'SAP VC'!AE836","v":781}]
[null,null,null,null,"8 (-08)",null,null,"6",null,{"$f":"'SAP VC'!AE202","v":126562},null,null,null,{"$f":"'SAP VC'!AE221","v":158105},null,null,null,{"$f":"'SAP VC'!$V$229","v":"POA"},null,null,null,{"$f":"'SAP VC'!$V$234","v":"POA"},null,null,null,{"$f":"'SAP VC'!$AE$287","v":0},null,{"$f":"'SAP VC'!AE439","v":587},null,{"$f":"'SAP VC'!AE445","v":369},null,{"$f":"'SAP VC'!AE451","v":660},null,{"$f":"'SAP VC'!AE457","v":587},null,{"$f":"'SAP VC'!$AE$286","v":0},null,{"$f":"'SAP VC'!AE307","v":4623},null,{"$f":"'SAP VC'!AE837","v":781}]
[]
[]
[null,null,null,null,"Valve Size (in.)",null,null,"Bypass Outlet Size (in.)",null,"Valve Assembly List Price (91)",null,null,null,null,null,null,null,null,null,null,null,null,null,null,null,"Soft Goods Adders",null,null,null,null,null,null,null,null,null,"Options"]
[]
[]
[null,null,null,null,null,null,null,null,null,null,null,null,null,null,null,null,null,null,null,null,null,null,null,null,null,"Seals/Snubber Material",null,null,null,null,null,null,null,null,null,"Raised Face (RF)  (STD)",null,"NACE (N)",null,"Pressure Gauge Port (Ea)"]
[null,null,null,null,null,null,null,null,null,"ANSI CLASS",null,null,null,null,null,null,null,null,null,null,null,null,null,null,null,"PTFE (P) (STD)",null,"Viton (V)",null,"EPDM (E)",null,"Kalrez (K)",null,"Variseal (T)"]
[null,null,null,null,null,null,null,null,null,"600 # (3)"]
[null,null,null,null,null,null,null,null,null,"WCB (0)",null,null,null,"CF8M (1)",null,null,null,"Super  Duplex (5)",null,null,null,"6Mo (6)"]
[]
[null,null,null,null,"1 (-01)",null,null,".75",null,"--",null,null,null,{"$f":"'SAP VC'!AE222","v":66324},null,null,null,{"$f":"'SAP VC'!$V$229","v":"POA"},null,null,null,{"$f":"'SAP VC'!$V$234","v":"POA"},null,null,null,{"$f":"Z19","v":0},null,{"$f":"AB19","v":491},null,{"$f":"AD19","v":266},null,{"$f":"AF19","v":550},null,{"$f":"AH19","v":491},null,{"$f":"AJ19","v":0},null,{"$f":"AL19","v":660},null,{"$f":"AN19","v":612}]
[null,null,null,null,"1.5 (-15)",null,null,".75",null,"--",null,null,null,{"$f":"'SAP VC'!AE223","v":70249},null,null,null,{"$f":"'SAP VC'!$V$229","v":"POA"},null,null,null,{"$f":"'SAP VC'!$V$234","v":"POA"},null,null,null,{"$f":"'SAP VC'!$V$287","v":0},null,{"$f":"AB20","v":491},null,{"$f":"AD20","v":266},null,{"$f":"AF20","v":550},null,{"$f":"AH20","v":491},null,{"$f":"AJ20","v":0},null,{"$f":"AL20","v":500},null,612]
[null,null,null,null,"2 (-02)",null,null,"1.5",null,{"$f":"'SAP VC'!AE203","v":55791},null,null,null,{"$f":"'SAP VC'!AE224","v":72486},null,null,null,{"$f":"'SAP VC'!$V$229","v":"POA"},null,null,null,{"$f":"'SAP VC'!$V$234","v":"POA"},null,null,null,{"$f":"'SAP VC'!$V$287","v":0},null,515,null,295,null,587,null,515,null,0,null,660,null,612]
[null,null,null,null,"3 (-03)",null,null,"2",null,{"$f":"'SAP VC'!AE204","v":63792},null,null,null,{"$f":"'SAP VC'!AE225","v":75440},null,null,null,{"$f":"'SAP VC'!$V$229","v":"POA"},null,null,null,{"$f":"'SAP VC'!$V$234","v":"POA"},null,null,null,{"$f":"'SAP VC'!$V$287","v":0},null,515,null,295,null,587,null,515,null,0,null,660,null,612]
[null,null,null,null,"4 (-04)",null,null,"3",null,{"$f":"'SAP VC'!AE205","v":69864},null,null,null,{"$f":"'SAP VC'!AE226","v":88421},null,null,null,{"$f":"'SAP VC'!$V$229","v":"POA"},null,null,null,{"$f":"'SAP VC'!$V$234","v":"POA"},null,null,null,{"$f":"'SAP VC'!$V$287","v":0},null,550,null,331,null,622,null,550,null,0,null,1646,null,612]
[null,null,null,null,"6 (-06)",null,null,"4",null,{"$f":"'SAP VC'!AE206","v":75478},null,null,null,{"$f":"'SAP VC'!AE227","v":92033},null,null,null,{"$f":"'SAP VC'!$V$229","v":"POA"},null,null,null,{"$f":"'SAP VC'!$V$234","v":"POA"},null,null,null,{"$f":"'SAP VC'!$V$287","v":0},null,587,null,369,null,660,null,587,null,0,null,2630,null,781]
[null,null,null,null,"8 (-08)",null,null,"6",null,{"$f":"'SAP VC'!AE207","v":129689},null,null,null,{"$f":"'SAP VC'!AE228","v":202484},null,null,null,{"$f":"'SAP VC'!$V$229","v":"POA"},null,null,null,{"$f":"'SAP VC'!$V$234","v":"POA"},null,null,null,{"$f":"'SAP VC'!$V$287","v":0},null,587,null,369,null,660,null,587,null,0,null,4623,null,781]

{"sheet":"Page 3","index":13,"n_rows":47,"n_cols":40,"rows_kept":47,"cut":false,"hidden":false,"merged":[[17,9,17,24],[21,33,21,34],[13,35,19,36],[21,37,21,38],[20,35,20,36],[22,35,22,36],[21,35,21,36],[22,33,22,34],[18,13,19,16],[18,17,19,20],[18,21,19,24],[14,25,19,26],[14,27,19,28],[15,9,16,24],[10,9,14,24],[20,29,20,30],[21,29,21,30],[10,35,12,40],[22,31,22,32],[20,33,20,34],[20,31,20,32],[21,31,21,32],[22,29,22,30],[45,29,45,30],[45,31,45,32],[32,35,38,36],[45,25,45,26],[40,33,40,34],[41,29,41,30],[13,37,19,38],[20,37,20,38],[26,35,26,36],[27,35,27,36],[25,25,25,26],[26,31,26,32],[27,31,27,32],[25,29,25,30],[26,25,26,26],[25,27,25,28],[26,27,26,28],[23,35,23,36],[24,35,24,36],[25,35,25,36],[23,33,23,34],[24,33,24,34],[25,33,25,34],[41,33,41,34],[44,13,44,16],[44,17,44,20],[27,27,27,28],[43,29,43,30],[27,13,27,16],[27,29,27,30],[27,25,27,26],[37,13,38,16],[36,9,36,24],[44,9,44,12],[42,25,42,26],[42,27,42,28],[43,9,43,12],[44,27,44,28],[42,9,42,12],[42,13,42,16],[44,25,44,26],[42,21,42,24],[42,17,42,20],[44,21,44,24],[39,9,39,12],[40,25,40,26],[40,27,40,28],[40,29,40,30],[46,29,46,30],[46,31,46,32],[46,33,46,34],[41,9,41,12],[43,17,43,20],[43,21,43,24],[43,25,43,26],[43,27,43,28],[44,33,44,34],[42,31,42,32],[42,33,42,34],[46,9,46,12],[46,13,46,16],[46,17,46,20],[46,21,46,24],[45,9,45,12],[45,13,45,16],[45,27,45,28],[46,25,46,26],[46,27,46,28],[45,17,45,20],[45,21,45,24],[45,33,45,34],[41,31,41,32],[24,31,24,32],[25,31,25,32],[39,31,39,32],[24,27,24,28],[26,29,26,30],[24,29,24,30],[27,33,27,34],[23,29,23,30],[23,31,23,32],[29,25,31,34],[32,25,32,34],[39,25,39,26],[39,33,39,34],[33,27,38,28],[33,29,38,30],[33,31,38,32],[33,25,38,26],[39,29,39,30],[23,9,23,12],[23,13,23,16],[23,17,23,20],[23,21,23,24],[23,27,23,28],[20,27,20,28],[21,27,21,28],[22,27,22,28],[24,9,24,12],[24,13,24,16],[24,17,24,20],[24,21,24,24],[20,9,20,12],[20,13,20,16],[21,25,21,26],[22,25,22,26],[24,25,24,26],[21,9,21,12],[21,13,21,16],[21,17,21,20],[23,25,23,26],[20,25,20,26],[27,9,27,12],[26,33,26,34],[39,13,39,16],[39,17,39,20],[39,21,39,24],[43,13,43,16],[41,13,41,16],[41,17,41,20],[41,21,41,24],[40,31,40,32],[37,17,38,20],[37,21,38,24],[43,31,43,32],[42,29,42,30],[29,35,31,40],[41,39,41,40],[42,39,42,40],[43,39,43,40],[44,39,44,40],[39,27,39,28],[41,25,41,26],[41,27,41,28],[39,35,39,36],[44,29,44,30],[44,31,44,32],[43,33,43,34],[23,7,23,8],[24,7,24,8],[25,7,25,8],[29,7,38,8],[27,37,27,38],[32,37,38,38],[23,39,23,40],[24,39,24,40],[25,39,25,40],[26,39,26,40],[27,39,27,40],[32,39,38,40],[33,33,38,34],[29,9,33,24],[34,9,35,24],[27,17,27,20],[27,21,27,24],[25,13,25,16],[25,17,25,20],[25,21,25,24],[26,9,26,12],[26,13,26,16],[26,17,26,20],[26,21,26,24],[23,4,23,6],[24,4,24,6],[20,17,20,20],[20,21,20,24],[42,37,42,38],[43,37,43,38],[40,9,40,12],[40,13,40,16],[40,17,40,20],[40,21,40,24],[22,37,22,38],[23,37,23,38],[24,37,24,38],[25,37,25,38],[26,37,26,38],[41,37,41,38],[39,37,39,38],[42,35,42,36],[43,35,43,36],[25,9,25,12],[37,9,38,12],[26,7,26,8],[27,7,27,8],[29,4,38,6],[39,4,39,6],[39,7,39,8],[25,4,25,6],[26,4,26,6],[27,4,27,6],[44,4,44,6],[44,7,44,8],[45,4,45,6],[45,7,45,8],[46,4,46,6],[46,7,46,8],[40,7,40,8],[41,4,41,6],[41,7,41,8],[42,4,42,6],[42,7,42,8],[43,4,43,6],[43,7,43,8],[40,4,40,6],[0,0,5,43],[13,39,19,40],[20,39,20,40],[21,39,21,40],[22,39,22,40],[10,4,19,6],[20,4,20,6],[21,4,21,6],[22,4,22,6],[10,7,19,8],[20,7,20,8],[21,7,21,8],[22,7,22,8],[13,25,13,34],[10,25,12,34],[14,31,19,32],[14,33,19,34],[21,21,21,24],[22,9,22,12],[22,13,22,16],[22,17,22,20],[22,21,22,24],[18,9,19,12],[14,29,19,30],[45,39,45,40],[46,39,46,40],[39,39,39,40],[40,39,40,40],[44,37,44,38],[45,37,45,38],[46,35,46,36],[45,35,45,36],[44,35,44,36],[40,35,40,36],[41,35,41,36],[46,37,46,38],[40,37,40,38]]}
["ARC Series 9200"]
[]
[]
[]
[]
[]
[]
[]
[]
[]
[null,null,null,null,"Valve Size (in.)",null,null,"Bypass Outlet Size (in.)",null,"Valve Assembly List Price (92)",null,null,null,null,null,null,null,null,null,null,null,null,null,null,null,"Soft Goods Adders",null,null,null,null,null,null,null,null,null,"Options"]
[]
[]
[null,null,null,null,null,null,null,null,null,null,null,null,null,null,null,null,null,null,null,null,null,null,null,null,null,"Gasket/Snubber Material",null,null,null,null,null,null,null,null,null,"Raised Face (STD)      (-RF)",null,"NACE (N)",null,"Pressure Gauge Port (Ea)"]
[null,null,null,null,null,null,null,null,null,null,null,null,null,null,null,null,null,null,null,null,null,null,null,null,null,"Graphite / Turcon (STD) (-A)",null,"TFEP / Turcon (STD) (-H)",null,"Viton / Turcon    (-D)",null,"EPDM / Turcon    (-F)",null,"Virgin TFE / Turcon (-C)"]
[null,null,null,null,null,null,null,null,null,"ANSI Class"]
[]
[null,null,null,null,null,null,null,null,null,"150 # (1)"]
[null,null,null,null,null,null,null,null,null,"WCB (0)",null,null,null,"CF8M (1)",null,null,null,"Super  Duplex (5)",null,null,null,"6Mo (6)"]
[]
[null,null,null,null,"2 (-02)",null,null,"1.5",null,{"$f":"'SAP VC'!AE465","v":36005},null,null,null,{"$f":"'SAP VC'!AE481","v":41856},null,null,null,{"$f":"'SAP VC'!AE497","v":"POA"},null,null,null,{"$f":"'SAP VC'!AE497","v":"POA"},null,null,null,{"$f":"'SAP VC'!$AE$594","v":0},null,"--",null,"--",null,"--",null,{"$f":"'SAP VC'!AE602","v":987},null,{"$f":"'SAP VC'!$A$124","v":0},null,{"$f":"'SAP VC'!AE605","v":660},null,{"$f":"'SAP VC'!AE833","v":612}]
[null,null,null,null,"3 (-03)",null,null,"2",null,{"$f":"'SAP VC'!AE466","v":38580},null,null,null,{"$f":"'SAP VC'!AE482","v":51016},null,null,null,{"$f":"'SAP VC'!AE498","v":"POA"},null,null,null,{"$f":"'SAP VC'!AE498","v":"POA"},null,null,null,{"$f":"'SAP VC'!$AE$594","v":0},null,"--",null,"--",null,"--",null,{"$f":"'SAP VC'!AE726","v":987},null,{"$f":"'SAP VC'!$A$124","v":0},null,{"$f":"'SAP VC'!AE606","v":660},null,{"$f":"'SAP VC'!AE834","v":612}]
[null,null,null,null,"4 (-04)",null,null,"3",null,{"$f":"'SAP VC'!AE467","v":42883},null,null,null,{"$f":"'SAP VC'!AE483","v":59802},null,null,null,{"$f":"'SAP VC'!AE499","v":"POA"},null,null,null,{"$f":"'SAP VC'!AE499","v":"POA"},null,null,null,{"$f":"'SAP VC'!$AE$594","v":0},null,"--",null,"--",null,"--",null,{"$f":"'SAP VC'!AE727","v":1313},null,{"$f":"'SAP VC'!$A$124","v":0},null,{"$f":"'SAP VC'!AE607","v":1646},null,{"$f":"'SAP VC'!AE835","v":612}]
[null,null,null,null,"6 (-06)",null,null,"4",null,{"$f":"'SAP VC'!AE468","v":52913},null,null,null,{"$f":"'SAP VC'!AE484","v":70208},null,null,null,{"$f":"'SAP VC'!AE500","v":"POA"},null,null,null,{"$f":"'SAP VC'!AE500","v":"POA"},null,null,null,{"$f":"'SAP VC'!$AE$594","v":0},null,"--",null,"--",null,"--",null,{"$f":"'SAP VC'!AE728","v":1639},null,{"$f":"'SAP VC'!$A$124","v":0},null,{"$f":"'SAP VC'!AE608","v":2630},null,{"$f":"'SAP VC'!AE836","v":781}]
[null,null,null,null,"8 (-08)",null,null,"6",null,{"$f":"'SAP VC'!AE469","v":75331},null,null,null,{"$f":"'SAP VC'!AE485","v":104060},null,null,null,{"$f":"'SAP VC'!AE501","v":"POA"},null,null,null,{"$f":"'SAP VC'!AE501","v":"POA"},null,null,null,{"$f":"'SAP VC'!$AE$594","v":0},null,"--",null,"--",null,"--",null,{"$f":"'SAP VC'!AE729","v":1639},null,{"$f":"'SAP VC'!$A$124","v":0},null,{"$f":"'SAP VC'!AE609","v":4623},null,{"$f":"'SAP VC'!AE837","v":781}]
[null,null,null,null,"10 (-10)",null,null,"8",null,{"$f":"'SAP VC'!AE470","v":"POA"},null,null,null,{"$f":"'SAP VC'!AE486","v":"POA"},null,null,null,{"$f":"'SAP VC'!AE502","v":"POA"},null,null,null,{"$f":"'SAP VC'!AE502","v":"POA"},null,null,null,"--",null,{"$f":"'SAP VC'!$AE$595","v":0},null,{"$f":"'SAP VC'!AE598","v":2628},null,{"$f":"'SAP VC'!AE600","v":1974},null,"--",null,{"$f":"'SAP VC'!$A$124","v":0},null,{"$f":"'SAP VC'!AE610","v":6936},null,{"$f":"'SAP VC'!AE838","v":1207}]
[null,null,null,null,"12 (-12)",null,null,"10",null,{"$f":"'SAP VC'!AE471","v":"POA"},null,null,null,{"$f":"'SAP VC'!AE487","v":"POA"},null,null,null,{"$f":"'SAP VC'!AE503","v":"POA"},null,null,null,{"$f":"'SAP VC'!AE503","v":"POA"},null,null,null,"--",null,{"$f":"'SAP VC'!$AE$595","v":0},null,{"$f":"'SAP VC'!AE718","v":2702},null,{"$f":"'SAP VC'!AE734","v":2046},null,"--",null,{"$f":"'SAP VC'!$A$124","v":0},null,{"$f":"'SAP VC'!AE611","v":6936},null,{"$f":"'SAP VC'!AE839","v":1207}]
[null,null,null,null,"14 (-14)",null,null,"10",null,{"$f":"'SAP VC'!AE472","v":"POA"},null,null,null,{"$f":"'SAP VC'!AE488","v":"POA"},null,null,null,{"$f":"'SAP VC'!AE504","v":"POA"},null,null,null,{"$f":"'SAP VC'!AE504","v":"POA"},null,null,null,"--",null,{"$f":"'SAP VC'!$AE$595","v":0},null,{"$f":"'SAP VC'!AE719","v":2812},null,{"$f":"'SAP VC'!AE735","v":2155},null,"--",null,{"$f":"'SAP VC'!$A$124","v":0},null,{"$f":"'SAP VC'!AE612","v":7491},null,{"$f":"'SAP VC'!AE840","v":1207}]
[]
[null,null,null,null,"Valve Size (in.)",null,null,"Bypass Outlet Size (in.)",null,"Valve Assembly List Price (92)",null,null,null,null,null,null,null,null,null,null,null,null,null,null,null,"Soft Goods Adders",null,null,null,null,null,null,null,null,null,"Options"]
[]
[]
[null,null,null,null,null,null,null,null,null,null,null,null,null,null,null,null,null,null,null,null,null,null,null,null,null,"Gasket/Snubber Material",null,null,null,null,null,null,null,null,null,"Raised Face (STD)      (-RF)",null,"NACE (N)",null,"Pressure Gauge Port (Ea)"]
[null,null,null,null,null,null,null,null,null,null,null,null,null,null,null,null,null,null,null,null,null,null,null,null,null,"Graphite / Turcon (STD) (-A)",null,"TFEP / Turcon (STD) (-H)",null,"Viton / Turcon    (-D)",null,"EPDM / Turcon    (-F)",null,"Virgin TFE / Turcon (-C)"]
[null,null,null,null,null,null,null,null,null,"ANSI Class"]
[]
[null,null,null,null,null,null,null,null,null,"300 # (2)"]
[null,null,null,null,null,null,null,null,null,"WCB (0)",null,null,null,"CF8M (1)",null,null,null,"Super  Duplex (5)",null,null,null,"6Mo (6)"]
[]
[null,null,null,null,"2 (-02)",null,null,"1.5",null,{"$f":"'SAP VC'!AE473","v":37123},null,null,null,{"$f":"'SAP VC'!AE489","v":42883},null,null,null,{"$f":"'SAP VC'!AE42","v":"POA"},null,null,null,{"$f":"'SAP VC'!AE58","v":"POA"},null,null,null,{"$f":"Z21","v":0},null,"--",null,"--",null,"--",null,{"$f":"AH21","v":987},null,{"$f":"AJ21","v":0},null,{"$f":"AL21","v":660},null,{"$f":"AN21","v":612}]
[null,null,null,null,"3 (-03)",null,null,"2",null,{"$f":"'SAP VC'!AE474","v":40031},null,null,null,{"$f":"'SAP VC'!AE490","v":51225},null,null,null,{"$f":"'SAP VC'!AE43","v":"POA"},null,null,null,{"$f":"'SAP VC'!AE59","v":"POA"},null,null,null,{"$f":"Z22","v":0},null,"--",null,"--",null,"--",null,{"$f":"AH22","v":987},null,0,null,{"$f":"AL22","v":660},null,{"$f":"AN22","v":612}]
[null,null,null,null,"4 (-04)",null,null,"3",null,{"$f":"'SAP VC'!AE475","v":44604},null,null,null,{"$f":"'SAP VC'!AE491","v":60906},null,null,null,{"$f":"'SAP VC'!AE44","v":"POA"},null,null,null,{"$f":"'SAP VC'!AE60","v":"POA"},null,null,null,{"$f":"Z23","v":0},null,"--",null,"--",null,"--",null,{"$f":"AH23","v":1313},null,0,null,1646,null,612]
[null,null,null,null,"6 (-06)",null,null,"4",null,{"$f":"'SAP VC'!AE476","v":54081},null,null,null,{"$f":"'SAP VC'!AE492","v":72135},null,null,null,{"$f":"'SAP VC'!AE45","v":"POA"},null,null,null,{"$f":"'SAP VC'!AE61","v":"POA"},null,null,null,{"$f":"Z24","v":0},null,"--",null,"--",null,"--",null,{"$f":"AH24","v":1639},null,0,null,2630,null,781]
[null,null,null,null,"8 (-08)",null,null,"6",null,{"$f":"'SAP VC'!AE477","v":79722},null,null,null,{"$f":"'SAP VC'!AE493","v":106098},null,null,null,{"$f":"'SAP VC'!AE46","v":"POA"},null,null,null,{"$f":"'SAP VC'!AE62","v":"POA"},null,null,null,{"$f":"Z25","v":0},null,"--",null,"--",null,"--",null,{"$f":"AH25","v":1639},null,0,null,4623,null,781]
[null,null,null,null,"10 (-10)",null,null,"8",null,{"$f":"'SAP VC'!AE478","v":"POA"},null,null,null,{"$f":"'SAP VC'!AE494","v":"POA"},null,null,null,{"$f":"'SAP VC'!AE47","v":"POA"},null,null,null,{"$f":"'SAP VC'!AE63","v":"POA"},null,null,null,"--",null,{"$f":"AB26","v":0},null,{"$f":"AD26","v":2628},null,{"$f":"AF26","v":1974},null,"--",null,0,null,6936,null,1207]
[null,null,null,null,"12 (-12)",null,null,"10",null,{"$f":"'SAP VC'!AE479","v":"POA"},null,null,null,{"$f":"'SAP VC'!AE495","v":"POA"},null,null,null,{"$f":"'SAP VC'!AE48","v":"POA"},null,null,null,{"$f":"'SAP VC'!AE64","v":"POA"},null,null,null,"--",null,{"$f":"AB27","v":0},null,{"$f":"AD27","v":2702},null,{"$f":"AF27","v":2046},null,"--",null,0,null,6936,null,1207]
[null,null,null,null,"14 (-14)",null,null,"10",null,{"$f":"'SAP VC'!AE480","v":"POA"},null,null,null,{"$f":"'SAP VC'!AE496","v":"POA"},null,null,null,{"$f":"'SAP VC'!AE49","v":"POA"},null,null,null,{"$f":"'SAP VC'!AE65","v":"POA"},null,null,null,"--",null,{"$f":"AB28","v":0},null,{"$f":"AD28","v":2812},null,{"$f":"AF28","v":2155},null,"--",null,0,null,7491,null,1207]

{"sheet":"Page 4","index":14,"n_rows":43,"n_cols":37,"rows_kept":43,"cut":false,"hidden":false,"merged":[[18,36,18,37],[10,6,17,9],[19,22,19,25],[21,18,21,21],[20,22,20,25],[33,18,33,21],[35,18,35,21],[37,30,37,31],[36,26,36,29],[34,26,34,29],[35,10,35,13],[35,26,35,29],[35,22,35,25],[36,10,36,13],[35,30,35,31],[21,10,21,13],[21,14,21,17],[19,26,19,29],[19,14,19,17],[19,18,19,21],[19,10,19,13],[37,18,37,21],[37,22,37,25],[17,10,17,13],[38,32,38,33],[38,34,38,35],[20,36,20,37],[21,36,21,37],[22,36,22,37],[37,34,37,35],[20,30,20,31],[36,30,36,31],[36,32,36,33],[37,32,37,33],[35,32,35,33],[35,34,35,35],[36,34,36,35],[29,30,32,31],[38,30,38,31],[34,32,34,33],[34,36,34,37],[34,34,34,35],[33,22,33,25],[22,18,22,21],[22,22,22,25],[23,22,23,25],[18,22,18,25],[18,26,18,29],[17,14,17,17],[34,14,34,17],[34,18,34,21],[34,22,34,25],[33,26,33,29],[23,14,23,17],[20,26,20,29],[32,22,32,25],[32,26,32,29],[38,14,38,17],[38,18,38,21],[38,22,38,25],[38,26,38,29],[37,26,37,29],[37,10,37,13],[37,14,37,17],[36,14,36,17],[36,18,36,21],[36,22,36,25],[35,14,35,17],[20,10,20,13],[20,14,20,17],[37,36,37,37],[38,36,38,37],[33,30,33,31],[23,36,23,37],[35,36,35,37],[36,36,36,37],[20,32,20,33],[32,10,32,13],[32,14,32,17],[32,18,32,21],[33,10,33,13],[33,14,33,17],[21,30,21,31],[21,26,21,29],[22,30,22,31],[22,26,22,29],[23,10,23,13],[22,10,22,13],[21,22,21,25],[23,34,23,35],[38,10,38,13],[18,30,18,31],[31,10,31,29],[18,18,18,21],[20,18,20,21],[22,14,22,17],[23,18,23,21],[18,14,18,17],[10,10,14,29],[19,30,19,31],[17,18,17,21],[14,36,17,37],[10,30,13,37],[18,32,18,33],[20,34,20,35],[21,32,21,33],[33,32,33,33],[33,34,33,35],[33,36,33,37],[25,30,28,37],[29,36,32,37],[19,34,19,35],[19,36,19,37],[21,34,21,35],[22,32,22,33],[22,34,22,35],[29,32,32,33],[29,34,32,35],[18,34,18,35],[19,32,19,33],[23,30,23,31],[14,30,17,31],[14,32,17,33],[14,34,17,35],[23,32,23,33],[0,0,5,43],[38,6,38,9],[18,6,18,9],[19,6,19,9],[20,6,20,9],[21,6,21,9],[22,6,22,9],[23,6,23,9],[25,6,32,9],[33,6,33,9],[34,6,34,9],[35,6,35,9],[36,6,36,9],[37,6,37,9],[16,10,16,29],[15,10,15,29],[23,26,23,29],[17,22,17,25],[17,26,17,29],[18,10,18,13],[34,10,34,13],[34,30,34,31],[25,10,29,29],[30,10,30,29]]}
["BPR"]
[]
[]
[]
[]
[]
[]
[]
[]
[]
[null,null,null,null,null,null,"Valve Size (in.)",null,null,null,"BPR (Back Pressure Regulator) List Price (91)",null,null,null,null,null,null,null,null,null,null,null,null,null,null,null,null,null,null,null,"Soft Goods Adders & Options"]
[]
[]
[]
[null,null,null,null,null,null,null,null,null,null,null,null,null,null,null,null,null,null,null,null,null,null,null,null,null,null,null,null,null,null,"PTFE (P) (STD)",null,"Viton (V)",null,"EPDM (E)",null,"NACE (N)"]
[null,null,null,null,null,null,null,null,null,null,"Wafer* - ANSI 1500"]
[null,null,null,null,null,null,null,null,null,null,"WCB (60)"]
[null,null,null,null,null,null,null,null,null,null,"R100",null,null,null,"R200",null,null,null,"R300",null,null,null,"R400",null,null,null,"R500"]
[null,null,null,null,null,null,".75 (-075)",null,null,null,"--",null,null,null,"--",null,null,null,"--",null,null,null,"--",null,null,null,"--",null,null,null,"--",null,"--",null,"--",null,"--"]
[null,null,null,null,null,null,"1.5 (-150)",null,null,null,{"$f":"'SAP VC'!AE741","v":17777},null,null,null,{"$f":"'SAP VC'!AE752","v":18310},null,null,null,{"$f":"'SAP VC'!AE763","v":18676},null,null,null,{"$f":"'SAP VC'!AE774","v":18863},null,null,null,{"$f":"'SAP VC'!AE785","v":19052},null,null,null,{"$f":"'SAP VC'!$AE$797","v":0},null,{"$f":"'SAP VC'!AE799","v":334},null,{"$f":"'SAP VC'!AE805","v":268},null,{"$f":"'SAP VC'!AE812","v":663}]
[null,null,null,null,null,null,"2 (-200)",null,null,null,{"$f":"'SAP VC'!AE742","v":18403},null,null,null,{"$f":"'SAP VC'!AE753","v":18957},null,null,null,{"$f":"'SAP VC'!AE764","v":19338},null,null,null,{"$f":"'SAP VC'!AE775","v":19530},null,null,null,{"$f":"'SAP VC'!AE786","v":19724},null,null,null,{"$f":"'SAP VC'!$AE$797","v":0},null,{"$f":"'SAP VC'!AE800","v":496},null,{"$f":"'SAP VC'!AE806","v":334},null,{"$f":"'SAP VC'!AE813","v":663}]
[null,null,null,null,null,null,"3 (-300)",null,null,null,{"$f":"'SAP VC'!AE743","v":20498},null,null,null,{"$f":"'SAP VC'!AE754","v":21112},null,null,null,{"$f":"'SAP VC'!AE765","v":21534},null,null,null,{"$f":"'SAP VC'!AE776","v":21749},null,null,null,{"$f":"'SAP VC'!AE787","v":21967},null,null,null,{"$f":"'SAP VC'!$AE$797","v":0},null,{"$f":"'SAP VC'!AE801","v":496},null,{"$f":"'SAP VC'!AE807","v":334},null,{"$f":"'SAP VC'!AE814","v":663}]
[null,null,null,null,null,null,"4 (-400)",null,null,null,{"$f":"'SAP VC'!AE744","v":26586},null,null,null,{"$f":"'SAP VC'!AE755","v":27386},null,null,null,{"$f":"'SAP VC'!AE766","v":27932},null,null,null,{"$f":"'SAP VC'!AE777","v":28209},null,null,null,{"$f":"'SAP VC'!AE788","v":28492},null,null,null,{"$f":"'SAP VC'!$AE$797","v":0},null,{"$f":"'SAP VC'!AE802","v":663},null,{"$f":"'SAP VC'!AE808","v":450},null,{"$f":"'SAP VC'!AE815","v":663}]
[null,null,null,null,null,null,"6 (-600)",null,null,null,{"$f":"'SAP VC'!AE745","v":62634},null,null,null,{"$f":"'SAP VC'!AE756","v":64510},null,null,null,{"$f":"'SAP VC'!AE767","v":65802},null,null,null,{"$f":"'SAP VC'!AE778","v":66459},null,null,null,{"$f":"'SAP VC'!AE789","v":67123},null,null,null,{"$f":"'SAP VC'!$AE$797","v":0},null,{"$f":"'SAP VC'!AE803","v":663},null,{"$f":"'SAP VC'!AE809","v":450},null,{"$f":"'SAP VC'!AE816","v":843}]
[]
[null,null,null,null,null,null,"Valve Size (in.)",null,null,null,"BPR (Back Pressure Regulator) List Price (91)",null,null,null,null,null,null,null,null,null,null,null,null,null,null,null,null,null,null,null,"Soft Goods Adders & Options"]
[]
[]
[]
[null,null,null,null,null,null,null,null,null,null,null,null,null,null,null,null,null,null,null,null,null,null,null,null,null,null,null,null,null,null,"PTFE (P) (STD)",null,"Viton (V)",null,"EPDM (E)",null,"NACE (N)"]
[null,null,null,null,null,null,null,null,null,null,"Wafer *- ANSI 1500"]
[null,null,null,null,null,null,null,null,null,null,"CF8M (70)"]
[null,null,null,null,null,null,null,null,null,null,"R100",null,null,null,"R200",null,null,null,"R300",null,null,null,"R400",null,null,null,"R500"]
[null,null,null,null,null,null,".75 (-075)",null,null,null,{"$f":"'SAP VC'!AE746","v":21489},null,null,null,{"$f":"'SAP VC'!AE757","v":22134},null,null,null,{"$f":"'SAP VC'!AE768","v":22577},null,null,null,{"$f":"'SAP VC'!AE779","v":22803},null,null,null,{"$f":"'SAP VC'!AE790","v":23030},null,null,null,{"$f":"'SAP VC'!$AE$797","v":0},null,{"$f":"'SAP VC'!AE798","v":334},null,{"$f":"'SAP VC'!AE804","v":268},null,{"$f":"'SAP VC'!AE811","v":663}]
[null,null,null,null,null,null,"1.5 (-150)",null,null,null,{"$f":"'SAP VC'!AE747","v":21594},null,null,null,{"$f":"'SAP VC'!AE758","v":22239},null,null,null,{"$f":"'SAP VC'!AE769","v":22686},null,null,null,{"$f":"'SAP VC'!AE780","v":22915},null,null,null,{"$f":"'SAP VC'!AE791","v":23140},null,null,null,{"$f":"'SAP VC'!$AE$797","v":0},null,{"$f":"'SAP VC'!AE799","v":334},null,{"$f":"'SAP VC'!AE805","v":268},null,{"$f":"'SAP VC'!AE812","v":663}]
[null,null,null,null,null,null,"2 (-200)",null,null,null,{"$f":"'SAP VC'!AE748","v":22875},null,null,null,{"$f":"'SAP VC'!AE759","v":23561},null,null,null,{"$f":"'SAP VC'!AE770","v":24032},null,null,null,{"$f":"'SAP VC'!AE781","v":24272},null,null,null,{"$f":"'SAP VC'!AE792","v":24514},null,null,null,{"$f":"'SAP VC'!$AE$797","v":0},null,{"$f":"'SAP VC'!AE800","v":496},null,{"$f":"'SAP VC'!AE806","v":334},null,{"$f":"'SAP VC'!AE813","v":663}]
[null,null,null,null,null,null,"3 (-300)",null,null,null,{"$f":"'SAP VC'!AE749","v":26308},null,null,null,{"$f":"'SAP VC'!AE760","v":27099},null,null,null,{"$f":"'SAP VC'!AE771","v":27639},null,null,null,{"$f":"'SAP VC'!AE782","v":27916},null,null,null,{"$f":"'SAP VC'!AE793","v":28196},null,null,null,{"$f":"'SAP VC'!$AE$797","v":0},null,{"$f":"'SAP VC'!AE801","v":496},null,{"$f":"'SAP VC'!AE807","v":334},null,{"$f":"'SAP VC'!AE814","v":663}]
[null,null,null,null,null,null,"4 (-400)",null,null,null,{"$f":"'SAP VC'!AE750","v":34193},null,null,null,{"$f":"'SAP VC'!AE761","v":35218},null,null,null,{"$f":"'SAP VC'!AE772","v":35922},null,null,null,{"$f":"'SAP VC'!AE783","v":36283},null,null,null,{"$f":"'SAP VC'!AE794","v":36644},null,null,null,{"$f":"'SAP VC'!$AE$797","v":0},null,{"$f":"'SAP VC'!AE802","v":663},null,{"$f":"'SAP VC'!AE808","v":450},null,{"$f":"'SAP VC'!AE815","v":663}]
[null,null,null,null,null,null,"6 (-600)",null,null,null,{"$f":"'SAP VC'!AE751","v":68380},null,null,null,{"$f":"'SAP VC'!AE762","v":70433},null,null,null,{"$f":"'SAP VC'!AE773","v":71841},null,null,null,{"$f":"'SAP VC'!AE784","v":72561},null,null,null,{"$f":"'SAP VC'!AE795","v":73287},null,null,null,{"$f":"'SAP VC'!$AE$797","v":0},null,{"$f":"'SAP VC'!AE803","v":663},null,{"$f":"'SAP VC'!AE809","v":450},null,{"$f":"'SAP VC'!AE816","v":843}]
[]
[]
[]
[null,null,null,null,null,null,"*","Consult factory for Flanged Body configuration."]

{"sheet":"7100","index":15,"n_rows":28,"n_cols":40,"rows_kept":28,"cut":false,"hidden":true,"merged":[[18,27,18,28],[10,25,12,30],[13,31,17,32],[19,7,19,8],[21,25,21,26],[21,27,21,28],[21,29,21,30],[21,31,21,32],[18,13,18,16],[10,31,12,40],[20,27,20,28],[20,7,20,8],[21,7,21,8],[10,9,13,24],[14,9,14,24],[10,7,17,8],[18,7,18,8],[20,25,20,26],[13,37,17,38],[14,25,17,26],[14,27,17,28],[14,29,17,30],[13,25,13,30],[19,27,19,28],[19,29,19,30],[19,31,19,32],[19,33,19,34],[19,25,19,26],[20,33,20,34],[20,35,20,36],[20,29,20,30],[20,31,20,32],[18,29,18,30],[21,4,21,6],[16,21,17,24],[18,17,18,20],[21,9,21,12],[21,13,21,16],[21,17,21,20],[21,21,21,24],[20,9,20,12],[20,13,20,16],[20,17,20,20],[20,21,20,24],[19,9,19,12],[19,13,19,16],[19,17,19,20],[18,9,18,12],[0,0,5,43],[10,4,17,6],[18,4,18,6],[19,4,19,6],[20,4,20,6],[15,9,15,16],[19,21,19,24],[18,21,18,24],[15,17,15,24],[16,9,17,12],[13,35,17,36],[18,31,18,32],[18,35,18,36],[16,13,17,16],[16,17,17,20],[18,25,18,26],[21,39,21,40],[18,37,18,38],[13,33,17,34],[19,37,19,38],[20,37,20,38],[21,37,21,38],[21,35,21,36],[19,35,19,36],[13,39,17,40],[18,39,18,40],[19,39,19,40],[20,39,20,40],[18,33,18,34],[21,33,21,34]]}
["ARC Series 7100"]
[]
[]
[]
[]
[]
[]
[]
[]
[]
[null,null,null,null,"Valve Size (in.)",null,null,"Bypass Outlet Size (in.)",null,"Valve Assembly List Price (71)",null,null,null,null,null,null,null,null,null,null,null,null,null,null,null,"Soft Goods Adders",null,null,null,null,null,"Flange Adders & Options"]
[]
[]
[null,null,null,null,null,null,null,null,null,null,null,null,null,null,null,null,null,null,null,null,null,null,null,null,null,"Seal Material",null,null,null,null,null,"Raised Face (STD) (-RF)  ",null,"RTJ (-RJ)",null,"BWE (-BW)",null,"NACE* (N)",null,"Pressure Gauge Port (Ea)"]
[null,null,null,null,null,null,null,null,null,"ANSI CLASS",null,null,null,null,null,null,null,null,null,null,null,null,null,null,null,"PTFE (-P) (STD)",null,"Viton (-V)",null,"EPDM (-E)"]
[null,null,null,null,null,null,null,null,null,"900 # (4)",null,null,null,null,null,null,null,"1500 # (5)"]
[null,null,null,null,null,null,null,null,null,"WCB (0)",null,null,null,"CF8M (1)",null,null,null,"WCB (0)",null,null,null,"CF8M (1)"]
[]
[null,null,null,null,"3 (-03)",null,null,"1.5",null,{"$f":"'SAP VC'!#REF!","v":{"$error":"#REF!"}},null,null,null,{"$f":"'SAP VC'!#REF!","v":{"$error":"#REF!"}},null,null,null,{"$f":"'SAP VC'!#REF!","v":{"$error":"#REF!"}},null,null,null,{"$f":"'SAP VC'!#REF!","v":{"$error":"#REF!"}},null,null,null,{"$f":"'SAP VC'!#REF!","v":{"$error":"#REF!"}},null,{"$f":"'SAP VC'!#REF!","v":{"$error":"#REF!"}},null,{"$f":"'SAP VC'!#REF!","v":{"$error":"#REF!"}},null,{"$f":"'SAP VC'!#REF!","v":{"$error":"#REF!"}},null,{"$f":"'SAP VC'!#REF!","v":{"$error":"#REF!"}},null,{"$f":"'SAP VC'!#REF!","v":{"$error":"#REF!"}},null,{"$f":"'SAP VC'!#REF!","v":{"$error":"#REF!"}},null,450]
[null,null,null,null,"4 (-04)",null,null,2,null,{"$f":"'SAP VC'!#REF!","v":{"$error":"#REF!"}},null,null,null,{"$f":"'SAP VC'!#REF!","v":{"$error":"#REF!"}},null,null,null,{"$f":"'SAP VC'!#REF!","v":{"$error":"#REF!"}},null,null,null,{"$f":"'SAP VC'!#REF!","v":{"$error":"#REF!"}},null,null,null,{"$f":"'SAP VC'!#REF!","v":{"$error":"#REF!"}},null,{"$f":"'SAP VC'!#REF!","v":{"$error":"#REF!"}},null,{"$f":"'SAP VC'!#REF!","v":{"$error":"#REF!"}},null,{"$f":"'SAP VC'!#REF!","v":{"$error":"#REF!"}},null,{"$f":"'SAP VC'!#REF!","v":{"$error":"#REF!"}},null,{"$f":"'SAP VC'!#REF!","v":{"$error":"#REF!"}},null,{"$f":"'SAP VC'!#REF!","v":{"$error":"#REF!"}},null,450]
[null,null,null,null,"6 (-06)",null,null,"2.5",null,{"$f":"'SAP VC'!#REF!","v":{"$error":"#REF!"}},null,null,null,{"$f":"'SAP VC'!#REF!","v":{"$error":"#REF!"}},null,null,null,{"$f":"'SAP VC'!#REF!","v":{"$error":"#REF!"}},null,null,null,{"$f":"'SAP VC'!#REF!","v":{"$error":"#REF!"}},null,null,null,{"$f":"'SAP VC'!#REF!","v":{"$error":"#REF!"}},null,{"$f":"'SAP VC'!#REF!","v":{"$error":"#REF!"}},null,{"$f":"'SAP VC'!#REF!","v":{"$error":"#REF!"}},null,{"$f":"'SAP VC'!#REF!","v":{"$error":"#REF!"}},null,{"$f":"'SAP VC'!#REF!","v":{"$error":"#REF!"}},null,{"$f":"'SAP VC'!#REF!","v":{"$error":"#REF!"}},null,{"$f":"'SAP VC'!#REF!","v":{"$error":"#REF!"}},null,450]
[null,null,null,null,"8 (-08)",null,null,"3",null,{"$f":"'SAP VC'!#REF!","v":{"$error":"#REF!"}},null,null,null,{"$f":"'SAP VC'!#REF!","v":{"$error":"#REF!"}},null,null,null,{"$f":"'SAP VC'!#REF!","v":{"$error":"#REF!"}},null,null,null,{"$f":"'SAP VC'!#REF!","v":{"$error":"#REF!"}},null,null,null,{"$f":"'SAP VC'!#REF!","v":{"$error":"#REF!"}},null,{"$f":"'SAP VC'!#REF!","v":{"$error":"#REF!"}},null,{"$f":"'SAP VC'!#REF!","v":{"$error":"#REF!"}},null,{"$f":"'SAP VC'!#REF!","v":{"$error":"#REF!"}},null,{"$f":"'SAP VC'!#REF!","v":{"$error":"#REF!"}},null,{"$f":"'SAP VC'!#REF!","v":{"$error":"#REF!"}},null,{"$f":"'SAP VC'!#REF!","v":{"$error":"#REF!"}},null,890]
[]
[]
[]
[]
[]
[null,null,null,null,null,"*","Not fully NACE compliant - Pressure boundry and main flow trim only."]